BEGIN:VCALENDAR
VERSION:2.0
PRODID:-//Arts Alliance Davis - ECPv6.15.20//NONSGML v1.0//EN
CALSCALE:GREGORIAN
METHOD:PUBLISH
X-WR-CALNAME:Arts Alliance Davis
X-ORIGINAL-URL:https://artsalliancedavis.org
X-WR-CALDESC:Events for Arts Alliance Davis
REFRESH-INTERVAL;VALUE=DURATION:PT1H
X-Robots-Tag:noindex
X-PUBLISHED-TTL:PT1H
BEGIN:VTIMEZONE
TZID:UTC
BEGIN:STANDARD
TZOFFSETFROM:+0000
TZOFFSETTO:+0000
TZNAME:UTC
DTSTART:20180101T000000
END:STANDARD
END:VTIMEZONE
BEGIN:VEVENT
DTSTART;VALUE=DATE:20191004
DTEND;VALUE=DATE:20191101
DTSTAMP:20260423T074756
CREATED:20190929T114830Z
LAST-MODIFIED:20200111T212424Z
UID:1598-1570147200-1572566399@artsalliancedavis.org
SUMMARY:Italia Bella @ Gallery 625
DESCRIPTION:Gallery 625\, curated by YoloArts\, is committed to supporting the continual growth and development of the arts in Yolo County by providing space and opportunity for the exhibition of arts. The gallery provides a diverse selection of artistic mediums by emergent to established artists.\nBeginning in 2019\, Gallery 625 will be hosting exhibitions and receptions every other month. New exhibitions will open on the First Fridays of February\, April\, June\, August\, October\, and December.
URL:https://artsalliancedavis.org/event/italia-bella-gallery-625/
ATTACH;FMTTYPE=image/jpeg:https://artsalliancedavis.org/wp-content/uploads/2019/09/itallia-bella-gallery-625-event-image.jpg
END:VEVENT
END:VCALENDAR