BEGIN:VCALENDAR
VERSION:2.0
PRODID:-//Arts Alliance Davis - ECPv6.15.20//NONSGML v1.0//EN
CALSCALE:GREGORIAN
METHOD:PUBLISH
X-WR-CALNAME:Arts Alliance Davis
X-ORIGINAL-URL:https://artsalliancedavis.org
X-WR-CALDESC:Events for Arts Alliance Davis
REFRESH-INTERVAL;VALUE=DURATION:PT1H
X-Robots-Tag:noindex
X-PUBLISHED-TTL:PT1H
BEGIN:VTIMEZONE
TZID:America/Los_Angeles
BEGIN:DAYLIGHT
TZOFFSETFROM:-0800
TZOFFSETTO:-0700
TZNAME:PDT
DTSTART:20250309T100000
END:DAYLIGHT
BEGIN:STANDARD
TZOFFSETFROM:-0700
TZOFFSETTO:-0800
TZNAME:PST
DTSTART:20251102T090000
END:STANDARD
BEGIN:DAYLIGHT
TZOFFSETFROM:-0800
TZOFFSETTO:-0700
TZNAME:PDT
DTSTART:20260308T100000
END:DAYLIGHT
BEGIN:STANDARD
TZOFFSETFROM:-0700
TZOFFSETTO:-0800
TZNAME:PST
DTSTART:20261101T090000
END:STANDARD
BEGIN:DAYLIGHT
TZOFFSETFROM:-0800
TZOFFSETTO:-0700
TZNAME:PDT
DTSTART:20270314T100000
END:DAYLIGHT
BEGIN:STANDARD
TZOFFSETFROM:-0700
TZOFFSETTO:-0800
TZNAME:PST
DTSTART:20271107T090000
END:STANDARD
END:VTIMEZONE
BEGIN:VEVENT
DTSTART;VALUE=DATE:20260313
DTEND;VALUE=DATE:20260427
DTSTAMP:20260423T082641
CREATED:20260205T141132Z
LAST-MODIFIED:20260205T141132Z
UID:23594-1773360000-1777247999@artsalliancedavis.org
SUMMARY:Barbara Prodaniuk: Myths in Mud
DESCRIPTION:Barbara Prodaniuk: Myths in Mud\nExhibit: March 13 – April 26\, 2026\nReception: Friday\, March 13\, 6-9 PM (free) \nBarbara Prodaniuk is a ceramic artist whose work is inspired by the forest\, meadows\, and waterways surrounding the Truckee area. She explores the stories carried by the creatures and artifacts found in these environments through layered surfaces\, organic textures\, and sculpted imagery. Her recent series of work is part of an ongoing dialogue with the natural world and illustrates how closely we are woven into the tapestry of the land and creatures around us. \nThis exhibit is sponsored by Kim Ohlson & Allen Barnes. \nThe Pence Gallery is open 11:30 AM – 5 PM\, Tuesday through Sunday (closed Mondays). \nImage: Barbara Prodaniuk\, “Raven Vase”
URL:https://artsalliancedavis.org/event/barbara-prodaniuk-myths-in-mud/
LOCATION:Pence Gallery\, 212 D St\, Davis\, CA\, United States
CATEGORIES:Art
ATTACH;FMTTYPE=image/jpeg:https://artsalliancedavis.org/wp-content/uploads/2026/02/Barbara-Prodaniuk-Raven-Vase-NXFLrA.jpg
ORGANIZER;CN="Pence Gallery":MAILTO:pencesocialmedia@gmail.com
END:VEVENT
BEGIN:VEVENT
DTSTART;VALUE=DATE:20260401
DTEND;VALUE=DATE:20260501
DTSTAMP:20260423T082641
CREATED:20260309T230837Z
LAST-MODIFIED:20260309T230837Z
UID:24159-1775001600-1777593599@artsalliancedavis.org
SUMMARY:Seeing The Same Thing Differently
DESCRIPTION:A collaborative exhibition by husband and wife David Kalb and Nancy Gelbard\, exploring how two artists respond to the same moments using lens and brush. David’s street photographs capture spontaneous\, unguarded scenes from everyday life. Many of Nancy’s oil paintings are created directly from these photographs. In addition to their shared artistic experience\, each artist is also exhibiting individual pieces of their work.
URL:https://artsalliancedavis.org/event/seeing-the-same-thing-differently/
LOCATION:The Paint Chip\, 217 F Street\, Davis\, CA\, 95616\, United States
CATEGORIES:Art
ATTACH;FMTTYPE=image/jpeg:https://artsalliancedavis.org/wp-content/uploads/2026/03/IMG_4184-scaled-D7gNod.jpg
ORGANIZER;CN="David Kalb":MAILTO:davidkalb414@gmail.com
END:VEVENT
BEGIN:VEVENT
DTSTART;TZID=America/Los_Angeles:20260401T180000
DTEND;TZID=America/Los_Angeles:20260430T203000
DTSTAMP:20260423T082641
CREATED:20260322T133536Z
LAST-MODIFIED:20260322T133536Z
UID:24351-1775066400-1777581000@artsalliancedavis.org
SUMMARY:Seeing The Same Thing Differently
DESCRIPTION:Seeing The Same Thing Differently is a collaborative exhibition by husband and wife David Kalb and Nancy Gelbard. It explores how two artists respond to the same moments in distinct yet connected ways. In addition to their shared artistic experience\, each artist is also exhibiting individual pieces of their work. \nExhibition is up throughout April at The Paint Chip. Stop by and meet the artists during 2nd Friday ArtAbout\, April 10\, from 6-8:30. Free Event. \n 
URL:https://artsalliancedavis.org/event/seeing-the-same-thing-differently-2/
LOCATION:The Paint Chip\, 217 F Street\, Davis\, CA\, 95616\, United States
CATEGORIES:Art
ATTACH;FMTTYPE=image/jpeg:https://artsalliancedavis.org/wp-content/uploads/2026/03/Joint-Womans-march-for-ArtAbout-scaled-vVdB1s.jpg
ORGANIZER;CN="Stasia Tikkanen":MAILTO:stasiatikkanen@gmail.com
END:VEVENT
BEGIN:VEVENT
DTSTART;VALUE=DATE:20260403
DTEND;VALUE=DATE:20260428
DTSTAMP:20260423T082641
CREATED:20260319T123746Z
LAST-MODIFIED:20260319T123746Z
UID:24293-1775174400-1777334399@artsalliancedavis.org
SUMMARY:The Artery Menagerie
DESCRIPTION:“The Artery Menagerie” is a unique exhibit that celebrates the art of ceramics. Twenty Northern California artists explore the animal form as subject\, symbol and storyteller—whether real or imagined\, domestic or wild. The show is in conjunction with CCACA\, the annual ceramic sculpture conference\, at the John Natsoulas Gallery. We will be open until 9 on April 24 during this ceramic conference. We also will have a reception on April 10\, 6 to 9 as part of Davis ArtAbout.
URL:https://artsalliancedavis.org/event/the-artery-menagerie/
LOCATION:The Artery\, 207 G Street\, Davis\, ca\, 95616
CATEGORIES:Art
ATTACH;FMTTYPE=image/jpeg:https://artsalliancedavis.org/wp-content/uploads/2026/03/BrigitteChertokIcebound-Tenderness-scaled-9E2vit.jpg
END:VEVENT
BEGIN:VEVENT
DTSTART;VALUE=DATE:20260410
DTEND;VALUE=DATE:20260604
DTSTAMP:20260423T082641
CREATED:20260324T140715Z
LAST-MODIFIED:20260324T140715Z
UID:24418-1775779200-1780531199@artsalliancedavis.org
SUMMARY:The Abstract Language of Ceramics
DESCRIPTION:The Abstract Language of Ceramics\nExhibit: April 10 – June 3\, 2026\nReception: April 10\, 6-9 PM (Free) \nThe Abstract Language of Ceramics features the work of ceramic artists Karyn Gabriel\, Mark Goudy\, Kris Marubayashi\, Liza Riddle\, and Laura Van Duren. Together\, these artists create striking geometric and biomorphic forms that underline their pursuit of simple forms inspired by nature. Karyn Gabriel’s woven vessels and hangings merge the idea of fiber and weaving with the flexible nature of clay. Goudy’s current sculptures are modeled on mathematical equations\, which he adapts on the computer\, using new technology to design and create molded forms. Kris Marubayashi’s vessels have a sense of movement and balance\, and employ natural textures and an earth-toned palette. Liza Riddle’s modified cubes\, hanging plinths\, and circles use color sparingly to emphasize the beauty of cracks that form while drying. Laura Van Duren shows a playful incorporation of found objects\, textiles\, and clay\, closely resembling the corporal reality of human interaction. \nThis exhibit is sponsored by Hollie Malamud & Chris Kelsch\, and Helen McClosky\, in memory of ceramicist Shelly Simon. \nImage:\nLaura Van Duren\, “Curl”\nKris Marubayashi\, Untitled\nKaryn Gabriel\, “Aspen Brick”\nMark Goudy\, “Flux Series”\nLiza Riddle\, Untitled
URL:https://artsalliancedavis.org/event/the-abstract-language-of-ceramics/
LOCATION:Pence Gallery\, 212 D St\, Davis\, CA\, United States
CATEGORIES:Art
ATTACH;FMTTYPE=image/png:https://artsalliancedavis.org/wp-content/uploads/2026/03/Abstract-Language-of-Ceramics-wc7pZz.png
ORGANIZER;CN="Pence Gallery":MAILTO:pencesocialmedia@gmail.com
END:VEVENT
BEGIN:VEVENT
DTSTART;TZID=America/Los_Angeles:20260422T070000
DTEND;TZID=America/Los_Angeles:20260422T190000
DTSTAMP:20260423T082641
CREATED:20260414T203511Z
LAST-MODIFIED:20260414T203511Z
UID:24761-1776841200-1776884400@artsalliancedavis.org
SUMMARY:Pizza Night
DESCRIPTION:It’s pizza night at Upper Crust Bakery!\n\n\n\n\n\nHow Pizza Night Works\n\n\nPizza Night is Wednesdays at our Davis location only. We’ll start in Winters soon.\nWe generally do not take walk-ins—please pre-order your pizza!\nPlace your order early! We often sell out.\nWe make a limited number of pizzas each half-hour. If your 1st choice of pick-up time is sold out\, try an alternate time slot.\nOrders close at noon Wednesday or when we sell out\, whatever comes first.\nYou can get desserts\, baked goods\, beverages\, beer & wine when you pick up your pizza.\nHaving trouble ordering? Call (530) 750-1180.\n\n\n\n\n\n\nAbout Pizza Night\n\n\nEach Wednesday we turn our 10-ton hearthstone deck oven up to 11 and turn out some amazing artisan pizzas. It’s a somewhat exclusive affair since our capacity is limited—and we regularly sell out. We’re a bakery after all—not a pizzeria. There’s no assembly line or tunnel baking. Each pizza is created by hand and served with a healthy dose of love. No delivery\, sorry. \nOur pizzas are crafted in the same farm-to-oven tradition as our baked goods. We use California-grown and -milled premium flour\, 15% organic whole grains\, and a long-fermentation\, 100% naturally leavened formula—resulting in a really tasty and bubbly crust. And we use only the best ingredients and toppings\, with produce we like to source at the Davis Farmers Market. \nThere’s only one size—about 14 inches in diameter—and six slices. They generally serve one to three humans\, depending on appetite. We also offer big\, sharable garden salads\, local beer & wine\, soft drinks\, and amazing desserts.
URL:https://artsalliancedavis.org/event/pizza-night-2/
LOCATION:Upper Crust Baking Co. (Upper Crust)\, 634 G St.
ATTACH;FMTTYPE=image/jpeg:https://artsalliancedavis.org/wp-content/uploads/2026/04/Printemps_Pizza_1772567045795-CBXG9wq7-scaled-ao2DLW.jpg
END:VEVENT
BEGIN:VEVENT
DTSTART;TZID=America/Los_Angeles:20260422T100000
DTEND;TZID=America/Los_Angeles:20260422T113000
DTSTAMP:20260423T082641
CREATED:20260217T175805Z
LAST-MODIFIED:20260217T175805Z
UID:23799-1776852000-1776857400@artsalliancedavis.org
SUMMARY:UpENDing Parkinson’s at Rocknasium
DESCRIPTION:UpENDing Parkinson’s at Rocknasium \nWednesdays\, 10-11:30 AM \nRocknasium is hosting UpENDing Parkinson’s\, a non-profit that provides guided rock climbing to those living with Parkinson’s. Entrance is free\, and rental gear is $10. Those interested may register as a climber here.
URL:https://artsalliancedavis.org/event/upending-parkinsons-at-rocknasium-10/
LOCATION:Rocknasium the Climbing Gym\, 720 Olive Drive\, Suite S\, Davis\, 95616\, United States
CATEGORIES:Community,Fitness
ATTACH;FMTTYPE=image/jpeg:https://artsalliancedavis.org/wp-content/uploads/2026/02/UpEndPark-6-scaled-fifeZn.jpg
END:VEVENT
BEGIN:VEVENT
DTSTART;TZID=America/Los_Angeles:20260422T120000
DTEND;TZID=America/Los_Angeles:20260422T160000
DTSTAMP:20260423T082641
CREATED:20260123T231943Z
LAST-MODIFIED:20260123T231943Z
UID:23393-1776859200-1776873600@artsalliancedavis.org
SUMMARY:Village Homes: A Radical Plan
DESCRIPTION:“Village Homes: A Radical Plan” celebrates the 50th anniversary of an innovative west Davis neighborhood community. Curated by Professor Timothy McNeil and guest curator Adrienne McGraw\, the installation showcases the vision\, concepts\, and development behind the project and its goals. This ground-breaking exhibition will feature original objects\, archival photographs\, plans and drawings\, a part-built section of a typical 1970s house in Village Homes recreating a living space and demonstrating the passive solar features\, and an interactive three-dimensional site plan of the neighborhood’s unique landscape. Other highlights include a 30-minute documentary film about the community.
URL:https://artsalliancedavis.org/event/village-homes-a-radical-plan-66/
LOCATION:UC Davis Design Museum\, Cruess Hall\, #124\, Davis\, 95616\, United States
CATEGORIES:Community
ATTACH;FMTTYPE=image/jpeg:https://artsalliancedavis.org/wp-content/uploads/2025/12/Aerial-view-of-Village-Homes-late-1970s-phot-from-Judy-Corbett-Archive-scaled-komRbD.jpg
END:VEVENT
BEGIN:VEVENT
DTSTART;TZID=America/Los_Angeles:20260422T130000
DTEND;TZID=America/Los_Angeles:20260422T153000
DTSTAMP:20260423T082641
CREATED:20260123T231945Z
LAST-MODIFIED:20260123T231945Z
UID:23394-1776862800-1776871800@artsalliancedavis.org
SUMMARY:Davis Genealogy Club Library Hours
DESCRIPTION:Library Hours: Wednesdays\, 1 – 3:30 p.m. (excluding holidays) \nThis group assists and maintains the Senior Center’s extensive Genealogy Library\, and in addition\, hosts monthly lectures and meetings. During library hours\, members are available to assist you with accessing research materials. Computer access is also available in the library for research purposes.
URL:https://artsalliancedavis.org/event/davis-genealogy-club-library-hours-107/
LOCATION:Davis Senior Center\, 646 A St\, Davis\, CA\, 95616\, United States
ATTACH;FMTTYPE=image/jpeg:https://artsalliancedavis.org/wp-content/uploads/2018/10/orange-white-aad-logo.jpg
END:VEVENT
BEGIN:VEVENT
DTSTART;TZID=America/Los_Angeles:20260422T130000
DTEND;TZID=America/Los_Angeles:20260422T170000
DTSTAMP:20260423T082641
CREATED:20260123T231945Z
LAST-MODIFIED:20260123T231945Z
UID:23395-1776862800-1776877200@artsalliancedavis.org
SUMMARY:The Bike Garage Open Hours: Davis Location
DESCRIPTION:Davis location: 1500 Cannery Avenue\n\n\n\n\n\n\nFREE Bike Repair \n\n\nCome to the Bike Garage\, where our volunteer mechanics will repair your bike. We accept cash\, Venmo\, and Paypal donations. \nInterested in becoming a volunteer bike mechanic? No experience is necessary. \n\n\nCONTACT US TO VOLUNTEER \n\n\nQuality Used Bikes for SaleLowest prices on the best used bikes.Our inventory changes every day!   \n\n\nHybrid bikes\, town bikes\, vintage bikes\, road bikes\, mountain bikes\, kids’ bikes\, and more. Visit the Bike Garage in Davis or Woodland to check out our inventory. \n 
URL:https://artsalliancedavis.org/event/the-bike-garage-open-hours-davis-location-247/
LOCATION:Bike Garage Davis\, 1500 Cannery Avenue
ATTACH;FMTTYPE=image/jpeg:https://artsalliancedavis.org/wp-content/uploads/2024/07/unnamed-5wEAlc.tmp_.jpg
ORGANIZER;CN="The Bike Campaign":MAILTO:funmaria@sbcglobal.net
END:VEVENT
BEGIN:VEVENT
DTSTART;TZID=America/Los_Angeles:20260422T130000
DTEND;TZID=America/Los_Angeles:20260422T170000
DTSTAMP:20260423T082641
CREATED:20260324T141106Z
LAST-MODIFIED:20260324T141106Z
UID:24434-1776862800-1776877200@artsalliancedavis.org
SUMMARY:The Bike Garage Open Hours: Davis Location
DESCRIPTION:Davis location: 606 Peña Drive #300\n\n\n\n\n\n\nFREE Bike Repair \n\n\nCome to the Bike Garage\, where our volunteer mechanics will repair your bike. We accept cash\, Venmo\, and Paypal donations. \nInterested in becoming a volunteer bike mechanic? No experience is necessary. \n\n\nCONTACT US TO VOLUNTEER \n\n\nQuality Used Bikes for SaleLowest prices on the best used bikes.Our inventory changes every day!   \n\n\nHybrid bikes\, town bikes\, vintage bikes\, road bikes\, mountain bikes\, kids’ bikes\, and more. Visit the Bike Garage in Davis or Woodland to check out our inventory. \n 
URL:https://artsalliancedavis.org/event/the-bike-garage-open-hours-davis-location-267/
LOCATION:Bike Garage Davis\, 606 Peña Drive #300
ATTACH;FMTTYPE=image/jpeg:https://artsalliancedavis.org/wp-content/uploads/2024/07/unnamed-5wEAlc.tmp_.jpg
END:VEVENT
BEGIN:VEVENT
DTSTART;TZID=America/Los_Angeles:20260422T150000
DTEND;TZID=America/Los_Angeles:20260422T170000
DTSTAMP:20260423T082641
CREATED:20260123T232001Z
LAST-MODIFIED:20260123T232001Z
UID:23396-1776870000-1776877200@artsalliancedavis.org
SUMMARY:Davis Experienced Jazz Jam
DESCRIPTION:This jam is for musicians who are proficient on their instrument and have experience playing in jazz jams\, ensembles\, etc. The Experienced Jazz Jam meets every fourth Wednesday of the month at the Davis Senior Center.
URL:https://artsalliancedavis.org/event/davis-experienced-jazz-jam-13/
LOCATION:Davis Senior Center\, 646 A St\, Davis\, CA\, 95616\, United States
CATEGORIES:Music
ATTACH;FMTTYPE=image/jpeg:https://artsalliancedavis.org/wp-content/uploads/2018/10/orange-white-aad-logo.jpg
END:VEVENT
BEGIN:VEVENT
DTSTART;TZID=America/Los_Angeles:20260422T150000
DTEND;TZID=America/Los_Angeles:20260422T170000
DTSTAMP:20260423T082641
CREATED:20260226T203047Z
LAST-MODIFIED:20260226T203047Z
UID:24029-1776870000-1776877200@artsalliancedavis.org
SUMMARY:Davis Experienced Jazz Jam
DESCRIPTION:A jazz jam for musicians who are proficient on their instrument and have experience in jazz jamming\, ensembles\, etc. We’ll play Django/gypsy\, American Songbook\, Bossa Nova\, bebop\, etc. For more information\, check out: https://www.youtube.com/watch?v=J41fpctpCeY
URL:https://artsalliancedavis.org/event/davis-experienced-jazz-jam-15/
LOCATION:Davis Senior Center\, 646 A St\, Davis\, CA\, 95616\, United States
CATEGORIES:Music
ATTACH;FMTTYPE=image/jpeg:https://artsalliancedavis.org/wp-content/uploads/2026/02/Django-jam-in-SD-scaled-dmGX47.jpg
END:VEVENT
BEGIN:VEVENT
DTSTART;TZID=America/Los_Angeles:20260422T150000
DTEND;TZID=America/Los_Angeles:20260422T180000
DTSTAMP:20260423T082641
CREATED:20260123T232002Z
LAST-MODIFIED:20260123T232002Z
UID:23397-1776870000-1776880800@artsalliancedavis.org
SUMMARY:Davis Farmers Market
DESCRIPTION:Year-round at Central Park in downtown Davis\, thousands gather each week to shop for what is grown\, raised\, and made locally at our markets. We are dedicated to bringing farmers right to your table\, so we stay open rain or shine. \nWalk rows of stalls lined with an array of fruits and vegetables\, including certified organic produce\, choice meats\, chicken\, seafood\, wine\, local eggs and honey. Choose from a variety of fresh-baked goods\, plants\, flowers and gifts. Enjoy a picnic from one of our many food stands\, made from market ingredients. \nSee the vendor list here: https://www.davisfarmersmarket.org/our-sellers/ \nFarmers Market Hours  \nCentral Park: Saturdays 8a–1p (year-round)\, and Wednesdays 3p–6p (October through April); 4p–8p (May through September)\nUC Davis – North Quad: Wednesdays 10a–1:30p (fall and spring quarters)\nSutter Davis Hospital: Thursdays 10a–1p (May through September)\nSutter Medical Center\, Sacramento: Thursdays 2:30p–5:30p \n 
URL:https://artsalliancedavis.org/event/davis-farmers-market-348/
LOCATION:Central Park\, 101 C St\, Davis\, CA\, United States
CATEGORIES:Bring the Kids,Food & Drink,Shopping
ATTACH;FMTTYPE=image/png:https://artsalliancedavis.org/wp-content/uploads/2022/10/davis-farmers-market-logo-KERN-ADJUST2-01-1-e1649900473633-4mwvRA.tmp_.png
ORGANIZER;CN="Davis Farmers Market":MAILTO:dfmpr@dcn.org
END:VEVENT
BEGIN:VEVENT
DTSTART;TZID=America/Los_Angeles:20260422T160000
DTEND;TZID=America/Los_Angeles:20260422T200000
DTSTAMP:20260423T082641
CREATED:20260324T141109Z
LAST-MODIFIED:20260324T141109Z
UID:24435-1776873600-1776888000@artsalliancedavis.org
SUMMARY:Davis Farmers Market
DESCRIPTION:Year-round at Central Park in downtown Davis\, thousands gather each week to shop for what is grown\, raised\, and made locally at our markets. We are dedicated to bringing farmers right to your table\, so we stay open rain or shine. \nWalk rows of stalls lined with an array of fruits and vegetables\, including certified organic produce\, choice meats\, chicken\, seafood\, wine\, local eggs and honey. Choose from a variety of fresh-baked goods\, plants\, flowers and gifts. Enjoy a picnic from one of our many food stands\, made from market ingredients. \nSee the vendor list here: https://www.davisfarmersmarket.org/our-sellers/ \nFarmers Market Hours  \nCentral Park: Saturdays 8a–1p (year-round)\, and Wednesdays 3p–6p (September through March); 4p–8p (April through August)\nUC Davis – North Quad: Wednesdays 10a–1:30p (fall and spring quarters)\nSutter Davis Hospital: Thursdays 10a–1p (May through September)\nSutter Medical Center\, Sacramento: Thursdays 2:30p–5:30p \n 
URL:https://artsalliancedavis.org/event/davis-farmers-market-362/
LOCATION:Central Park\, 101 C St\, Davis\, CA\, United States
CATEGORIES:Bring the Kids,Food & Drink,Shopping
ATTACH;FMTTYPE=image/png:https://artsalliancedavis.org/wp-content/uploads/2022/10/davis-farmers-market-logo-KERN-ADJUST2-01-1-e1649900473633-4mwvRA.tmp_.png
ORGANIZER;CN="Davis Farmers Market":MAILTO:dfmpr@dcn.org
END:VEVENT
BEGIN:VEVENT
DTSTART;TZID=America/Los_Angeles:20260422T180000
DTEND;TZID=America/Los_Angeles:20260422T193000
DTSTAMP:20260423T082641
CREATED:20260123T232004Z
LAST-MODIFIED:20260123T232004Z
UID:23398-1776880800-1776886200@artsalliancedavis.org
SUMMARY:Mantra Meditation
DESCRIPTION:Let your worries melt away. Mantras are ancient healing sounds that takes the mind off of the stress of modern day life\, and gives us real rest. \n  \nWe will practice 3 simple techniques that you can continue to practice at home on your own. This includes deep breathing\, a technique using beads (Japa meditation)\, and music (Kirtan). \n  \nWe will be in the Fireside Room (C Street entrance). Free/ Donations accepted. \n 
URL:https://artsalliancedavis.org/event/mantra-meditation-96/
LOCATION:Davis Community Church (DCC)\, 412 C Street\, Davis\, CA\, 95616\, United States
ATTACH;FMTTYPE=image/webp:https://artsalliancedavis.org/wp-content/uploads/2024/06/4c1e67_b52b51d2c74246ee99581c470bbd84cemv2-VUdb0h.tmp_.webp
END:VEVENT
BEGIN:VEVENT
DTSTART;TZID=America/Los_Angeles:20260422T183000
DTEND;TZID=America/Los_Angeles:20260422T210000
DTSTAMP:20260423T082641
CREATED:20260304T215736Z
LAST-MODIFIED:20260304T215736Z
UID:24098-1776882600-1776891600@artsalliancedavis.org
SUMMARY:Figure Drawing at the Pence
DESCRIPTION:Figure Drawing Session\nWednesday\, April 22\, 6:30-9 PM\n$15 Members\, $22 Non-Members | Limited to 10 participants\nRegistration & payment is required in advance through the Pence’s website. \nWe hold self-guided figure drawing sessions with a nude model every 2nd & 4th Wednesday of the month\, from 6:30-9 PM. This group is for both experienced artists and amateurs to have an opportunity to draw from the nude model. If you have never drawn from a live model before and would like to join us\, you are very welcome! People of all skill levels\, ages 18 and up\, are welcome and encouraged to join. \nThis is not a class\, and no instruction is provided. The atmosphere is relaxed and non-competitive. Bring your own art materials\, and we’ll provide a comfortable place to sketch or paint live models in our upstairs classroom space. Participants will work independently through a warm up with shorter poses and longer\, twenty-minute poses. A staff member will be on-site to facilitate the group and to answer questions. \nRegister here: https://pencegallery.org/education/programs/figure-drawing/ \nJoin the Meetup group: https://www.meetup.com/davisfigure/ \nImage: drawing by Deziree Seidner
URL:https://artsalliancedavis.org/event/figure-drawing-at-the-pence-25/
LOCATION:Pence Gallery\, 212 D St\, Davis\, CA\, United States
CATEGORIES:Art
ATTACH;FMTTYPE=image/jpeg:https://artsalliancedavis.org/wp-content/uploads/2026/03/Tim-1_DD-1-scaled-vIZVMN.jpg
ORGANIZER;CN="Pence Gallery":MAILTO:pencesocialmedia@gmail.com
END:VEVENT
BEGIN:VEVENT
DTSTART;TZID=America/Los_Angeles:20260422T190000
DTEND;TZID=America/Los_Angeles:20260422T200000
DTSTAMP:20260423T082641
CREATED:20260403T170657Z
LAST-MODIFIED:20260403T170657Z
UID:24580-1776884400-1776888000@artsalliancedavis.org
SUMMARY:Open Jam Session
DESCRIPTION:Come join our weekly Jam Session at Watermelon Music\, hosted by Friends of Watermelon Music. We play a wide array of music\, including classic rock\, contemporary rock\, indie rock\, pop\, folk\, blues\, and much more! All instrumentation and shill levels welcomed! \nThere is a drum set\, keyboard\, and vocal mic/amp available at the store to play on. Please bring your own amp if you need one. \nWhile technically all ages\, we recommend 18 and over. Attendance is FREE with a suggested donation of $5 to Friends of Watermelon Music.
URL:https://artsalliancedavis.org/event/open-jam-session-3/
LOCATION:Watermelon Music\, 1970 Lake Blvd.\, Suite 1
CATEGORIES:Community,Music
ATTACH;FMTTYPE=image/png:https://artsalliancedavis.org/wp-content/uploads/2026/04/FOWMM-EjJFPp.png
END:VEVENT
BEGIN:VEVENT
DTSTART;TZID=America/Los_Angeles:20260422T190000
DTEND;TZID=America/Los_Angeles:20260422T210000
DTSTAMP:20260423T082641
CREATED:20260123T232005Z
LAST-MODIFIED:20260123T232005Z
UID:23399-1776884400-1776891600@artsalliancedavis.org
SUMMARY:Pub Quiz (Trivia) hosted by Dr. Andy
DESCRIPTION:Sudwerk Trivia is a free\, first come-first serve\, all-ages event. \nJoin us for a fun-filled evening of brain-teasing questions and friendly competition at Sudwerk’s Pub Quiz every Wednesday from 7-9pm! Put your knowledge to the test and gather your friends for a night of laughter and excitement. \nLocation: 2001 2nd Street\, Davis\, CA 95618 \nYou do not have to be 21+ to participate in trivia. There is no drink minimum. \n 
URL:https://artsalliancedavis.org/event/pub-quiz-trivia-hosted-by-dr-andy-88/
LOCATION:Sudwerk Brewing Co.\, 2001 2nd St\, Davis\, CA\, 95618\, United States
CATEGORIES:Featured
ATTACH;FMTTYPE=image/png:https://artsalliancedavis.org/wp-content/uploads/2024/08/Screen-Shot-2024-08-22-at-11.50.58-PM-thSPQq.tmp_.png
END:VEVENT
END:VCALENDAR