BEGIN:VCALENDAR
VERSION:2.0
PRODID:-//Arts Alliance Davis - ECPv6.15.20//NONSGML v1.0//EN
CALSCALE:GREGORIAN
METHOD:PUBLISH
X-WR-CALNAME:Arts Alliance Davis
X-ORIGINAL-URL:https://artsalliancedavis.org
X-WR-CALDESC:Events for Arts Alliance Davis
REFRESH-INTERVAL;VALUE=DURATION:PT1H
X-Robots-Tag:noindex
X-PUBLISHED-TTL:PT1H
BEGIN:VTIMEZONE
TZID:America/Los_Angeles
BEGIN:DAYLIGHT
TZOFFSETFROM:-0800
TZOFFSETTO:-0700
TZNAME:PDT
DTSTART:20250309T100000
END:DAYLIGHT
BEGIN:STANDARD
TZOFFSETFROM:-0700
TZOFFSETTO:-0800
TZNAME:PST
DTSTART:20251102T090000
END:STANDARD
BEGIN:DAYLIGHT
TZOFFSETFROM:-0800
TZOFFSETTO:-0700
TZNAME:PDT
DTSTART:20260308T100000
END:DAYLIGHT
BEGIN:STANDARD
TZOFFSETFROM:-0700
TZOFFSETTO:-0800
TZNAME:PST
DTSTART:20261101T090000
END:STANDARD
BEGIN:DAYLIGHT
TZOFFSETFROM:-0800
TZOFFSETTO:-0700
TZNAME:PDT
DTSTART:20270314T100000
END:DAYLIGHT
BEGIN:STANDARD
TZOFFSETFROM:-0700
TZOFFSETTO:-0800
TZNAME:PST
DTSTART:20271107T090000
END:STANDARD
END:VTIMEZONE
BEGIN:VEVENT
DTSTART;VALUE=DATE:20260313
DTEND;VALUE=DATE:20260427
DTSTAMP:20260423T083340
CREATED:20260205T141132Z
LAST-MODIFIED:20260205T141132Z
UID:23594-1773360000-1777247999@artsalliancedavis.org
SUMMARY:Barbara Prodaniuk: Myths in Mud
DESCRIPTION:Barbara Prodaniuk: Myths in Mud\nExhibit: March 13 – April 26\, 2026\nReception: Friday\, March 13\, 6-9 PM (free) \nBarbara Prodaniuk is a ceramic artist whose work is inspired by the forest\, meadows\, and waterways surrounding the Truckee area. She explores the stories carried by the creatures and artifacts found in these environments through layered surfaces\, organic textures\, and sculpted imagery. Her recent series of work is part of an ongoing dialogue with the natural world and illustrates how closely we are woven into the tapestry of the land and creatures around us. \nThis exhibit is sponsored by Kim Ohlson & Allen Barnes. \nThe Pence Gallery is open 11:30 AM – 5 PM\, Tuesday through Sunday (closed Mondays). \nImage: Barbara Prodaniuk\, “Raven Vase”
URL:https://artsalliancedavis.org/event/barbara-prodaniuk-myths-in-mud/
LOCATION:Pence Gallery\, 212 D St\, Davis\, CA\, United States
CATEGORIES:Art
ATTACH;FMTTYPE=image/jpeg:https://artsalliancedavis.org/wp-content/uploads/2026/02/Barbara-Prodaniuk-Raven-Vase-NXFLrA.jpg
ORGANIZER;CN="Pence Gallery":MAILTO:pencesocialmedia@gmail.com
END:VEVENT
BEGIN:VEVENT
DTSTART;VALUE=DATE:20260401
DTEND;VALUE=DATE:20260501
DTSTAMP:20260423T083340
CREATED:20260309T230837Z
LAST-MODIFIED:20260309T230837Z
UID:24159-1775001600-1777593599@artsalliancedavis.org
SUMMARY:Seeing The Same Thing Differently
DESCRIPTION:A collaborative exhibition by husband and wife David Kalb and Nancy Gelbard\, exploring how two artists respond to the same moments using lens and brush. David’s street photographs capture spontaneous\, unguarded scenes from everyday life. Many of Nancy’s oil paintings are created directly from these photographs. In addition to their shared artistic experience\, each artist is also exhibiting individual pieces of their work.
URL:https://artsalliancedavis.org/event/seeing-the-same-thing-differently/
LOCATION:The Paint Chip\, 217 F Street\, Davis\, CA\, 95616\, United States
CATEGORIES:Art
ATTACH;FMTTYPE=image/jpeg:https://artsalliancedavis.org/wp-content/uploads/2026/03/IMG_4184-scaled-D7gNod.jpg
ORGANIZER;CN="David Kalb":MAILTO:davidkalb414@gmail.com
END:VEVENT
BEGIN:VEVENT
DTSTART;TZID=America/Los_Angeles:20260401T180000
DTEND;TZID=America/Los_Angeles:20260430T203000
DTSTAMP:20260423T083340
CREATED:20260322T133536Z
LAST-MODIFIED:20260322T133536Z
UID:24351-1775066400-1777581000@artsalliancedavis.org
SUMMARY:Seeing The Same Thing Differently
DESCRIPTION:Seeing The Same Thing Differently is a collaborative exhibition by husband and wife David Kalb and Nancy Gelbard. It explores how two artists respond to the same moments in distinct yet connected ways. In addition to their shared artistic experience\, each artist is also exhibiting individual pieces of their work. \nExhibition is up throughout April at The Paint Chip. Stop by and meet the artists during 2nd Friday ArtAbout\, April 10\, from 6-8:30. Free Event. \n 
URL:https://artsalliancedavis.org/event/seeing-the-same-thing-differently-2/
LOCATION:The Paint Chip\, 217 F Street\, Davis\, CA\, 95616\, United States
CATEGORIES:Art
ATTACH;FMTTYPE=image/jpeg:https://artsalliancedavis.org/wp-content/uploads/2026/03/Joint-Womans-march-for-ArtAbout-scaled-vVdB1s.jpg
ORGANIZER;CN="Stasia Tikkanen":MAILTO:stasiatikkanen@gmail.com
END:VEVENT
BEGIN:VEVENT
DTSTART;VALUE=DATE:20260403
DTEND;VALUE=DATE:20260428
DTSTAMP:20260423T083340
CREATED:20260319T123746Z
LAST-MODIFIED:20260319T123746Z
UID:24293-1775174400-1777334399@artsalliancedavis.org
SUMMARY:The Artery Menagerie
DESCRIPTION:“The Artery Menagerie” is a unique exhibit that celebrates the art of ceramics. Twenty Northern California artists explore the animal form as subject\, symbol and storyteller—whether real or imagined\, domestic or wild. The show is in conjunction with CCACA\, the annual ceramic sculpture conference\, at the John Natsoulas Gallery. We will be open until 9 on April 24 during this ceramic conference. We also will have a reception on April 10\, 6 to 9 as part of Davis ArtAbout.
URL:https://artsalliancedavis.org/event/the-artery-menagerie/
LOCATION:The Artery\, 207 G Street\, Davis\, ca\, 95616
CATEGORIES:Art
ATTACH;FMTTYPE=image/jpeg:https://artsalliancedavis.org/wp-content/uploads/2026/03/BrigitteChertokIcebound-Tenderness-scaled-9E2vit.jpg
END:VEVENT
BEGIN:VEVENT
DTSTART;VALUE=DATE:20260410
DTEND;VALUE=DATE:20260604
DTSTAMP:20260423T083340
CREATED:20260324T140715Z
LAST-MODIFIED:20260324T140715Z
UID:24418-1775779200-1780531199@artsalliancedavis.org
SUMMARY:The Abstract Language of Ceramics
DESCRIPTION:The Abstract Language of Ceramics\nExhibit: April 10 – June 3\, 2026\nReception: April 10\, 6-9 PM (Free) \nThe Abstract Language of Ceramics features the work of ceramic artists Karyn Gabriel\, Mark Goudy\, Kris Marubayashi\, Liza Riddle\, and Laura Van Duren. Together\, these artists create striking geometric and biomorphic forms that underline their pursuit of simple forms inspired by nature. Karyn Gabriel’s woven vessels and hangings merge the idea of fiber and weaving with the flexible nature of clay. Goudy’s current sculptures are modeled on mathematical equations\, which he adapts on the computer\, using new technology to design and create molded forms. Kris Marubayashi’s vessels have a sense of movement and balance\, and employ natural textures and an earth-toned palette. Liza Riddle’s modified cubes\, hanging plinths\, and circles use color sparingly to emphasize the beauty of cracks that form while drying. Laura Van Duren shows a playful incorporation of found objects\, textiles\, and clay\, closely resembling the corporal reality of human interaction. \nThis exhibit is sponsored by Hollie Malamud & Chris Kelsch\, and Helen McClosky\, in memory of ceramicist Shelly Simon. \nImage:\nLaura Van Duren\, “Curl”\nKris Marubayashi\, Untitled\nKaryn Gabriel\, “Aspen Brick”\nMark Goudy\, “Flux Series”\nLiza Riddle\, Untitled
URL:https://artsalliancedavis.org/event/the-abstract-language-of-ceramics/
LOCATION:Pence Gallery\, 212 D St\, Davis\, CA\, United States
CATEGORIES:Art
ATTACH;FMTTYPE=image/png:https://artsalliancedavis.org/wp-content/uploads/2026/03/Abstract-Language-of-Ceramics-wc7pZz.png
ORGANIZER;CN="Pence Gallery":MAILTO:pencesocialmedia@gmail.com
END:VEVENT
BEGIN:VEVENT
DTSTART;TZID=America/Los_Angeles:20260423T090000
DTEND;TZID=America/Los_Angeles:20260423T150000
DTSTAMP:20260423T083340
CREATED:20260323T135420Z
LAST-MODIFIED:20260323T135420Z
UID:24381-1776934800-1776956400@artsalliancedavis.org
SUMMARY:Visit to the Western Railway Museum
DESCRIPTION:UC DAVIS OLLI presents A Visit to the Western Railway Museum \nThursday\, April 23 from 9 a.m. to 3 p.m. \n  \nALL ABOARD!!  UC Davis OLLI invites you to Ride the Rails on the Wildflower Train Ride at the Western Railway Museum.  Please join your fellow passengers as we travel by vintage electric railway through the spring green hills of Solano County.  Along the way\, knowledgeable docents will share insights into the landscape and the history of the rails as well as tours of the museum’s remarkable collections.  This all-inclusive trip includes bus transportation leaving from and returning to 202 Cousteau\, Davis\, traveling to the Museum. a boxed lunch for your enjoyment\, and admission to the museum and train excursion.  Pls visit us on-line at cpe.ucdavis.edu/olli or phone us at (530) 757-8777 to register for this memorable event. \nhttps://cpe.ucdavis.edu/section/clang-clang-clang-went-trolley-visit-western-railway-museum-254snr902 \n  \n 
URL:https://artsalliancedavis.org/event/visit-to-the-western-railway-museum/
ATTACH;FMTTYPE=image/jpeg:https://artsalliancedavis.org/wp-content/uploads/2024/04/new-OLLI-LOGO-white-on-blue-small-lI9JLW.tmp_.jpg
END:VEVENT
BEGIN:VEVENT
DTSTART;TZID=America/Los_Angeles:20260423T093000
DTEND;TZID=America/Los_Angeles:20260423T113000
DTSTAMP:20260423T083340
CREATED:20260123T232006Z
LAST-MODIFIED:20260123T232006Z
UID:23400-1776936600-1776943800@artsalliancedavis.org
SUMMARY:Davis Makerspace & Clothing Repair Cafe
DESCRIPTION:Davis Makerspace is a community workspace for makers and builders\, designers and inventors. A small assortment of tools will be available for use and staff or volunteers will be on hand to provide some assistance. Supervised children are welcome. Participants must provide a signed liability waiver (available on site). Mondays & Tuesdays\, 6p—8p; Thursdays\, 9:30a—11:30a; Fridays\, 3p—5p.
URL:https://artsalliancedavis.org/event/davis-makerspace-clothing-repair-cafe-267/
LOCATION:Mary L. Stephens Davis Branch Library\, 315 East 14th Street
ATTACH;FMTTYPE=image/jpeg:https://artsalliancedavis.org/wp-content/uploads/2018/10/orange-white-aad-logo.jpg
END:VEVENT
BEGIN:VEVENT
DTSTART;TZID=America/Los_Angeles:20260423T120000
DTEND;TZID=America/Los_Angeles:20260423T160000
DTSTAMP:20260423T083340
CREATED:20260123T232007Z
LAST-MODIFIED:20260123T232007Z
UID:23401-1776945600-1776960000@artsalliancedavis.org
SUMMARY:Village Homes: A Radical Plan
DESCRIPTION:“Village Homes: A Radical Plan” celebrates the 50th anniversary of an innovative west Davis neighborhood community. Curated by Professor Timothy McNeil and guest curator Adrienne McGraw\, the installation showcases the vision\, concepts\, and development behind the project and its goals. This ground-breaking exhibition will feature original objects\, archival photographs\, plans and drawings\, a part-built section of a typical 1970s house in Village Homes recreating a living space and demonstrating the passive solar features\, and an interactive three-dimensional site plan of the neighborhood’s unique landscape. Other highlights include a 30-minute documentary film about the community.
URL:https://artsalliancedavis.org/event/village-homes-a-radical-plan-67/
LOCATION:UC Davis Design Museum\, Cruess Hall\, #124\, Davis\, 95616\, United States
CATEGORIES:Community
ATTACH;FMTTYPE=image/jpeg:https://artsalliancedavis.org/wp-content/uploads/2025/12/Aerial-view-of-Village-Homes-late-1970s-phot-from-Judy-Corbett-Archive-scaled-komRbD.jpg
END:VEVENT
BEGIN:VEVENT
DTSTART;TZID=America/Los_Angeles:20260423T120500
DTEND;TZID=America/Los_Angeles:20260423T130000
DTSTAMP:20260423T083340
CREATED:20260219T182927Z
LAST-MODIFIED:20260219T182927Z
UID:23864-1776945900-1776949200@artsalliancedavis.org
SUMMARY:Stick and Bow: Thursday Concert
DESCRIPTION:Stick and Bow \nProgram \nRadiohead: Paranoid Android \nJason Noble: Folk Suite\n* commissioned for Stick and Bow \nFransisco Mignone: Modhina \nLaurence Jobidon: Huit broderies sur des fragments de langue\n* commissioned for Stick and Bow \nSystem of a Down: Aerials \nPablo Ortiz: Dancing with the Wendigo\n* commissioned for Stick and Bow \nAstor Piazzolla: Buenos Aires Hora Cero \nAlejandro Vinao: El ritmo del Canto \nNina Simone: Feeling of Freedom and Love me or Leave me
URL:https://artsalliancedavis.org/event/stick-and-bow-thursday-concert/
LOCATION:Recital Hall\, Ann E. Pitzer Center\, Hutchison Dr. & Cushing Way\, Davis\, CA\, 95616\, United States
CATEGORIES:Music
ATTACH;FMTTYPE=image/png:https://artsalliancedavis.org/wp-content/uploads/2026/02/resolution_internet_cannie_ethier_1er_juillet_2019_151a5055-modifier-modifier-2-1.jpg-ea7WEr.png
END:VEVENT
BEGIN:VEVENT
DTSTART;TZID=America/Los_Angeles:20260423T120500
DTEND;TZID=America/Los_Angeles:20260423T130000
DTSTAMP:20260423T083340
CREATED:20260306T221438Z
LAST-MODIFIED:20260306T221438Z
UID:24127-1776945900-1776949200@artsalliancedavis.org
SUMMARY:Stick and Bow: Thursday Concert
DESCRIPTION:Stick and Bow \nProgram \nRadiohead: Paranoid Android \nJason Noble: Folk Suite\n* commissioned for Stick and Bow \nFransisco Mignone: Modhina \nLaurence Jobidon: Huit broderies sur des fragments de langue\n* commissioned for Stick and Bow \nSystem of a Down: Aerials \nPablo Ortiz: Dancing with the Wendigo\n* commissioned for Stick and Bow \nAstor Piazzolla: Buenos Aires Hora Cero \nAlejandro Vinao: El ritmo del Canto \nNina Simone: Feeling of Freedom and Love me or Leave me \n 
URL:https://artsalliancedavis.org/event/stick-and-bow-thursday-concert-2/
LOCATION:Recital Hall\, Ann E. Pitzer Center\, Hutchison Dr. & Cushing Way\, Davis\, CA\, 95616\, United States
CATEGORIES:Music
ATTACH;FMTTYPE=image/png:https://artsalliancedavis.org/wp-content/uploads/2026/03/resolution_internet_cannie_ethier_1er_juillet_2019_151a5055-modifier-modifier-2-1.jpg-mdf37X.png
END:VEVENT
BEGIN:VEVENT
DTSTART;TZID=America/Los_Angeles:20260423T150000
DTEND;TZID=America/Los_Angeles:20260423T163000
DTSTAMP:20260423T083340
CREATED:20260123T232008Z
LAST-MODIFIED:20260123T232008Z
UID:23402-1776956400-1776961800@artsalliancedavis.org
SUMMARY:Line Dance Class at Davis Odd Fellows
DESCRIPTION:Absolute beginner to high beginner dances on Thursdays. Free & open to the public. Donations accepted.
URL:https://artsalliancedavis.org/event/line-dance-class-at-davis-odd-fellows-35/
LOCATION:Davis Odd Fellows
CATEGORIES:Music,Stage & Dance
ATTACH;FMTTYPE=image/jpeg:https://artsalliancedavis.org/wp-content/uploads/2025/11/Davis-ODD-FELLOWS-Line-Dance-Flyer-FALL-2025-scaled-RD44KU.jpg
ORGANIZER;CN="Davis Line Dance":MAILTO:davislinedance@gmail.com
END:VEVENT
BEGIN:VEVENT
DTSTART;TZID=America/Los_Angeles:20260423T160000
DTEND;TZID=America/Los_Angeles:20260423T170000
DTSTAMP:20260423T083340
CREATED:20260414T203540Z
LAST-MODIFIED:20260414T203540Z
UID:24762-1776960000-1776963600@artsalliancedavis.org
SUMMARY:Celebrate Yourself Workshop (Zoom)
DESCRIPTION:Everyone comes to the earthly plane to fulfill a specific purpose and perform certain roles. Along the way\, however\, we’ve been steered in directions quite different from the path God intended for us to follow. \nCelebrate Yourself is an adventure that opens the doors for you to return to the truth of your divinity. This fun-filled workshop makes it possible for you to begin the journey back to your original purpose. \nIn this transformative experience\, you’ll:\n– Erase erroneous thought patterns and beliefs that have held you back\n– Eliminate baggage that has weighed you down\n– Shed habits that stand between you and your highest good\n– Re-discover the sacred being that you are \nJoin us for a time of joy\, healing\, and homecoming to your authentic self. \nLOCATION: On Zoom (link provided after registering) \nQUESTIONS: info@unityofdavis.org \n$25 Love Offering
URL:https://artsalliancedavis.org/event/celebrate-yourself-workshop-zoom/
CATEGORIES:Community
ATTACH;FMTTYPE=image/jpeg:https://artsalliancedavis.org/wp-content/uploads/2026/04/657380612_1257101196560963_828686871244122845_n-LcQmIr.jpg
ORGANIZER;CN="Unity of Davis":MAILTO:info@unityofdavis.org
END:VEVENT
BEGIN:VEVENT
DTSTART;TZID=America/Los_Angeles:20260423T173000
DTEND;TZID=America/Los_Angeles:20260423T190000
DTSTAMP:20260423T083340
CREATED:20260319T124235Z
LAST-MODIFIED:20260319T124235Z
UID:24307-1776965400-1776970800@artsalliancedavis.org
SUMMARY:Visiting Artist Lecture Series: Mimi Plumb
DESCRIPTION:The UC Davis Visiting Artist Lecture Series presents Mimi Plumb\, who is part of a long tradition of socially engaged photographers whose work explores the landscapes and communities of California and the American West. Plumb will give a talk about her process\, work and career. In 2022\, she was awarded a Guggenheim Fellowship to support her ongoing project\, “The Reservoir.” Plumb has published five monographs including “Landfall\,” which was shortlisted for both the Paris Photo/Aperture Foundation First Photobook Award and the Lucie Photo Book Prize. Organized by the Maria Manetti Shrem Art Studio Program and supported by the College of Letters and Science at UC Davis.
URL:https://artsalliancedavis.org/event/visiting-artist-lecture-series-mimi-plumb/
LOCATION:Cruess Hall\, 375 California Avenue\, Davis\, CA\, 95616\, United States
ATTACH;FMTTYPE=image/png:https://artsalliancedavis.org/wp-content/uploads/2026/03/boy_in_sand_from_the_series_the_reservoir_24x30_inkjet_print_2022cmimi_plumb-0G8ZNb.png
ORGANIZER;CN="UC Davis Art &amp%3Bamp%3B Art History Department":MAILTO:lctheis@ucdavis.edu
END:VEVENT
BEGIN:VEVENT
DTSTART;TZID=America/Los_Angeles:20260423T180000
DTEND;TZID=America/Los_Angeles:20260423T190000
DTSTAMP:20260423T083340
CREATED:20260219T182944Z
LAST-MODIFIED:20260219T182944Z
UID:23866-1776967200-1776970800@artsalliancedavis.org
SUMMARY:Self Defense Class
DESCRIPTION:This is a safe\, inclusive opportunity to learn self defense from a dedicated group of martial arts practitioners at the Davis Arts Center. If you have ever felt like you would like to learn a little more about how to defend yourself and your loved ones\, and would like to get a little fitness training too\, please join us! No experience necessary\, start any time. We ask for a $10 donation per class\, but you can pay whatever you can. \n 
URL:https://artsalliancedavis.org/event/self-defense-class-10/
LOCATION:1919 F St\, Davis CA\, 1919 F St\, Davis\, 95616\, United States
ATTACH;FMTTYPE=image/jpeg:https://artsalliancedavis.org/wp-content/uploads/2026/02/karate-pMYpZ0.jpg
ORGANIZER;CN="Community Dojo of Davis":MAILTO:tonyberger@gmail.com
END:VEVENT
BEGIN:VEVENT
DTSTART;TZID=America/Los_Angeles:20260423T180000
DTEND;TZID=America/Los_Angeles:20260423T200000
DTSTAMP:20260423T083340
CREATED:20260325T142515Z
LAST-MODIFIED:20260325T142515Z
UID:24462-1776967200-1776974400@artsalliancedavis.org
SUMMARY:Downtown at Dusk
DESCRIPTION: Downtown at Dusk  \n\n\n\n\n\n\n\n\n\n\n\n\n\n\n\n\n\n\n\n\n\n\n\n\n\nEvenings filled with live music\, food\, and good vibes on the G Street platform in partnership with Davis Rave Collective. \n\n 6 PM | G St. Platform \n April 2\, 9\, 23\, 30\n May 7\, 21\, 28\n June 4\, 11\, 18\n\n\n\n\n\n\n\n\n\n\n 
URL:https://artsalliancedavis.org/event/downtown-at-dusk-9/
ATTACH;FMTTYPE=image/jpeg:https://artsalliancedavis.org/wp-content/uploads/2018/10/orange-white-aad-logo.jpg
END:VEVENT
END:VCALENDAR