BEGIN:VCALENDAR
VERSION:2.0
PRODID:-//Arts Alliance Davis - ECPv6.15.20//NONSGML v1.0//EN
CALSCALE:GREGORIAN
METHOD:PUBLISH
X-WR-CALNAME:Arts Alliance Davis
X-ORIGINAL-URL:https://artsalliancedavis.org
X-WR-CALDESC:Events for Arts Alliance Davis
REFRESH-INTERVAL;VALUE=DURATION:PT1H
X-Robots-Tag:noindex
X-PUBLISHED-TTL:PT1H
BEGIN:VTIMEZONE
TZID:America/Los_Angeles
BEGIN:DAYLIGHT
TZOFFSETFROM:-0800
TZOFFSETTO:-0700
TZNAME:PDT
DTSTART:20250309T100000
END:DAYLIGHT
BEGIN:STANDARD
TZOFFSETFROM:-0700
TZOFFSETTO:-0800
TZNAME:PST
DTSTART:20251102T090000
END:STANDARD
BEGIN:DAYLIGHT
TZOFFSETFROM:-0800
TZOFFSETTO:-0700
TZNAME:PDT
DTSTART:20260308T100000
END:DAYLIGHT
BEGIN:STANDARD
TZOFFSETFROM:-0700
TZOFFSETTO:-0800
TZNAME:PST
DTSTART:20261101T090000
END:STANDARD
BEGIN:DAYLIGHT
TZOFFSETFROM:-0800
TZOFFSETTO:-0700
TZNAME:PDT
DTSTART:20270314T100000
END:DAYLIGHT
BEGIN:STANDARD
TZOFFSETFROM:-0700
TZOFFSETTO:-0800
TZNAME:PST
DTSTART:20271107T090000
END:STANDARD
END:VTIMEZONE
BEGIN:VEVENT
DTSTART;TZID=America/Los_Angeles:20260301T100000
DTEND;TZID=America/Los_Angeles:20260301T120000
DTSTAMP:20260423T134602
CREATED:20251201T195002Z
LAST-MODIFIED:20251201T195002Z
UID:22531-1772359200-1772366400@artsalliancedavis.org
SUMMARY:Backyard Book Swap & Social
DESCRIPTION:Backyard Book Swap with Yolo County Caregivers Collective \nFirst Sunday of every month\, 10am – 12 pm \nLocated near corner of L St & Drexel Dr\, Davis (look for balloons) \nPlease join us for this free\, monthly play group! All ages welcome. Together we can build community around the joy of reading
URL:https://artsalliancedavis.org/event/backyard-book-swap-social-4/
LOCATION:Corner of L St & Drexel Dr\, Davis
CATEGORIES:Books & Talks,Bring the Kids
ATTACH;FMTTYPE=image/jpeg:https://artsalliancedavis.org/wp-content/uploads/2025/11/book-swap-IyYyFZ.jpg
END:VEVENT
BEGIN:VEVENT
DTSTART;TZID=America/Los_Angeles:20260301T133000
DTEND;TZID=America/Los_Angeles:20260301T160000
DTSTAMP:20260423T134602
CREATED:20251231T172546Z
LAST-MODIFIED:20251231T172546Z
UID:23012-1772371800-1772380800@artsalliancedavis.org
SUMMARY:Davis Bookworms
DESCRIPTION:Do you love reading\, but hate being told what book to read? Are you intrigued by the idea of a book club\, but too busy to do the reading beforehand? If so\, then you’ll fit right in with the Davis Bookworms! We are a brand new “silent” book club\, in which everyone brings a book of their own choosing\, reads for an hour\, and then socializes for an hour. We meet every two weeks on Sunday at Nashoba Wines\, right here in Davis. So whether you’re feeling the Sunday Scaries\, or just love to read\, come join us for an afternoon of good books\, good wine\, and good company!
URL:https://artsalliancedavis.org/event/davis-bookworms-23/
LOCATION:Nashoba Wines\, 820 4th St\, Davis\, C\, 95616\, United States
CATEGORIES:Books & Talks,Community
ATTACH;FMTTYPE=image/jpeg:https://artsalliancedavis.org/wp-content/uploads/2025/04/Carl_Spitzweg_-__The_Bookworm_-1cDsdo.tmp_.jpg
ORGANIZER;CN="Davis Bookworms":MAILTO:davisbookworms@gmail.com
END:VEVENT
BEGIN:VEVENT
DTSTART;TZID=America/Los_Angeles:20260306T150000
DTEND;TZID=America/Los_Angeles:20260306T163000
DTSTAMP:20260423T134602
CREATED:20251206T213430Z
LAST-MODIFIED:20251206T213430Z
UID:22629-1772809200-1772814600@artsalliancedavis.org
SUMMARY:Tales for Tails
DESCRIPTION:Stephens Davis Branch Library\n315 E 14th St\nDavis\, CA 95616 \n  \nRead to a therapy dog!  Animals are ideal reading companions.  For ages 5-12\, in the Children’s Activity Room. \nFirst come\, first served.  No prior reservations. \nSign up for a 10-minute reading slot at the Children’s Desk on the afternoon of the program. \nCheck website for cancellations. \n  \nNo reservation required. Sponsored by the Friends of the Davis Public Library. You may request reasonable accommodations 5 days in advance by calling (530) 757-5593. Connect with us on Facebook at www.facebook.com/yolocountylibrary.org.
URL:https://artsalliancedavis.org/event/tales-for-tails-137/
LOCATION:Mary L. Stephens Davis Branch Library\, 315 East 14th Street
CATEGORIES:Books & Talks,Bring the Kids
ATTACH;FMTTYPE=image/jpeg:https://artsalliancedavis.org/wp-content/uploads/2023/02/image-6-uQ2Nyu.tmp_.jpg
END:VEVENT
BEGIN:VEVENT
DTSTART;TZID=America/Los_Angeles:20260310T143000
DTEND;TZID=America/Los_Angeles:20260310T153000
DTSTAMP:20260423T134602
CREATED:20260304T214824Z
LAST-MODIFIED:20260304T214824Z
UID:24080-1773153000-1773156600@artsalliancedavis.org
SUMMARY:Free\, public forum with author Javier Zamora
DESCRIPTION:UC Davis and the city of Davis are hosting a free\, public forum with author Javier Zamora to bring people together to discuss belonging in Davis public education systems and communities. Memoirist\, poet\, and speaker Javier Zamora believes that immigrants must keep ownership of their own stories. In his award-winning memoir\, Solito\, he explores his harrowing journey to the United States as an unaccompanied 9-year-old that gives a unique and unforgettable glimpse into the realities of child migration.
URL:https://artsalliancedavis.org/event/free-public-forum-with-author-javier-zamora/
LOCATION:Davis Veterans Memorial Theatre\, 203 E. 14th Street\, Davis\, CA\, 95616\, United States
CATEGORIES:Books & Talks
ATTACH;FMTTYPE=image/jpeg:https://artsalliancedavis.org/wp-content/uploads/2018/10/orange-white-aad-logo.jpg
ORGANIZER;CN="UC Davis and the City of Davis":MAILTO:foacommunications@ucdavis.edu
END:VEVENT
BEGIN:VEVENT
DTSTART;TZID=America/Los_Angeles:20260310T183000
DTEND;TZID=America/Los_Angeles:20260310T193000
DTSTAMP:20260423T134602
CREATED:20260225T195620Z
LAST-MODIFIED:20260225T195620Z
UID:23954-1773167400-1773171000@artsalliancedavis.org
SUMMARY:Author Event: Full Belly Farm
DESCRIPTION:Join us for an evening celebrating the release of Fully Belly Farm’s first cookbook\, from Amon and Jenna Muller! \nAbout the Authors \nAmon and Jenna Muller are among the second-generation owners of Full Belly Farm\, in Capay Valley\, California. Amon Muller trained at star restaurants like Chez Panisse\, Quince\, and Coi\, and co-runs the farm kitchen at Full Belly Farm. Jenna Muller organizes events at the farm and mediates in the agricultural community. Together\, Amon and Jenna founded the Full Belly Farm Kitchen in 2011. \nAbout the Book \n100 easy\, seasonal recipes from the beloved\, third generation organic family farm located in the verdant Capay Valley in California. \nFull Belly Farm’s recipes follow seasonal rhythms\, highlighting fresh\, organic ingredients. Dishes like Corn and Summer Squash Pizza and Vibrant Little Gem Salad embody the warmth and simplicity of California cooking. Learn to minimize food waste with recipes for Late Season Tomato Jam and Peach Leaf Creme Brûlée. The book also includes authoritative essays on regenerative farming\, growing up on a family farm\, sustainable flower farming\, and other important topics\, giving readers a deeper sense of connection to the real issues in our food systems. \nFounded in 1985\, Full Belly Farm is one of California’s oldest sustainable farms. With a reputation for growing some of the best organic produce in California for the past 40 years\, they supply to restaurants like Chez Panisse and Zuni\, and their produce appears in markets like Bi-Rite and Whole Foods. They have a devoted following at farmers’ markets across the Bay Area\, as well as a popular fruit and vegetable CSA box program that delivers farm-fresh produce directly to households across Northern California. \nThis gorgeously photographed cookbook teaches seasonal cooking that honors the origins of produce.
URL:https://artsalliancedavis.org/event/author-event-full-belly-farm/
LOCATION:The Avid Reader Bookstore\, 617 2nd St.\, Davis\, 95616
CATEGORIES:Books & Talks
ATTACH;FMTTYPE=image/png:https://artsalliancedavis.org/wp-content/uploads/2026/02/amon-and-jenna-muller-KgTRTm.png
ORGANIZER;CN="The Avid Reader":MAILTO:avidreaderbooks@gmail.com
END:VEVENT
BEGIN:VEVENT
DTSTART;TZID=America/Los_Angeles:20260313T150000
DTEND;TZID=America/Los_Angeles:20260313T163000
DTSTAMP:20260423T134602
CREATED:20251213T231128Z
LAST-MODIFIED:20251213T231128Z
UID:22753-1773414000-1773419400@artsalliancedavis.org
SUMMARY:Tales for Tails
DESCRIPTION:Stephens Davis Branch Library\n315 E 14th St\nDavis\, CA 95616 \n  \nRead to a therapy dog!  Animals are ideal reading companions.  For ages 5-12\, in the Children’s Activity Room. \nFirst come\, first served.  No prior reservations. \nSign up for a 10-minute reading slot at the Children’s Desk on the afternoon of the program. \nCheck website for cancellations. \n  \nNo reservation required. Sponsored by the Friends of the Davis Public Library. You may request reasonable accommodations 5 days in advance by calling (530) 757-5593. Connect with us on Facebook at www.facebook.com/yolocountylibrary.org.
URL:https://artsalliancedavis.org/event/tales-for-tails-138/
LOCATION:Mary L. Stephens Davis Branch Library\, 315 East 14th Street
CATEGORIES:Books & Talks,Bring the Kids
ATTACH;FMTTYPE=image/jpeg:https://artsalliancedavis.org/wp-content/uploads/2023/02/image-6-uQ2Nyu.tmp_.jpg
END:VEVENT
BEGIN:VEVENT
DTSTART;TZID=America/Los_Angeles:20260315T133000
DTEND;TZID=America/Los_Angeles:20260315T160000
DTSTAMP:20260423T134602
CREATED:20251231T172716Z
LAST-MODIFIED:20251231T172716Z
UID:23013-1773581400-1773590400@artsalliancedavis.org
SUMMARY:Davis Bookworms
DESCRIPTION:Do you love reading\, but hate being told what book to read? Are you intrigued by the idea of a book club\, but too busy to do the reading beforehand? If so\, then you’ll fit right in with the Davis Bookworms! We are a brand new “silent” book club\, in which everyone brings a book of their own choosing\, reads for an hour\, and then socializes for an hour. We meet every two weeks on Sunday at Nashoba Wines\, right here in Davis. So whether you’re feeling the Sunday Scaries\, or just love to read\, come join us for an afternoon of good books\, good wine\, and good company!
URL:https://artsalliancedavis.org/event/davis-bookworms-24/
LOCATION:Nashoba Wines\, 820 4th St\, Davis\, C\, 95616\, United States
CATEGORIES:Books & Talks,Community
ATTACH;FMTTYPE=image/jpeg:https://artsalliancedavis.org/wp-content/uploads/2025/04/Carl_Spitzweg_-__The_Bookworm_-1cDsdo.tmp_.jpg
ORGANIZER;CN="Davis Bookworms":MAILTO:davisbookworms@gmail.com
END:VEVENT
BEGIN:VEVENT
DTSTART;TZID=America/Los_Angeles:20260315T190000
DTEND;TZID=America/Los_Angeles:20260315T210000
DTSTAMP:20260423T134602
CREATED:20260211T160922Z
LAST-MODIFIED:20260211T160922Z
UID:23648-1773601200-1773608400@artsalliancedavis.org
SUMMARY:An Odd Night in the Forest
DESCRIPTION:The Davis Odd Fellows will host\, “An Odd Night in the Forest” on Sunday\, March 15th\, from 7-9 pm at the Davis Odd Fellows Hall\, 415 2nd St. We will show the film\, “The Man Who Planted Trees\,” and there will be a presentation by Tree Davis about our City’s trees and what the community can do to help plant trees. The even is free and open to the entire community. Doors will open at 6:30. Refreshments will be for sale.
URL:https://artsalliancedavis.org/event/an-odd-night-in-the-forest/
LOCATION:Davis Odd Fellows
CATEGORIES:Books & Talks,Screen
ATTACH;FMTTYPE=image/jpeg:https://artsalliancedavis.org/wp-content/uploads/2026/02/Odd-Night-In-the-Forest-poster-jp-n0pA8e.jpg
ORGANIZER;CN="Davis Odd Fellows":MAILTO:davislodge@sbcglobal.net
END:VEVENT
BEGIN:VEVENT
DTSTART;TZID=America/Los_Angeles:20260317T183000
DTEND;TZID=America/Los_Angeles:20260317T193000
DTSTAMP:20260423T134602
CREATED:20260309T230519Z
LAST-MODIFIED:20260309T230519Z
UID:24152-1773772200-1773775800@artsalliancedavis.org
SUMMARY:Author Book Event at Avid Reader
DESCRIPTION:Achilles’s Wife\, a novel of Greek myth retelling\, launches at Avid Reader Davis with an author conversation and reading. Of Achilles’s Wife\, Margaret George\, NYT bestselling author\, says: “Here at last [Deidamia] tells her own story . . . Unique\, fascinating\, and restores a long-lost voice.” Enjoy some Greek appetizers based on the novel’s island setting.
URL:https://artsalliancedavis.org/event/author-book-event-at-avid-reader/
LOCATION:The Avid Reader Bookstore\, 617 2nd St.\, Davis\, 95616
CATEGORIES:Books & Talks
ATTACH;FMTTYPE=image/png:https://artsalliancedavis.org/wp-content/uploads/2026/03/Avid-Reader-AW-ezFjzq.png
ORGANIZER;CN="The Avid Reader":MAILTO:avidreaderbooks@gmail.com
END:VEVENT
BEGIN:VEVENT
DTSTART;TZID=America/Los_Angeles:20260319T183000
DTEND;TZID=America/Los_Angeles:20260319T193000
DTSTAMP:20260423T134602
CREATED:20260225T195923Z
LAST-MODIFIED:20260225T195923Z
UID:23981-1773945000-1773948600@artsalliancedavis.org
SUMMARY:Author Talk: Bob Schneider
DESCRIPTION:Join us to hear from local author Bob Schneider about the updated version of Exploring the Berryessa Snow Mountain National Monument Region. \nAbout the Author \nBob Schneider has worked with passion to protect public lands since his student volunteer days in the late 1960s to establish the Redwood National Park. He later cofounded both the California Wilderness Coalition in 1976 and Tuleyome in 2002. Bob most recently spearheaded a team of hard-working people and organizations to designate the Berryessa Snow Mountain National Monument in 2015. He has a B.S. degree in geology from UC Davis\, is married with two grown children\, and lives in Davis. \nAbout the Book \nNestled between the Central Valley and the Pacific Coast\, the Berryessa Snow Mountain region is a place where California’s wild heart still beats strong. Here\, condors once soared over oak-studded ridges\, ancient volcanoes rose from the sea\, and rivers carved their paths through folded mountains. This richly illustrated guide invites readers to explore one of the state’s least-known but most biologically and geologically diverse landscapes—a place of breathtaking beauty\, deep history\, and ongoing conservation. Blending natural history\, geology\, and human story\, the authors reveal how plate tectonics built this land\, how fire and serpentine soils shape its living communities\, and how generations of people—from Native tribes to ranchers and scientists—have come to know and care for it. Whether used as a travel companion or an armchair exploration\, this book is an invitation to see California anew\, through the lens of one remarkable region. \nInside You’ll Find \nAn introduction to the geology\, ecology\, and cultural history of the Berryessa Snow Mountain National Monument and surrounding lands \nDetailed road guides for exploring both northern and southern routes through the Monument Accessible explanations of plate tectonics\, rock formations\, and California’s dynamic landscapes \nDescriptions of rare plants\, wildlife\, and serpentine ecosystems\, and the role of fire in shaping them \nInsight into Indigenous stewardship and modern conservation efforts\, including the 2024 addition of Molok Luyuk and Tribal co-stewardship \nDozens of maps\, photos\, and diagrams to enhance field learning and appreciation \nRecommendations for recreation\, responsible exploration\, and deeper engagement with this living landscape
URL:https://artsalliancedavis.org/event/author-talk-bob-schneider/
LOCATION:The Avid Reader Bookstore\, 617 2nd St.\, Davis\, 95616
CATEGORIES:Books & Talks
ATTACH;FMTTYPE=image/png:https://artsalliancedavis.org/wp-content/uploads/2026/02/Bob-Schneider-ohbkE9.png
ORGANIZER;CN="The Avid Reader":MAILTO:avidreaderbooks@gmail.com
END:VEVENT
BEGIN:VEVENT
DTSTART;TZID=America/Los_Angeles:20260320T150000
DTEND;TZID=America/Los_Angeles:20260320T163000
DTSTAMP:20260423T134602
CREATED:20251220T144530Z
LAST-MODIFIED:20251220T144530Z
UID:22865-1774018800-1774024200@artsalliancedavis.org
SUMMARY:Tales for Tails
DESCRIPTION:Stephens Davis Branch Library\n315 E 14th St\nDavis\, CA 95616 \n  \nRead to a therapy dog!  Animals are ideal reading companions.  For ages 5-12\, in the Children’s Activity Room. \nFirst come\, first served.  No prior reservations. \nSign up for a 10-minute reading slot at the Children’s Desk on the afternoon of the program. \nCheck website for cancellations. \n  \nNo reservation required. Sponsored by the Friends of the Davis Public Library. You may request reasonable accommodations 5 days in advance by calling (530) 757-5593. Connect with us on Facebook at www.facebook.com/yolocountylibrary.org.
URL:https://artsalliancedavis.org/event/tales-for-tails-139/
LOCATION:Mary L. Stephens Davis Branch Library\, 315 East 14th Street
CATEGORIES:Books & Talks,Bring the Kids
ATTACH;FMTTYPE=image/jpeg:https://artsalliancedavis.org/wp-content/uploads/2023/02/image-6-uQ2Nyu.tmp_.jpg
END:VEVENT
BEGIN:VEVENT
DTSTART;TZID=America/Los_Angeles:20260322T120000
DTEND;TZID=America/Los_Angeles:20260322T140000
DTSTAMP:20260423T134602
CREATED:20260227T203843Z
LAST-MODIFIED:20260227T203843Z
UID:24049-1774180800-1774188000@artsalliancedavis.org
SUMMARY:Silent Book Club
DESCRIPTION:📚🍷 Silent Book Club at Great Bear Vineyards 🍷📚\nSunday\, March 22 | 12–2pm\n$15 per person \nShhh… it’s our favorite kind of social gathering. 💛 \nSilent Book Club is back! Bring the book you’ve been meaning to finish (or start)\, grab a glass of wine\, and settle into our beautiful garden for two blissfully quiet hours of reading and relaxing. \nYour ticket includes a glass of wine — choose from a curated selection of four wines to sip while you escape into a great story. Whether you come solo for some peaceful “me time” or meet up with fellow book-loving friends\, this is your invitation to slow down and savor the moment. \nAfter your first glass\, feel free to linger on the grounds\, purchase a second glass or bottle\, and truly make an afternoon of it. 🍷✨ \nSnacks and cheeses will be available for purchase — the perfect pairing for plot twists and page turners. \nNo assigned reading. No pressure. Just books\, wine\, and a little vineyard magic. \nWe can’t wait to read with you!
URL:https://artsalliancedavis.org/event/silent-book-club-2/
LOCATION:Great Bear Vineyards (Great Bear)\, 24800 County Rd 101A
CATEGORIES:Books & Talks,Food & Drink
ATTACH;FMTTYPE=image/png:https://artsalliancedavis.org/wp-content/uploads/2026/02/3-22-26-Thumbnail-d0jXeS.png
ORGANIZER;CN="Great Bear Vineyards":MAILTO:greatbearvineyards@gmail.com
END:VEVENT
BEGIN:VEVENT
DTSTART;TZID=America/Los_Angeles:20260327T150000
DTEND;TZID=America/Los_Angeles:20260327T163000
DTSTAMP:20260423T134602
CREATED:20251227T163007Z
LAST-MODIFIED:20251227T163007Z
UID:22962-1774623600-1774629000@artsalliancedavis.org
SUMMARY:Tales for Tails
DESCRIPTION:Stephens Davis Branch Library\n315 E 14th St\nDavis\, CA 95616 \n  \nRead to a therapy dog!  Animals are ideal reading companions.  For ages 5-12\, in the Children’s Activity Room. \nFirst come\, first served.  No prior reservations. \nSign up for a 10-minute reading slot at the Children’s Desk on the afternoon of the program. \nCheck website for cancellations. \n  \nNo reservation required. Sponsored by the Friends of the Davis Public Library. You may request reasonable accommodations 5 days in advance by calling (530) 757-5593. Connect with us on Facebook at www.facebook.com/yolocountylibrary.org.
URL:https://artsalliancedavis.org/event/tales-for-tails-140/
LOCATION:Mary L. Stephens Davis Branch Library\, 315 East 14th Street
CATEGORIES:Books & Talks,Bring the Kids
ATTACH;FMTTYPE=image/jpeg:https://artsalliancedavis.org/wp-content/uploads/2023/02/image-6-uQ2Nyu.tmp_.jpg
END:VEVENT
BEGIN:VEVENT
DTSTART;TZID=America/Los_Angeles:20260329T133000
DTEND;TZID=America/Los_Angeles:20260329T160000
DTSTAMP:20260423T134602
CREATED:20251231T172849Z
LAST-MODIFIED:20251231T172849Z
UID:23014-1774791000-1774800000@artsalliancedavis.org
SUMMARY:Davis Bookworms
DESCRIPTION:Do you love reading\, but hate being told what book to read? Are you intrigued by the idea of a book club\, but too busy to do the reading beforehand? If so\, then you’ll fit right in with the Davis Bookworms! We are a brand new “silent” book club\, in which everyone brings a book of their own choosing\, reads for an hour\, and then socializes for an hour. We meet every two weeks on Sunday at Nashoba Wines\, right here in Davis. So whether you’re feeling the Sunday Scaries\, or just love to read\, come join us for an afternoon of good books\, good wine\, and good company!
URL:https://artsalliancedavis.org/event/davis-bookworms-25/
LOCATION:Nashoba Wines\, 820 4th St\, Davis\, C\, 95616\, United States
CATEGORIES:Books & Talks,Community
ATTACH;FMTTYPE=image/jpeg:https://artsalliancedavis.org/wp-content/uploads/2025/04/Carl_Spitzweg_-__The_Bookworm_-1cDsdo.tmp_.jpg
ORGANIZER;CN="Davis Bookworms":MAILTO:davisbookworms@gmail.com
END:VEVENT
END:VCALENDAR