BEGIN:VCALENDAR
VERSION:2.0
PRODID:-//Arts Alliance Davis - ECPv6.15.20//NONSGML v1.0//EN
CALSCALE:GREGORIAN
METHOD:PUBLISH
X-WR-CALNAME:Arts Alliance Davis
X-ORIGINAL-URL:https://artsalliancedavis.org
X-WR-CALDESC:Events for Arts Alliance Davis
REFRESH-INTERVAL;VALUE=DURATION:PT1H
X-Robots-Tag:noindex
X-PUBLISHED-TTL:PT1H
BEGIN:VTIMEZONE
TZID:America/Los_Angeles
BEGIN:DAYLIGHT
TZOFFSETFROM:-0800
TZOFFSETTO:-0700
TZNAME:PDT
DTSTART:20250309T100000
END:DAYLIGHT
BEGIN:STANDARD
TZOFFSETFROM:-0700
TZOFFSETTO:-0800
TZNAME:PST
DTSTART:20251102T090000
END:STANDARD
BEGIN:DAYLIGHT
TZOFFSETFROM:-0800
TZOFFSETTO:-0700
TZNAME:PDT
DTSTART:20260308T100000
END:DAYLIGHT
BEGIN:STANDARD
TZOFFSETFROM:-0700
TZOFFSETTO:-0800
TZNAME:PST
DTSTART:20261101T090000
END:STANDARD
BEGIN:DAYLIGHT
TZOFFSETFROM:-0800
TZOFFSETTO:-0700
TZNAME:PDT
DTSTART:20270314T100000
END:DAYLIGHT
BEGIN:STANDARD
TZOFFSETFROM:-0700
TZOFFSETTO:-0800
TZNAME:PST
DTSTART:20271107T090000
END:STANDARD
END:VTIMEZONE
BEGIN:VEVENT
DTSTART;TZID=America/Los_Angeles:20260703T150000
DTEND;TZID=America/Los_Angeles:20260703T163000
DTSTAMP:20260423T215955
CREATED:20260404T173114Z
LAST-MODIFIED:20260404T173114Z
UID:24609-1783090800-1783096200@artsalliancedavis.org
SUMMARY:Tales for Tails
DESCRIPTION:Stephens Davis Branch Library\n315 E 14th St\nDavis\, CA 95616 \n  \nRead to a therapy dog!  Animals are ideal reading companions.  For ages 5-12\, in the Children’s Activity Room. \nFirst come\, first served.  No prior reservations. \nSign up for a 10-minute reading slot at the Children’s Desk on the afternoon of the program. \nCheck website for cancellations. \n  \nNo reservation required. Sponsored by the Friends of the Davis Public Library. You may request reasonable accommodations 5 days in advance by calling (530) 757-5593. Connect with us on Facebook at www.facebook.com/yolocountylibrary.org.
URL:https://artsalliancedavis.org/event/tales-for-tails-154/
LOCATION:Mary L. Stephens Davis Branch Library\, 315 East 14th Street
CATEGORIES:Books & Talks,Bring the Kids
ATTACH;FMTTYPE=image/jpeg:https://artsalliancedavis.org/wp-content/uploads/2023/02/image-6-uQ2Nyu.tmp_.jpg
END:VEVENT
BEGIN:VEVENT
DTSTART;TZID=America/Los_Angeles:20260710T150000
DTEND;TZID=America/Los_Angeles:20260710T163000
DTSTAMP:20260423T215955
CREATED:20260411T194723Z
LAST-MODIFIED:20260411T194723Z
UID:24726-1783695600-1783701000@artsalliancedavis.org
SUMMARY:Tales for Tails
DESCRIPTION:Stephens Davis Branch Library\n315 E 14th St\nDavis\, CA 95616 \n  \nRead to a therapy dog!  Animals are ideal reading companions.  For ages 5-12\, in the Children’s Activity Room. \nFirst come\, first served.  No prior reservations. \nSign up for a 10-minute reading slot at the Children’s Desk on the afternoon of the program. \nCheck website for cancellations. \n  \nNo reservation required. Sponsored by the Friends of the Davis Public Library. You may request reasonable accommodations 5 days in advance by calling (530) 757-5593. Connect with us on Facebook at www.facebook.com/yolocountylibrary.org.
URL:https://artsalliancedavis.org/event/tales-for-tails-155/
LOCATION:Mary L. Stephens Davis Branch Library\, 315 East 14th Street
CATEGORIES:Books & Talks,Bring the Kids
ATTACH;FMTTYPE=image/jpeg:https://artsalliancedavis.org/wp-content/uploads/2023/02/image-6-uQ2Nyu.tmp_.jpg
END:VEVENT
BEGIN:VEVENT
DTSTART;TZID=America/Los_Angeles:20260712T100000
DTEND;TZID=America/Los_Angeles:20260712T120000
DTSTAMP:20260423T215955
CREATED:20260413T201810Z
LAST-MODIFIED:20260413T201810Z
UID:24754-1783850400-1783857600@artsalliancedavis.org
SUMMARY:Backyard Book Swap
DESCRIPTION:Backyard Book Swap with Yolo County Caregivers Collective \n2nd Sunday of every month\, 10am – 12pm \n1118 L Street\, Davis \n  \nReady for a new read? Join our monthly book swap! This free playgroup meets on the second Sunday of every month. Bring a gently-loved book or two to swap\, discover your mini’s next favorite read\, and connect with other bookworms. Our book swap is a great way to refresh your bookshelf\, make new friends\, and add an exciting new chapter to your social life! \nWe’ll have bubbles\, simple arts\, and space to play for the little ones. Each month features a different theme and free refreshments will be provided too. \nTogether we can build community around the joy of reading.
URL:https://artsalliancedavis.org/event/backyard-book-swap-4/
LOCATION:1118 L Street\, Davis\, 1118 L Street\, Davis\, CA
CATEGORIES:Books & Talks,Bring the Kids,Community
ATTACH;FMTTYPE=image/png:https://artsalliancedavis.org/wp-content/uploads/2026/04/1000043312-scaled-nvxnfQ.png
END:VEVENT
BEGIN:VEVENT
DTSTART;TZID=America/Los_Angeles:20260717T150000
DTEND;TZID=America/Los_Angeles:20260717T163000
DTSTAMP:20260423T215955
CREATED:20260418T221800Z
LAST-MODIFIED:20260418T221800Z
UID:24880-1784300400-1784305800@artsalliancedavis.org
SUMMARY:Tales for Tails
DESCRIPTION:Stephens Davis Branch Library\n315 E 14th St\nDavis\, CA 95616 \n  \nRead to a therapy dog!  Animals are ideal reading companions.  For ages 5-12\, in the Children’s Activity Room. \nFirst come\, first served.  No prior reservations. \nSign up for a 10-minute reading slot at the Children’s Desk on the afternoon of the program. \nCheck website for cancellations. \n  \nNo reservation required. Sponsored by the Friends of the Davis Public Library. You may request reasonable accommodations 5 days in advance by calling (530) 757-5593. Connect with us on Facebook at www.facebook.com/yolocountylibrary.org.
URL:https://artsalliancedavis.org/event/tales-for-tails-156/
LOCATION:Mary L. Stephens Davis Branch Library\, 315 East 14th Street
CATEGORIES:Books & Talks,Bring the Kids
ATTACH;FMTTYPE=image/jpeg:https://artsalliancedavis.org/wp-content/uploads/2023/02/image-6-uQ2Nyu.tmp_.jpg
END:VEVENT
END:VCALENDAR