BEGIN:VCALENDAR
VERSION:2.0
PRODID:-//Arts Alliance Davis - ECPv6.15.20//NONSGML v1.0//EN
CALSCALE:GREGORIAN
METHOD:PUBLISH
X-WR-CALNAME:Arts Alliance Davis
X-ORIGINAL-URL:https://artsalliancedavis.org
X-WR-CALDESC:Events for Arts Alliance Davis
REFRESH-INTERVAL;VALUE=DURATION:PT1H
X-Robots-Tag:noindex
X-PUBLISHED-TTL:PT1H
BEGIN:VTIMEZONE
TZID:America/Los_Angeles
BEGIN:DAYLIGHT
TZOFFSETFROM:-0800
TZOFFSETTO:-0700
TZNAME:PDT
DTSTART:20240310T100000
END:DAYLIGHT
BEGIN:STANDARD
TZOFFSETFROM:-0700
TZOFFSETTO:-0800
TZNAME:PST
DTSTART:20241103T090000
END:STANDARD
BEGIN:DAYLIGHT
TZOFFSETFROM:-0800
TZOFFSETTO:-0700
TZNAME:PDT
DTSTART:20250309T100000
END:DAYLIGHT
BEGIN:STANDARD
TZOFFSETFROM:-0700
TZOFFSETTO:-0800
TZNAME:PST
DTSTART:20251102T090000
END:STANDARD
BEGIN:DAYLIGHT
TZOFFSETFROM:-0800
TZOFFSETTO:-0700
TZNAME:PDT
DTSTART:20260308T100000
END:DAYLIGHT
BEGIN:STANDARD
TZOFFSETFROM:-0700
TZOFFSETTO:-0800
TZNAME:PST
DTSTART:20261101T090000
END:STANDARD
END:VTIMEZONE
BEGIN:VEVENT
DTSTART;TZID=America/Los_Angeles:20250802T080000
DTEND;TZID=America/Los_Angeles:20250802T130000
DTSTAMP:20260424T123520
CREATED:20250504T235937Z
LAST-MODIFIED:20250504T235937Z
UID:19340-1754121600-1754139600@artsalliancedavis.org
SUMMARY:Davis Farmers Market
DESCRIPTION:Year-round at Central Park in downtown Davis\, thousands gather each week to shop for what is grown\, raised\, and made locally at our markets. We are dedicated to bringing farmers right to your table\, so we stay open rain or shine. \nWalk rows of stalls lined with an array of fruits and vegetables\, including certified organic produce\, choice meats\, chicken\, seafood\, wine\, local eggs and honey. Choose from a variety of fresh-baked goods\, plants\, flowers and gifts. Enjoy a picnic from one of our many food stands\, made from market ingredients. \nSee the vendor list here: https://www.davisfarmersmarket.org/our-sellers/ \nFarmers Market Hours  \nCentral Park: Saturdays 8a–1p (year-round)\, and Wednesdays 3p–6p (October through April); 4p–8p (May through September)\nUC Davis – North Quad: Wednesdays 10a–1:30p (fall and spring quarters)\nSutter Davis Hospital: Thursdays 10a–1p (May through September)\nSutter Medical Center\, Sacramento: Thursdays 2:30p–5:30p \n 
URL:https://artsalliancedavis.org/event/davis-farmers-market-283/
LOCATION:Central Park\, 101 C St\, Davis\, CA\, United States
CATEGORIES:Bring the Kids,Food & Drink,Shopping
ATTACH;FMTTYPE=image/png:https://artsalliancedavis.org/wp-content/uploads/2022/10/davis-farmers-market-logo-KERN-ADJUST2-01-1-e1649900473633-4mwvRA.tmp_.png
ORGANIZER;CN="Davis Farmers Market":MAILTO:dfmpr@dcn.org
END:VEVENT
BEGIN:VEVENT
DTSTART;TZID=America/Los_Angeles:20250803T180000
DTEND;TZID=America/Los_Angeles:20250803T200000
DTSTAMP:20260424T123520
CREATED:20250506T112719Z
LAST-MODIFIED:20250506T112719Z
UID:19352-1754244000-1754251200@artsalliancedavis.org
SUMMARY:Music Bingo 🎶
DESCRIPTION:🎶 Music Bingo at Three Mile Brewing! 🎶\nJoin us on Sundays from 6-8 PM for a family-friendly night of Music Bingo at Three Mile Brewing! Test your music knowledge while enjoying some brews and good company. It’s the perfect way to end your weekend; you might even walk away with a prize! Whether you’re a music lover or just here for fun\, there’s something for everyone. Don’t miss out—bring the whole family\, you can thank us later! \n 
URL:https://artsalliancedavis.org/event/music-bingo-%f0%9f%8e%b6-47/
LOCATION:Three Mile Brewing
CATEGORIES:Food & Drink,Games
ATTACH;FMTTYPE=image/png:https://artsalliancedavis.org/wp-content/uploads/2024/09/Music-Facebook-Post-n3bvl5.tmp_.png
END:VEVENT
BEGIN:VEVENT
DTSTART;TZID=America/Los_Angeles:20250805T170000
DTEND;TZID=America/Los_Angeles:20250805T220000
DTSTAMP:20260424T123520
CREATED:20250508T121757Z
LAST-MODIFIED:20250508T121757Z
UID:19400-1754413200-1754431200@artsalliancedavis.org
SUMMARY:Drawing Club
DESCRIPTION:Every Tuesday from 5-10pm at Dunloe Brewing’s – The Local\, creative people of all levels are invited to participate in Drawing Club. Grab a cold drink and surround yourself with other people who want to draw. You can bring your own materials\, or work from the variety of materials that we provide from the free art supply pantry.
URL:https://artsalliancedavis.org/event/drawing-club-25/
LOCATION:Dunloe Brewing\, 1606 Olive Dr\, Davis\, 95616\, United States
CATEGORIES:Art,Community,Food & Drink
ATTACH;FMTTYPE=image/jpeg:https://artsalliancedavis.org/wp-content/uploads/2025/02/Untitled_Artwork-CxtnUh.tmp_.jpg
END:VEVENT
BEGIN:VEVENT
DTSTART;TZID=America/Los_Angeles:20250806T160000
DTEND;TZID=America/Los_Angeles:20250806T200000
DTSTAMP:20260424T123520
CREATED:20250508T121823Z
LAST-MODIFIED:20250508T121823Z
UID:19409-1754496000-1754510400@artsalliancedavis.org
SUMMARY:Picnic in the Park! Davis Farmers Market
DESCRIPTION:Year-round at Central Park in downtown Davis\, thousands gather each week to shop for what is grown\, raised\, and made locally at our markets. We are dedicated to bringing farmers right to your table\, so we stay open rain or shine. \nWalk rows of stalls lined with an array of fruits and vegetables\, including certified organic produce\, choice meats\, chicken\, seafood\, wine\, local eggs and honey. Choose from a variety of fresh-baked goods\, plants\, flowers and gifts. Enjoy a picnic from one of our many food stands\, made from market ingredients. \nSee the vendor list here: https://www.davisfarmersmarket.org/our-sellers/ \nFarmers Market Hours  \nCentral Park: Saturdays 8a–1p (year-round)\, and Wednesdays 3p–6p (October through April); 4p–8p (May through September)\nUC Davis – North Quad: Wednesdays 10a–1:30p (fall and spring quarters)\nSutter Davis Hospital: Thursdays 10a–1p (May through September)\nSutter Medical Center\, Sacramento: Thursdays 2:30p–5:30p \n 
URL:https://artsalliancedavis.org/event/picnic-in-the-park-davis-farmers-market-14/
LOCATION:Central Park\, 101 C St\, Davis\, CA\, United States
CATEGORIES:Bring the Kids,Food & Drink,Shopping
ATTACH;FMTTYPE=image/png:https://artsalliancedavis.org/wp-content/uploads/2022/10/davis-farmers-market-logo-KERN-ADJUST2-01-1-e1649900473633-4mwvRA.tmp_.png
ORGANIZER;CN="Davis Farmers Market":MAILTO:dfmpr@dcn.org
END:VEVENT
BEGIN:VEVENT
DTSTART;TZID=America/Los_Angeles:20250807T183000
DTEND;TZID=America/Los_Angeles:20250807T193000
DTSTAMP:20260424T123520
CREATED:20250509T124228Z
LAST-MODIFIED:20250509T124228Z
UID:19418-1754591400-1754595000@artsalliancedavis.org
SUMMARY:No Brain Drain Trivia
DESCRIPTION:Hosted by Preacher. \nTrivia+Comedy+Game Show = A Real Good Time
URL:https://artsalliancedavis.org/event/no-brain-drain-trivia-122/
LOCATION:1260 Lake Blvd\, Ste 121\, Davis\, CA 95616\, 1260 Lake Blvd\, Ste 121\, davis\, CA\, 95616\, United States
CATEGORIES:Food & Drink,Games
ATTACH;FMTTYPE=image/jpeg:https://artsalliancedavis.org/wp-content/uploads/2023/03/preacher-7TeQmJ.tmp_.jpg
ORGANIZER;CN="Super Owl Brewing":MAILTO:vida@superowlbrewing.com
END:VEVENT
BEGIN:VEVENT
DTSTART;TZID=America/Los_Angeles:20250809T080000
DTEND;TZID=America/Los_Angeles:20250809T130000
DTSTAMP:20260424T123520
CREATED:20250511T133128Z
LAST-MODIFIED:20250511T133128Z
UID:19442-1754726400-1754744400@artsalliancedavis.org
SUMMARY:Davis Farmers Market
DESCRIPTION:Year-round at Central Park in downtown Davis\, thousands gather each week to shop for what is grown\, raised\, and made locally at our markets. We are dedicated to bringing farmers right to your table\, so we stay open rain or shine. \nWalk rows of stalls lined with an array of fruits and vegetables\, including certified organic produce\, choice meats\, chicken\, seafood\, wine\, local eggs and honey. Choose from a variety of fresh-baked goods\, plants\, flowers and gifts. Enjoy a picnic from one of our many food stands\, made from market ingredients. \nSee the vendor list here: https://www.davisfarmersmarket.org/our-sellers/ \nFarmers Market Hours  \nCentral Park: Saturdays 8a–1p (year-round)\, and Wednesdays 3p–6p (October through April); 4p–8p (May through September)\nUC Davis – North Quad: Wednesdays 10a–1:30p (fall and spring quarters)\nSutter Davis Hospital: Thursdays 10a–1p (May through September)\nSutter Medical Center\, Sacramento: Thursdays 2:30p–5:30p \n 
URL:https://artsalliancedavis.org/event/davis-farmers-market-284/
LOCATION:Central Park\, 101 C St\, Davis\, CA\, United States
CATEGORIES:Bring the Kids,Food & Drink,Shopping
ATTACH;FMTTYPE=image/png:https://artsalliancedavis.org/wp-content/uploads/2022/10/davis-farmers-market-logo-KERN-ADJUST2-01-1-e1649900473633-4mwvRA.tmp_.png
ORGANIZER;CN="Davis Farmers Market":MAILTO:dfmpr@dcn.org
END:VEVENT
BEGIN:VEVENT
DTSTART;TZID=America/Los_Angeles:20250810T180000
DTEND;TZID=America/Los_Angeles:20250810T200000
DTSTAMP:20260424T123520
CREATED:20250512T135013Z
LAST-MODIFIED:20250512T135013Z
UID:19453-1754848800-1754856000@artsalliancedavis.org
SUMMARY:Music Bingo 🎶
DESCRIPTION:🎶 Music Bingo at Three Mile Brewing! 🎶\nJoin us on Sundays from 6-8 PM for a family-friendly night of Music Bingo at Three Mile Brewing! Test your music knowledge while enjoying some brews and good company. It’s the perfect way to end your weekend; you might even walk away with a prize! Whether you’re a music lover or just here for fun\, there’s something for everyone. Don’t miss out—bring the whole family\, you can thank us later! \n 
URL:https://artsalliancedavis.org/event/music-bingo-%f0%9f%8e%b6-48/
LOCATION:Three Mile Brewing
CATEGORIES:Food & Drink,Games
ATTACH;FMTTYPE=image/png:https://artsalliancedavis.org/wp-content/uploads/2024/09/Music-Facebook-Post-n3bvl5.tmp_.png
END:VEVENT
BEGIN:VEVENT
DTSTART;TZID=America/Los_Angeles:20250821T183000
DTEND;TZID=America/Los_Angeles:20250821T193000
DTSTAMP:20260424T123520
CREATED:20250821T141736Z
LAST-MODIFIED:20250821T141736Z
UID:19532-1755801000-1755804600@artsalliancedavis.org
SUMMARY:No Brain Drain Trivia
DESCRIPTION:Hosted by Preacher. \nTrivia+Comedy+Game Show = A Real Good Time
URL:https://artsalliancedavis.org/event/no-brain-drain-trivia-123/
LOCATION:1260 Lake Blvd\, Ste 121\, Davis\, CA 95616\, 1260 Lake Blvd\, Ste 121\, davis\, CA\, 95616\, United States
CATEGORIES:Food & Drink,Games
ATTACH;FMTTYPE=image/jpeg:https://artsalliancedavis.org/wp-content/uploads/2018/10/orange-white-aad-logo.jpg
ORGANIZER;CN="Super Owl Brewing":MAILTO:vida@superowlbrewing.com
END:VEVENT
BEGIN:VEVENT
DTSTART;TZID=America/Los_Angeles:20250821T183000
DTEND;TZID=America/Los_Angeles:20250821T193000
DTSTAMP:20260424T123520
CREATED:20250821T141736Z
LAST-MODIFIED:20250821T141736Z
UID:19533-1755801000-1755804600@artsalliancedavis.org
SUMMARY:No Brain Drain Trivia
DESCRIPTION:Hosted by Preacher. \nTrivia+Comedy+Game Show = A Real Good Time
URL:https://artsalliancedavis.org/event/no-brain-drain-trivia-124/
LOCATION:1260 Lake Blvd\, Ste 121\, Davis\, CA 95616\, 1260 Lake Blvd\, Ste 121\, davis\, CA\, 95616\, United States
CATEGORIES:Food & Drink,Games
ATTACH;FMTTYPE=image/jpeg:https://artsalliancedavis.org/wp-content/uploads/2018/10/orange-white-aad-logo.jpg
ORGANIZER;CN="Super Owl Brewing":MAILTO:vida@superowlbrewing.com
END:VEVENT
BEGIN:VEVENT
DTSTART;TZID=America/Los_Angeles:20250821T183000
DTEND;TZID=America/Los_Angeles:20250821T193000
DTSTAMP:20260424T123520
CREATED:20250821T141737Z
LAST-MODIFIED:20250821T141737Z
UID:19534-1755801000-1755804600@artsalliancedavis.org
SUMMARY:No Brain Drain Trivia
DESCRIPTION:Hosted by Preacher. \nTrivia+Comedy+Game Show = A Real Good Time
URL:https://artsalliancedavis.org/event/no-brain-drain-trivia-125/
LOCATION:1260 Lake Blvd\, Ste 121\, Davis\, CA 95616\, 1260 Lake Blvd\, Ste 121\, davis\, CA\, 95616\, United States
CATEGORIES:Food & Drink,Games
ATTACH;FMTTYPE=image/jpeg:https://artsalliancedavis.org/wp-content/uploads/2018/10/orange-white-aad-logo.jpg
ORGANIZER;CN="Super Owl Brewing":MAILTO:vida@superowlbrewing.com
END:VEVENT
BEGIN:VEVENT
DTSTART;TZID=America/Los_Angeles:20250821T183000
DTEND;TZID=America/Los_Angeles:20250821T193000
DTSTAMP:20260424T123520
CREATED:20250821T141737Z
LAST-MODIFIED:20250821T141737Z
UID:19535-1755801000-1755804600@artsalliancedavis.org
SUMMARY:No Brain Drain Trivia
DESCRIPTION:Hosted by Preacher. \nTrivia+Comedy+Game Show = A Real Good Time
URL:https://artsalliancedavis.org/event/no-brain-drain-trivia-126/
LOCATION:1260 Lake Blvd\, Ste 121\, Davis\, CA 95616\, 1260 Lake Blvd\, Ste 121\, davis\, CA\, 95616\, United States
CATEGORIES:Food & Drink,Games
ATTACH;FMTTYPE=image/jpeg:https://artsalliancedavis.org/wp-content/uploads/2018/10/orange-white-aad-logo.jpg
ORGANIZER;CN="Super Owl Brewing":MAILTO:vida@superowlbrewing.com
END:VEVENT
BEGIN:VEVENT
DTSTART;TZID=America/Los_Angeles:20250821T183000
DTEND;TZID=America/Los_Angeles:20250821T193000
DTSTAMP:20260424T123520
CREATED:20250821T141749Z
LAST-MODIFIED:20250821T141749Z
UID:19536-1755801000-1755804600@artsalliancedavis.org
SUMMARY:No Brain Drain Trivia
DESCRIPTION:Hosted by Preacher. \nTrivia+Comedy+Game Show = A Real Good Time
URL:https://artsalliancedavis.org/event/no-brain-drain-trivia-127/
LOCATION:1260 Lake Blvd\, Ste 121\, Davis\, CA 95616\, 1260 Lake Blvd\, Ste 121\, davis\, CA\, 95616\, United States
CATEGORIES:Food & Drink,Games
ATTACH;FMTTYPE=image/jpeg:https://artsalliancedavis.org/wp-content/uploads/2018/10/orange-white-aad-logo.jpg
ORGANIZER;CN="Super Owl Brewing":MAILTO:vida@superowlbrewing.com
END:VEVENT
BEGIN:VEVENT
DTSTART;TZID=America/Los_Angeles:20250821T183000
DTEND;TZID=America/Los_Angeles:20250821T193000
DTSTAMP:20260424T123520
CREATED:20250821T141750Z
LAST-MODIFIED:20250821T141750Z
UID:19539-1755801000-1755804600@artsalliancedavis.org
SUMMARY:No Brain Drain Trivia
DESCRIPTION:Hosted by Preacher. \nTrivia+Comedy+Game Show = A Real Good Time
URL:https://artsalliancedavis.org/event/no-brain-drain-trivia-130/
LOCATION:1260 Lake Blvd\, Ste 121\, Davis\, CA 95616\, 1260 Lake Blvd\, Ste 121\, davis\, CA\, 95616\, United States
CATEGORIES:Food & Drink,Games
ATTACH;FMTTYPE=image/jpeg:https://artsalliancedavis.org/wp-content/uploads/2018/10/orange-white-aad-logo.jpg
ORGANIZER;CN="Super Owl Brewing":MAILTO:vida@superowlbrewing.com
END:VEVENT
BEGIN:VEVENT
DTSTART;TZID=America/Los_Angeles:20250821T183000
DTEND;TZID=America/Los_Angeles:20250821T193000
DTSTAMP:20260424T123520
CREATED:20250821T141750Z
LAST-MODIFIED:20250821T141750Z
UID:19538-1755801000-1755804600@artsalliancedavis.org
SUMMARY:No Brain Drain Trivia
DESCRIPTION:Hosted by Preacher. \nTrivia+Comedy+Game Show = A Real Good Time
URL:https://artsalliancedavis.org/event/no-brain-drain-trivia-129/
LOCATION:1260 Lake Blvd\, Ste 121\, Davis\, CA 95616\, 1260 Lake Blvd\, Ste 121\, davis\, CA\, 95616\, United States
CATEGORIES:Food & Drink,Games
ATTACH;FMTTYPE=image/jpeg:https://artsalliancedavis.org/wp-content/uploads/2018/10/orange-white-aad-logo.jpg
ORGANIZER;CN="Super Owl Brewing":MAILTO:vida@superowlbrewing.com
END:VEVENT
BEGIN:VEVENT
DTSTART;TZID=America/Los_Angeles:20250821T183000
DTEND;TZID=America/Los_Angeles:20250821T193000
DTSTAMP:20260424T123520
CREATED:20250821T141750Z
LAST-MODIFIED:20250821T141750Z
UID:19537-1755801000-1755804600@artsalliancedavis.org
SUMMARY:No Brain Drain Trivia
DESCRIPTION:Hosted by Preacher. \nTrivia+Comedy+Game Show = A Real Good Time
URL:https://artsalliancedavis.org/event/no-brain-drain-trivia-128/
LOCATION:1260 Lake Blvd\, Ste 121\, Davis\, CA 95616\, 1260 Lake Blvd\, Ste 121\, davis\, CA\, 95616\, United States
CATEGORIES:Food & Drink,Games
ATTACH;FMTTYPE=image/jpeg:https://artsalliancedavis.org/wp-content/uploads/2018/10/orange-white-aad-logo.jpg
ORGANIZER;CN="Super Owl Brewing":MAILTO:vida@superowlbrewing.com
END:VEVENT
BEGIN:VEVENT
DTSTART;TZID=America/Los_Angeles:20250821T183000
DTEND;TZID=America/Los_Angeles:20250821T193000
DTSTAMP:20260424T123520
CREATED:20250821T141751Z
LAST-MODIFIED:20250821T141751Z
UID:19540-1755801000-1755804600@artsalliancedavis.org
SUMMARY:No Brain Drain Trivia
DESCRIPTION:Hosted by Preacher. \nTrivia+Comedy+Game Show = A Real Good Time
URL:https://artsalliancedavis.org/event/no-brain-drain-trivia-131/
LOCATION:1260 Lake Blvd\, Ste 121\, Davis\, CA 95616\, 1260 Lake Blvd\, Ste 121\, davis\, CA\, 95616\, United States
CATEGORIES:Food & Drink,Games
ATTACH;FMTTYPE=image/jpeg:https://artsalliancedavis.org/wp-content/uploads/2018/10/orange-white-aad-logo.jpg
ORGANIZER;CN="Super Owl Brewing":MAILTO:vida@superowlbrewing.com
END:VEVENT
BEGIN:VEVENT
DTSTART;TZID=America/Los_Angeles:20250821T183000
DTEND;TZID=America/Los_Angeles:20250821T193000
DTSTAMP:20260424T123520
CREATED:20250821T141751Z
LAST-MODIFIED:20250821T141751Z
UID:19541-1755801000-1755804600@artsalliancedavis.org
SUMMARY:No Brain Drain Trivia
DESCRIPTION:Hosted by Preacher. \nTrivia+Comedy+Game Show = A Real Good Time
URL:https://artsalliancedavis.org/event/no-brain-drain-trivia-132/
LOCATION:1260 Lake Blvd\, Ste 121\, Davis\, CA 95616\, 1260 Lake Blvd\, Ste 121\, davis\, CA\, 95616\, United States
CATEGORIES:Food & Drink,Games
ATTACH;FMTTYPE=image/jpeg:https://artsalliancedavis.org/wp-content/uploads/2018/10/orange-white-aad-logo.jpg
ORGANIZER;CN="Super Owl Brewing":MAILTO:vida@superowlbrewing.com
END:VEVENT
BEGIN:VEVENT
DTSTART;TZID=America/Los_Angeles:20250821T183000
DTEND;TZID=America/Los_Angeles:20250821T193000
DTSTAMP:20260424T123520
CREATED:20250821T141752Z
LAST-MODIFIED:20250821T141752Z
UID:19542-1755801000-1755804600@artsalliancedavis.org
SUMMARY:No Brain Drain Trivia
DESCRIPTION:Hosted by Preacher. \nTrivia+Comedy+Game Show = A Real Good Time
URL:https://artsalliancedavis.org/event/no-brain-drain-trivia-133/
LOCATION:1260 Lake Blvd\, Ste 121\, Davis\, CA 95616\, 1260 Lake Blvd\, Ste 121\, davis\, CA\, 95616\, United States
CATEGORIES:Food & Drink,Games
ATTACH;FMTTYPE=image/jpeg:https://artsalliancedavis.org/wp-content/uploads/2018/10/orange-white-aad-logo.jpg
ORGANIZER;CN="Super Owl Brewing":MAILTO:vida@superowlbrewing.com
END:VEVENT
BEGIN:VEVENT
DTSTART;TZID=America/Los_Angeles:20250821T183000
DTEND;TZID=America/Los_Angeles:20250821T193000
DTSTAMP:20260424T123520
CREATED:20250821T141752Z
LAST-MODIFIED:20250821T141752Z
UID:19543-1755801000-1755804600@artsalliancedavis.org
SUMMARY:No Brain Drain Trivia
DESCRIPTION:Hosted by Preacher. \nTrivia+Comedy+Game Show = A Real Good Time
URL:https://artsalliancedavis.org/event/no-brain-drain-trivia-134/
LOCATION:1260 Lake Blvd\, Ste 121\, Davis\, CA 95616\, 1260 Lake Blvd\, Ste 121\, davis\, CA\, 95616\, United States
CATEGORIES:Food & Drink,Games
ATTACH;FMTTYPE=image/jpeg:https://artsalliancedavis.org/wp-content/uploads/2018/10/orange-white-aad-logo.jpg
ORGANIZER;CN="Super Owl Brewing":MAILTO:vida@superowlbrewing.com
END:VEVENT
BEGIN:VEVENT
DTSTART;TZID=America/Los_Angeles:20250821T183000
DTEND;TZID=America/Los_Angeles:20250821T193000
DTSTAMP:20260424T123520
CREATED:20250821T141752Z
LAST-MODIFIED:20250821T141752Z
UID:19544-1755801000-1755804600@artsalliancedavis.org
SUMMARY:No Brain Drain Trivia
DESCRIPTION:Hosted by Preacher. \nTrivia+Comedy+Game Show = A Real Good Time
URL:https://artsalliancedavis.org/event/no-brain-drain-trivia-135/
LOCATION:1260 Lake Blvd\, Ste 121\, Davis\, CA 95616\, 1260 Lake Blvd\, Ste 121\, davis\, CA\, 95616\, United States
CATEGORIES:Food & Drink,Games
ATTACH;FMTTYPE=image/jpeg:https://artsalliancedavis.org/wp-content/uploads/2018/10/orange-white-aad-logo.jpg
ORGANIZER;CN="Super Owl Brewing":MAILTO:vida@superowlbrewing.com
END:VEVENT
BEGIN:VEVENT
DTSTART;TZID=America/Los_Angeles:20250821T183000
DTEND;TZID=America/Los_Angeles:20250821T193000
DTSTAMP:20260424T123520
CREATED:20250821T141753Z
LAST-MODIFIED:20250821T141753Z
UID:19545-1755801000-1755804600@artsalliancedavis.org
SUMMARY:No Brain Drain Trivia
DESCRIPTION:Hosted by Preacher. \nTrivia+Comedy+Game Show = A Real Good Time
URL:https://artsalliancedavis.org/event/no-brain-drain-trivia-136/
LOCATION:1260 Lake Blvd\, Ste 121\, Davis\, CA 95616\, 1260 Lake Blvd\, Ste 121\, davis\, CA\, 95616\, United States
CATEGORIES:Food & Drink,Games
ATTACH;FMTTYPE=image/jpeg:https://artsalliancedavis.org/wp-content/uploads/2018/10/orange-white-aad-logo.jpg
ORGANIZER;CN="Super Owl Brewing":MAILTO:vida@superowlbrewing.com
END:VEVENT
BEGIN:VEVENT
DTSTART;TZID=America/Los_Angeles:20250821T183000
DTEND;TZID=America/Los_Angeles:20250821T193000
DTSTAMP:20260424T123520
CREATED:20250821T141806Z
LAST-MODIFIED:20250821T141806Z
UID:19546-1755801000-1755804600@artsalliancedavis.org
SUMMARY:No Brain Drain Trivia
DESCRIPTION:Hosted by Preacher. \nTrivia+Comedy+Game Show = A Real Good Time
URL:https://artsalliancedavis.org/event/no-brain-drain-trivia-137/
LOCATION:1260 Lake Blvd\, Ste 121\, Davis\, CA 95616\, 1260 Lake Blvd\, Ste 121\, davis\, CA\, 95616\, United States
CATEGORIES:Food & Drink,Games
ATTACH;FMTTYPE=image/jpeg:https://artsalliancedavis.org/wp-content/uploads/2018/10/orange-white-aad-logo.jpg
ORGANIZER;CN="Super Owl Brewing":MAILTO:vida@superowlbrewing.com
END:VEVENT
BEGIN:VEVENT
DTSTART;TZID=America/Los_Angeles:20250821T183000
DTEND;TZID=America/Los_Angeles:20250821T193000
DTSTAMP:20260424T123520
CREATED:20250821T141807Z
LAST-MODIFIED:20250821T141807Z
UID:19549-1755801000-1755804600@artsalliancedavis.org
SUMMARY:No Brain Drain Trivia
DESCRIPTION:Hosted by Preacher. \nTrivia+Comedy+Game Show = A Real Good Time
URL:https://artsalliancedavis.org/event/no-brain-drain-trivia-140/
LOCATION:1260 Lake Blvd\, Ste 121\, Davis\, CA 95616\, 1260 Lake Blvd\, Ste 121\, davis\, CA\, 95616\, United States
CATEGORIES:Food & Drink,Games
ATTACH;FMTTYPE=image/jpeg:https://artsalliancedavis.org/wp-content/uploads/2018/10/orange-white-aad-logo.jpg
ORGANIZER;CN="Super Owl Brewing":MAILTO:vida@superowlbrewing.com
END:VEVENT
BEGIN:VEVENT
DTSTART;TZID=America/Los_Angeles:20250821T183000
DTEND;TZID=America/Los_Angeles:20250821T193000
DTSTAMP:20260424T123520
CREATED:20250821T141807Z
LAST-MODIFIED:20250821T141807Z
UID:19548-1755801000-1755804600@artsalliancedavis.org
SUMMARY:No Brain Drain Trivia
DESCRIPTION:Hosted by Preacher. \nTrivia+Comedy+Game Show = A Real Good Time
URL:https://artsalliancedavis.org/event/no-brain-drain-trivia-139/
LOCATION:1260 Lake Blvd\, Ste 121\, Davis\, CA 95616\, 1260 Lake Blvd\, Ste 121\, davis\, CA\, 95616\, United States
CATEGORIES:Food & Drink,Games
ATTACH;FMTTYPE=image/jpeg:https://artsalliancedavis.org/wp-content/uploads/2018/10/orange-white-aad-logo.jpg
ORGANIZER;CN="Super Owl Brewing":MAILTO:vida@superowlbrewing.com
END:VEVENT
BEGIN:VEVENT
DTSTART;TZID=America/Los_Angeles:20250821T183000
DTEND;TZID=America/Los_Angeles:20250821T193000
DTSTAMP:20260424T123520
CREATED:20250821T141807Z
LAST-MODIFIED:20250821T141807Z
UID:19547-1755801000-1755804600@artsalliancedavis.org
SUMMARY:No Brain Drain Trivia
DESCRIPTION:Hosted by Preacher. \nTrivia+Comedy+Game Show = A Real Good Time
URL:https://artsalliancedavis.org/event/no-brain-drain-trivia-138/
LOCATION:1260 Lake Blvd\, Ste 121\, Davis\, CA 95616\, 1260 Lake Blvd\, Ste 121\, davis\, CA\, 95616\, United States
CATEGORIES:Food & Drink,Games
ATTACH;FMTTYPE=image/jpeg:https://artsalliancedavis.org/wp-content/uploads/2018/10/orange-white-aad-logo.jpg
ORGANIZER;CN="Super Owl Brewing":MAILTO:vida@superowlbrewing.com
END:VEVENT
BEGIN:VEVENT
DTSTART;TZID=America/Los_Angeles:20250821T183000
DTEND;TZID=America/Los_Angeles:20250821T193000
DTSTAMP:20260424T123520
CREATED:20250821T141808Z
LAST-MODIFIED:20250821T141808Z
UID:19550-1755801000-1755804600@artsalliancedavis.org
SUMMARY:No Brain Drain Trivia
DESCRIPTION:Hosted by Preacher. \nTrivia+Comedy+Game Show = A Real Good Time
URL:https://artsalliancedavis.org/event/no-brain-drain-trivia-141/
LOCATION:1260 Lake Blvd\, Ste 121\, Davis\, CA 95616\, 1260 Lake Blvd\, Ste 121\, davis\, CA\, 95616\, United States
CATEGORIES:Food & Drink,Games
ATTACH;FMTTYPE=image/jpeg:https://artsalliancedavis.org/wp-content/uploads/2018/10/orange-white-aad-logo.jpg
ORGANIZER;CN="Super Owl Brewing":MAILTO:vida@superowlbrewing.com
END:VEVENT
BEGIN:VEVENT
DTSTART;TZID=America/Los_Angeles:20250821T183000
DTEND;TZID=America/Los_Angeles:20250821T193000
DTSTAMP:20260424T123520
CREATED:20250821T141808Z
LAST-MODIFIED:20250821T141808Z
UID:19551-1755801000-1755804600@artsalliancedavis.org
SUMMARY:No Brain Drain Trivia
DESCRIPTION:Hosted by Preacher. \nTrivia+Comedy+Game Show = A Real Good Time
URL:https://artsalliancedavis.org/event/no-brain-drain-trivia-142/
LOCATION:1260 Lake Blvd\, Ste 121\, Davis\, CA 95616\, 1260 Lake Blvd\, Ste 121\, davis\, CA\, 95616\, United States
CATEGORIES:Food & Drink,Games
ATTACH;FMTTYPE=image/jpeg:https://artsalliancedavis.org/wp-content/uploads/2018/10/orange-white-aad-logo.jpg
ORGANIZER;CN="Super Owl Brewing":MAILTO:vida@superowlbrewing.com
END:VEVENT
BEGIN:VEVENT
DTSTART;TZID=America/Los_Angeles:20250821T183000
DTEND;TZID=America/Los_Angeles:20250821T193000
DTSTAMP:20260424T123520
CREATED:20250821T141808Z
LAST-MODIFIED:20250821T141808Z
UID:19552-1755801000-1755804600@artsalliancedavis.org
SUMMARY:No Brain Drain Trivia
DESCRIPTION:Hosted by Preacher. \nTrivia+Comedy+Game Show = A Real Good Time
URL:https://artsalliancedavis.org/event/no-brain-drain-trivia-143/
LOCATION:1260 Lake Blvd\, Ste 121\, Davis\, CA 95616\, 1260 Lake Blvd\, Ste 121\, davis\, CA\, 95616\, United States
CATEGORIES:Food & Drink,Games
ATTACH;FMTTYPE=image/jpeg:https://artsalliancedavis.org/wp-content/uploads/2018/10/orange-white-aad-logo.jpg
ORGANIZER;CN="Super Owl Brewing":MAILTO:vida@superowlbrewing.com
END:VEVENT
BEGIN:VEVENT
DTSTART;TZID=America/Los_Angeles:20250821T183000
DTEND;TZID=America/Los_Angeles:20250821T193000
DTSTAMP:20260424T123520
CREATED:20250821T141809Z
LAST-MODIFIED:20250821T141809Z
UID:19553-1755801000-1755804600@artsalliancedavis.org
SUMMARY:No Brain Drain Trivia
DESCRIPTION:Hosted by Preacher. \nTrivia+Comedy+Game Show = A Real Good Time
URL:https://artsalliancedavis.org/event/no-brain-drain-trivia-144/
LOCATION:1260 Lake Blvd\, Ste 121\, Davis\, CA 95616\, 1260 Lake Blvd\, Ste 121\, davis\, CA\, 95616\, United States
CATEGORIES:Food & Drink,Games
ATTACH;FMTTYPE=image/jpeg:https://artsalliancedavis.org/wp-content/uploads/2018/10/orange-white-aad-logo.jpg
ORGANIZER;CN="Super Owl Brewing":MAILTO:vida@superowlbrewing.com
END:VEVENT
BEGIN:VEVENT
DTSTART;TZID=America/Los_Angeles:20250821T183000
DTEND;TZID=America/Los_Angeles:20250821T193000
DTSTAMP:20260424T123520
CREATED:20250821T141809Z
LAST-MODIFIED:20250821T141809Z
UID:19554-1755801000-1755804600@artsalliancedavis.org
SUMMARY:No Brain Drain Trivia
DESCRIPTION:Hosted by Preacher. \nTrivia+Comedy+Game Show = A Real Good Time
URL:https://artsalliancedavis.org/event/no-brain-drain-trivia-145/
LOCATION:1260 Lake Blvd\, Ste 121\, Davis\, CA 95616\, 1260 Lake Blvd\, Ste 121\, davis\, CA\, 95616\, United States
CATEGORIES:Food & Drink,Games
ATTACH;FMTTYPE=image/jpeg:https://artsalliancedavis.org/wp-content/uploads/2018/10/orange-white-aad-logo.jpg
ORGANIZER;CN="Super Owl Brewing":MAILTO:vida@superowlbrewing.com
END:VEVENT
END:VCALENDAR