BEGIN:VCALENDAR
VERSION:2.0
PRODID:-//Arts Alliance Davis - ECPv6.15.20//NONSGML v1.0//EN
CALSCALE:GREGORIAN
METHOD:PUBLISH
X-ORIGINAL-URL:https://artsalliancedavis.org
X-WR-CALDESC:Events for Arts Alliance Davis
REFRESH-INTERVAL;VALUE=DURATION:PT1H
X-Robots-Tag:noindex
X-PUBLISHED-TTL:PT1H
BEGIN:VTIMEZONE
TZID:America/Los_Angeles
BEGIN:DAYLIGHT
TZOFFSETFROM:-0800
TZOFFSETTO:-0700
TZNAME:PDT
DTSTART:20240310T100000
END:DAYLIGHT
BEGIN:STANDARD
TZOFFSETFROM:-0700
TZOFFSETTO:-0800
TZNAME:PST
DTSTART:20241103T090000
END:STANDARD
BEGIN:DAYLIGHT
TZOFFSETFROM:-0800
TZOFFSETTO:-0700
TZNAME:PDT
DTSTART:20250309T100000
END:DAYLIGHT
BEGIN:STANDARD
TZOFFSETFROM:-0700
TZOFFSETTO:-0800
TZNAME:PST
DTSTART:20251102T090000
END:STANDARD
BEGIN:DAYLIGHT
TZOFFSETFROM:-0800
TZOFFSETTO:-0700
TZNAME:PDT
DTSTART:20260308T100000
END:DAYLIGHT
BEGIN:STANDARD
TZOFFSETFROM:-0700
TZOFFSETTO:-0800
TZNAME:PST
DTSTART:20261101T090000
END:STANDARD
END:VTIMEZONE
BEGIN:VEVENT
DTSTART;TZID=America/Los_Angeles:20250902T170000
DTEND;TZID=America/Los_Angeles:20250902T220000
DTSTAMP:20260424T083025
CREATED:20250821T142249Z
LAST-MODIFIED:20250821T142249Z
UID:19703-1756832400-1756850400@artsalliancedavis.org
SUMMARY:Drawing Club
DESCRIPTION:Every Tuesday from 5-10pm at Dunloe Brewing’s – The Local\, creative people of all levels are invited to participate in Drawing Club. Grab a cold drink and surround yourself with other people who want to draw. You can bring your own materials\, or work from the variety of materials that we provide from the free art supply pantry.
URL:https://artsalliancedavis.org/event/drawing-club-28/
LOCATION:Dunloe Brewing\, 1606 Olive Dr\, Davis\, 95616\, United States
CATEGORIES:Art,Community,Food & Drink
ATTACH;FMTTYPE=image/jpeg:https://artsalliancedavis.org/wp-content/uploads/2025/02/Untitled_Artwork-CxtnUh.tmp_.jpg
END:VEVENT
BEGIN:VEVENT
DTSTART;TZID=America/Los_Angeles:20250903T160000
DTEND;TZID=America/Los_Angeles:20250903T200000
DTSTAMP:20260424T083025
CREATED:20250821T142323Z
LAST-MODIFIED:20250821T142323Z
UID:19718-1756915200-1756929600@artsalliancedavis.org
SUMMARY:Picnic in the Park! Davis Farmers Market
DESCRIPTION:Year-round at Central Park in downtown Davis\, thousands gather each week to shop for what is grown\, raised\, and made locally at our markets. We are dedicated to bringing farmers right to your table\, so we stay open rain or shine. \nWalk rows of stalls lined with an array of fruits and vegetables\, including certified organic produce\, choice meats\, chicken\, seafood\, wine\, local eggs and honey. Choose from a variety of fresh-baked goods\, plants\, flowers and gifts. Enjoy a picnic from one of our many food stands\, made from market ingredients. \nSee the vendor list here: https://www.davisfarmersmarket.org/our-sellers/ \nFarmers Market Hours  \nCentral Park: Saturdays 8a–1p (year-round)\, and Wednesdays 3p–6p (October through April); 4p–8p (May through September)\nUC Davis – North Quad: Wednesdays 10a–1:30p (fall and spring quarters)\nSutter Davis Hospital: Thursdays 10a–1p (May through September)\nSutter Medical Center\, Sacramento: Thursdays 2:30p–5:30p \n 
URL:https://artsalliancedavis.org/event/picnic-in-the-park-davis-farmers-market-16/
LOCATION:Central Park\, 101 C St\, Davis\, CA\, United States
CATEGORIES:Bring the Kids,Food & Drink,Shopping
ATTACH;FMTTYPE=image/png:https://artsalliancedavis.org/wp-content/uploads/2022/10/davis-farmers-market-logo-KERN-ADJUST2-01-1-e1649900473633-4mwvRA.tmp_.png
ORGANIZER;CN="Davis Farmers Market":MAILTO:dfmpr@dcn.org
END:VEVENT
BEGIN:VEVENT
DTSTART;TZID=America/Los_Angeles:20250904T183000
DTEND;TZID=America/Los_Angeles:20250904T193000
DTSTAMP:20260424T083025
CREATED:20250821T142325Z
LAST-MODIFIED:20250821T142325Z
UID:19726-1757010600-1757014200@artsalliancedavis.org
SUMMARY:No Brain Drain Trivia
DESCRIPTION:Hosted by Preacher. \nTrivia+Comedy+Game Show = A Real Good Time
URL:https://artsalliancedavis.org/event/no-brain-drain-trivia-172/
LOCATION:1260 Lake Blvd\, Ste 121\, Davis\, CA 95616\, 1260 Lake Blvd\, Ste 121\, davis\, CA\, 95616\, United States
CATEGORIES:Food & Drink,Games
ATTACH;FMTTYPE=image/jpeg:https://artsalliancedavis.org/wp-content/uploads/2018/10/orange-white-aad-logo.jpg
ORGANIZER;CN="Super Owl Brewing":MAILTO:vida@superowlbrewing.com
END:VEVENT
BEGIN:VEVENT
DTSTART;TZID=America/Los_Angeles:20250904T183000
DTEND;TZID=America/Los_Angeles:20250904T193000
DTSTAMP:20260424T083025
CREATED:20250821T142338Z
LAST-MODIFIED:20250821T142338Z
UID:19727-1757010600-1757014200@artsalliancedavis.org
SUMMARY:No Brain Drain Trivia
DESCRIPTION:Hosted by Preacher. \nTrivia+Comedy+Game Show = A Real Good Time
URL:https://artsalliancedavis.org/event/no-brain-drain-trivia-173/
LOCATION:1260 Lake Blvd\, Ste 121\, Davis\, CA 95616\, 1260 Lake Blvd\, Ste 121\, davis\, CA\, 95616\, United States
CATEGORIES:Food & Drink,Games
ATTACH;FMTTYPE=image/jpeg:https://artsalliancedavis.org/wp-content/uploads/2018/10/orange-white-aad-logo.jpg
ORGANIZER;CN="Super Owl Brewing":MAILTO:vida@superowlbrewing.com
END:VEVENT
BEGIN:VEVENT
DTSTART;TZID=America/Los_Angeles:20250904T183000
DTEND;TZID=America/Los_Angeles:20250904T193000
DTSTAMP:20260424T083025
CREATED:20250821T142339Z
LAST-MODIFIED:20250821T142339Z
UID:19728-1757010600-1757014200@artsalliancedavis.org
SUMMARY:No Brain Drain Trivia
DESCRIPTION:Hosted by Preacher. \nTrivia+Comedy+Game Show = A Real Good Time
URL:https://artsalliancedavis.org/event/no-brain-drain-trivia-174/
LOCATION:1260 Lake Blvd\, Ste 121\, Davis\, CA 95616\, 1260 Lake Blvd\, Ste 121\, davis\, CA\, 95616\, United States
CATEGORIES:Food & Drink,Games
ATTACH;FMTTYPE=image/jpeg:https://artsalliancedavis.org/wp-content/uploads/2018/10/orange-white-aad-logo.jpg
ORGANIZER;CN="Super Owl Brewing":MAILTO:vida@superowlbrewing.com
END:VEVENT
BEGIN:VEVENT
DTSTART;TZID=America/Los_Angeles:20250904T183000
DTEND;TZID=America/Los_Angeles:20250904T193000
DTSTAMP:20260424T083025
CREATED:20250821T142339Z
LAST-MODIFIED:20250821T142339Z
UID:19729-1757010600-1757014200@artsalliancedavis.org
SUMMARY:No Brain Drain Trivia
DESCRIPTION:Hosted by Preacher. \nTrivia+Comedy+Game Show = A Real Good Time
URL:https://artsalliancedavis.org/event/no-brain-drain-trivia-175/
LOCATION:1260 Lake Blvd\, Ste 121\, Davis\, CA 95616\, 1260 Lake Blvd\, Ste 121\, davis\, CA\, 95616\, United States
CATEGORIES:Food & Drink,Games
ATTACH;FMTTYPE=image/jpeg:https://artsalliancedavis.org/wp-content/uploads/2018/10/orange-white-aad-logo.jpg
ORGANIZER;CN="Super Owl Brewing":MAILTO:vida@superowlbrewing.com
END:VEVENT
BEGIN:VEVENT
DTSTART;TZID=America/Los_Angeles:20250904T183000
DTEND;TZID=America/Los_Angeles:20250904T193000
DTSTAMP:20260424T083025
CREATED:20250821T142339Z
LAST-MODIFIED:20250821T142339Z
UID:19730-1757010600-1757014200@artsalliancedavis.org
SUMMARY:No Brain Drain Trivia
DESCRIPTION:Hosted by Preacher. \nTrivia+Comedy+Game Show = A Real Good Time
URL:https://artsalliancedavis.org/event/no-brain-drain-trivia-176/
LOCATION:1260 Lake Blvd\, Ste 121\, Davis\, CA 95616\, 1260 Lake Blvd\, Ste 121\, davis\, CA\, 95616\, United States
CATEGORIES:Food & Drink,Games
ATTACH;FMTTYPE=image/jpeg:https://artsalliancedavis.org/wp-content/uploads/2018/10/orange-white-aad-logo.jpg
ORGANIZER;CN="Super Owl Brewing":MAILTO:vida@superowlbrewing.com
END:VEVENT
BEGIN:VEVENT
DTSTART;TZID=America/Los_Angeles:20250904T183000
DTEND;TZID=America/Los_Angeles:20250904T193000
DTSTAMP:20260424T083025
CREATED:20250821T142340Z
LAST-MODIFIED:20250821T142340Z
UID:19731-1757010600-1757014200@artsalliancedavis.org
SUMMARY:No Brain Drain Trivia
DESCRIPTION:Hosted by Preacher. \nTrivia+Comedy+Game Show = A Real Good Time
URL:https://artsalliancedavis.org/event/no-brain-drain-trivia-177/
LOCATION:1260 Lake Blvd\, Ste 121\, Davis\, CA 95616\, 1260 Lake Blvd\, Ste 121\, davis\, CA\, 95616\, United States
CATEGORIES:Food & Drink,Games
ATTACH;FMTTYPE=image/jpeg:https://artsalliancedavis.org/wp-content/uploads/2018/10/orange-white-aad-logo.jpg
ORGANIZER;CN="Super Owl Brewing":MAILTO:vida@superowlbrewing.com
END:VEVENT
BEGIN:VEVENT
DTSTART;TZID=America/Los_Angeles:20250904T183000
DTEND;TZID=America/Los_Angeles:20250904T193000
DTSTAMP:20260424T083025
CREATED:20250821T142340Z
LAST-MODIFIED:20250821T142340Z
UID:19732-1757010600-1757014200@artsalliancedavis.org
SUMMARY:No Brain Drain Trivia
DESCRIPTION:Hosted by Preacher. \nTrivia+Comedy+Game Show = A Real Good Time
URL:https://artsalliancedavis.org/event/no-brain-drain-trivia-178/
LOCATION:1260 Lake Blvd\, Ste 121\, Davis\, CA 95616\, 1260 Lake Blvd\, Ste 121\, davis\, CA\, 95616\, United States
CATEGORIES:Food & Drink,Games
ATTACH;FMTTYPE=image/jpeg:https://artsalliancedavis.org/wp-content/uploads/2018/10/orange-white-aad-logo.jpg
ORGANIZER;CN="Super Owl Brewing":MAILTO:vida@superowlbrewing.com
END:VEVENT
BEGIN:VEVENT
DTSTART;TZID=America/Los_Angeles:20250904T183000
DTEND;TZID=America/Los_Angeles:20250904T193000
DTSTAMP:20260424T083025
CREATED:20250821T142341Z
LAST-MODIFIED:20250821T142341Z
UID:19733-1757010600-1757014200@artsalliancedavis.org
SUMMARY:No Brain Drain Trivia
DESCRIPTION:Hosted by Preacher. \nTrivia+Comedy+Game Show = A Real Good Time
URL:https://artsalliancedavis.org/event/no-brain-drain-trivia-179/
LOCATION:1260 Lake Blvd\, Ste 121\, Davis\, CA 95616\, 1260 Lake Blvd\, Ste 121\, davis\, CA\, 95616\, United States
CATEGORIES:Food & Drink,Games
ATTACH;FMTTYPE=image/jpeg:https://artsalliancedavis.org/wp-content/uploads/2018/10/orange-white-aad-logo.jpg
ORGANIZER;CN="Super Owl Brewing":MAILTO:vida@superowlbrewing.com
END:VEVENT
BEGIN:VEVENT
DTSTART;TZID=America/Los_Angeles:20250904T183000
DTEND;TZID=America/Los_Angeles:20250904T193000
DTSTAMP:20260424T083025
CREATED:20250821T142341Z
LAST-MODIFIED:20250821T142341Z
UID:19734-1757010600-1757014200@artsalliancedavis.org
SUMMARY:No Brain Drain Trivia
DESCRIPTION:Hosted by Preacher. \nTrivia+Comedy+Game Show = A Real Good Time
URL:https://artsalliancedavis.org/event/no-brain-drain-trivia-180/
LOCATION:1260 Lake Blvd\, Ste 121\, Davis\, CA 95616\, 1260 Lake Blvd\, Ste 121\, davis\, CA\, 95616\, United States
CATEGORIES:Food & Drink,Games
ATTACH;FMTTYPE=image/jpeg:https://artsalliancedavis.org/wp-content/uploads/2018/10/orange-white-aad-logo.jpg
ORGANIZER;CN="Super Owl Brewing":MAILTO:vida@superowlbrewing.com
END:VEVENT
BEGIN:VEVENT
DTSTART;TZID=America/Los_Angeles:20250904T183000
DTEND;TZID=America/Los_Angeles:20250904T193000
DTSTAMP:20260424T083025
CREATED:20250821T142342Z
LAST-MODIFIED:20250821T142342Z
UID:19735-1757010600-1757014200@artsalliancedavis.org
SUMMARY:No Brain Drain Trivia
DESCRIPTION:Hosted by Preacher. \nTrivia+Comedy+Game Show = A Real Good Time
URL:https://artsalliancedavis.org/event/no-brain-drain-trivia-181/
LOCATION:1260 Lake Blvd\, Ste 121\, Davis\, CA 95616\, 1260 Lake Blvd\, Ste 121\, davis\, CA\, 95616\, United States
CATEGORIES:Food & Drink,Games
ATTACH;FMTTYPE=image/jpeg:https://artsalliancedavis.org/wp-content/uploads/2018/10/orange-white-aad-logo.jpg
ORGANIZER;CN="Super Owl Brewing":MAILTO:vida@superowlbrewing.com
END:VEVENT
BEGIN:VEVENT
DTSTART;TZID=America/Los_Angeles:20250904T183000
DTEND;TZID=America/Los_Angeles:20250904T193000
DTSTAMP:20260424T083025
CREATED:20250821T142342Z
LAST-MODIFIED:20250821T142342Z
UID:19736-1757010600-1757014200@artsalliancedavis.org
SUMMARY:No Brain Drain Trivia
DESCRIPTION:Hosted by Preacher. \nTrivia+Comedy+Game Show = A Real Good Time
URL:https://artsalliancedavis.org/event/no-brain-drain-trivia-182/
LOCATION:1260 Lake Blvd\, Ste 121\, Davis\, CA 95616\, 1260 Lake Blvd\, Ste 121\, davis\, CA\, 95616\, United States
CATEGORIES:Food & Drink,Games
ATTACH;FMTTYPE=image/jpeg:https://artsalliancedavis.org/wp-content/uploads/2018/10/orange-white-aad-logo.jpg
ORGANIZER;CN="Super Owl Brewing":MAILTO:vida@superowlbrewing.com
END:VEVENT
BEGIN:VEVENT
DTSTART;TZID=America/Los_Angeles:20250904T183000
DTEND;TZID=America/Los_Angeles:20250904T193000
DTSTAMP:20260424T083025
CREATED:20250821T142354Z
LAST-MODIFIED:20250821T142354Z
UID:19737-1757010600-1757014200@artsalliancedavis.org
SUMMARY:No Brain Drain Trivia
DESCRIPTION:Hosted by Preacher. \nTrivia+Comedy+Game Show = A Real Good Time
URL:https://artsalliancedavis.org/event/no-brain-drain-trivia-183/
LOCATION:1260 Lake Blvd\, Ste 121\, Davis\, CA 95616\, 1260 Lake Blvd\, Ste 121\, davis\, CA\, 95616\, United States
CATEGORIES:Food & Drink,Games
ATTACH;FMTTYPE=image/jpeg:https://artsalliancedavis.org/wp-content/uploads/2018/10/orange-white-aad-logo.jpg
ORGANIZER;CN="Super Owl Brewing":MAILTO:vida@superowlbrewing.com
END:VEVENT
BEGIN:VEVENT
DTSTART;TZID=America/Los_Angeles:20250904T183000
DTEND;TZID=America/Los_Angeles:20250904T193000
DTSTAMP:20260424T083025
CREATED:20250821T142355Z
LAST-MODIFIED:20250821T142355Z
UID:19738-1757010600-1757014200@artsalliancedavis.org
SUMMARY:No Brain Drain Trivia
DESCRIPTION:Hosted by Preacher. \nTrivia+Comedy+Game Show = A Real Good Time
URL:https://artsalliancedavis.org/event/no-brain-drain-trivia-184/
LOCATION:1260 Lake Blvd\, Ste 121\, Davis\, CA 95616\, 1260 Lake Blvd\, Ste 121\, davis\, CA\, 95616\, United States
CATEGORIES:Food & Drink,Games
ATTACH;FMTTYPE=image/jpeg:https://artsalliancedavis.org/wp-content/uploads/2018/10/orange-white-aad-logo.jpg
ORGANIZER;CN="Super Owl Brewing":MAILTO:vida@superowlbrewing.com
END:VEVENT
BEGIN:VEVENT
DTSTART;TZID=America/Los_Angeles:20250904T183000
DTEND;TZID=America/Los_Angeles:20250904T193000
DTSTAMP:20260424T083025
CREATED:20250821T142355Z
LAST-MODIFIED:20250821T142355Z
UID:19739-1757010600-1757014200@artsalliancedavis.org
SUMMARY:No Brain Drain Trivia
DESCRIPTION:Hosted by Preacher. \nTrivia+Comedy+Game Show = A Real Good Time
URL:https://artsalliancedavis.org/event/no-brain-drain-trivia-185/
LOCATION:1260 Lake Blvd\, Ste 121\, Davis\, CA 95616\, 1260 Lake Blvd\, Ste 121\, davis\, CA\, 95616\, United States
CATEGORIES:Food & Drink,Games
ATTACH;FMTTYPE=image/jpeg:https://artsalliancedavis.org/wp-content/uploads/2018/10/orange-white-aad-logo.jpg
ORGANIZER;CN="Super Owl Brewing":MAILTO:vida@superowlbrewing.com
END:VEVENT
BEGIN:VEVENT
DTSTART;TZID=America/Los_Angeles:20250904T183000
DTEND;TZID=America/Los_Angeles:20250904T193000
DTSTAMP:20260424T083025
CREATED:20250821T142355Z
LAST-MODIFIED:20250821T142355Z
UID:19740-1757010600-1757014200@artsalliancedavis.org
SUMMARY:No Brain Drain Trivia
DESCRIPTION:Hosted by Preacher. \nTrivia+Comedy+Game Show = A Real Good Time
URL:https://artsalliancedavis.org/event/no-brain-drain-trivia-186/
LOCATION:1260 Lake Blvd\, Ste 121\, Davis\, CA 95616\, 1260 Lake Blvd\, Ste 121\, davis\, CA\, 95616\, United States
CATEGORIES:Food & Drink,Games
ATTACH;FMTTYPE=image/jpeg:https://artsalliancedavis.org/wp-content/uploads/2018/10/orange-white-aad-logo.jpg
ORGANIZER;CN="Super Owl Brewing":MAILTO:vida@superowlbrewing.com
END:VEVENT
BEGIN:VEVENT
DTSTART;TZID=America/Los_Angeles:20250904T183000
DTEND;TZID=America/Los_Angeles:20250904T193000
DTSTAMP:20260424T083025
CREATED:20250821T142356Z
LAST-MODIFIED:20250821T142356Z
UID:19741-1757010600-1757014200@artsalliancedavis.org
SUMMARY:No Brain Drain Trivia
DESCRIPTION:Hosted by Preacher. \nTrivia+Comedy+Game Show = A Real Good Time
URL:https://artsalliancedavis.org/event/no-brain-drain-trivia-187/
LOCATION:1260 Lake Blvd\, Ste 121\, Davis\, CA 95616\, 1260 Lake Blvd\, Ste 121\, davis\, CA\, 95616\, United States
CATEGORIES:Food & Drink,Games
ATTACH;FMTTYPE=image/jpeg:https://artsalliancedavis.org/wp-content/uploads/2018/10/orange-white-aad-logo.jpg
ORGANIZER;CN="Super Owl Brewing":MAILTO:vida@superowlbrewing.com
END:VEVENT
BEGIN:VEVENT
DTSTART;TZID=America/Los_Angeles:20250904T183000
DTEND;TZID=America/Los_Angeles:20250904T193000
DTSTAMP:20260424T083025
CREATED:20250821T142356Z
LAST-MODIFIED:20250821T142356Z
UID:19742-1757010600-1757014200@artsalliancedavis.org
SUMMARY:No Brain Drain Trivia
DESCRIPTION:Hosted by Preacher. \nTrivia+Comedy+Game Show = A Real Good Time
URL:https://artsalliancedavis.org/event/no-brain-drain-trivia-188/
LOCATION:1260 Lake Blvd\, Ste 121\, Davis\, CA 95616\, 1260 Lake Blvd\, Ste 121\, davis\, CA\, 95616\, United States
CATEGORIES:Food & Drink,Games
ATTACH;FMTTYPE=image/jpeg:https://artsalliancedavis.org/wp-content/uploads/2018/10/orange-white-aad-logo.jpg
ORGANIZER;CN="Super Owl Brewing":MAILTO:vida@superowlbrewing.com
END:VEVENT
BEGIN:VEVENT
DTSTART;TZID=America/Los_Angeles:20250904T183000
DTEND;TZID=America/Los_Angeles:20250904T193000
DTSTAMP:20260424T083025
CREATED:20250821T142357Z
LAST-MODIFIED:20250821T142357Z
UID:19743-1757010600-1757014200@artsalliancedavis.org
SUMMARY:No Brain Drain Trivia
DESCRIPTION:Hosted by Preacher. \nTrivia+Comedy+Game Show = A Real Good Time
URL:https://artsalliancedavis.org/event/no-brain-drain-trivia-189/
LOCATION:1260 Lake Blvd\, Ste 121\, Davis\, CA 95616\, 1260 Lake Blvd\, Ste 121\, davis\, CA\, 95616\, United States
CATEGORIES:Food & Drink,Games
ATTACH;FMTTYPE=image/jpeg:https://artsalliancedavis.org/wp-content/uploads/2018/10/orange-white-aad-logo.jpg
ORGANIZER;CN="Super Owl Brewing":MAILTO:vida@superowlbrewing.com
END:VEVENT
BEGIN:VEVENT
DTSTART;TZID=America/Los_Angeles:20250904T183000
DTEND;TZID=America/Los_Angeles:20250904T193000
DTSTAMP:20260424T083025
CREATED:20250821T142357Z
LAST-MODIFIED:20250821T142357Z
UID:19744-1757010600-1757014200@artsalliancedavis.org
SUMMARY:No Brain Drain Trivia
DESCRIPTION:Hosted by Preacher. \nTrivia+Comedy+Game Show = A Real Good Time
URL:https://artsalliancedavis.org/event/no-brain-drain-trivia-190/
LOCATION:1260 Lake Blvd\, Ste 121\, Davis\, CA 95616\, 1260 Lake Blvd\, Ste 121\, davis\, CA\, 95616\, United States
CATEGORIES:Food & Drink,Games
ATTACH;FMTTYPE=image/jpeg:https://artsalliancedavis.org/wp-content/uploads/2018/10/orange-white-aad-logo.jpg
ORGANIZER;CN="Super Owl Brewing":MAILTO:vida@superowlbrewing.com
END:VEVENT
BEGIN:VEVENT
DTSTART;TZID=America/Los_Angeles:20250904T183000
DTEND;TZID=America/Los_Angeles:20250904T193000
DTSTAMP:20260424T083025
CREATED:20250821T142358Z
LAST-MODIFIED:20250821T142358Z
UID:19745-1757010600-1757014200@artsalliancedavis.org
SUMMARY:No Brain Drain Trivia
DESCRIPTION:Hosted by Preacher. \nTrivia+Comedy+Game Show = A Real Good Time
URL:https://artsalliancedavis.org/event/no-brain-drain-trivia-191/
LOCATION:1260 Lake Blvd\, Ste 121\, Davis\, CA 95616\, 1260 Lake Blvd\, Ste 121\, davis\, CA\, 95616\, United States
CATEGORIES:Food & Drink,Games
ATTACH;FMTTYPE=image/jpeg:https://artsalliancedavis.org/wp-content/uploads/2018/10/orange-white-aad-logo.jpg
ORGANIZER;CN="Super Owl Brewing":MAILTO:vida@superowlbrewing.com
END:VEVENT
BEGIN:VEVENT
DTSTART;TZID=America/Los_Angeles:20250904T183000
DTEND;TZID=America/Los_Angeles:20250904T193000
DTSTAMP:20260424T083025
CREATED:20250821T142358Z
LAST-MODIFIED:20250821T142358Z
UID:19746-1757010600-1757014200@artsalliancedavis.org
SUMMARY:No Brain Drain Trivia
DESCRIPTION:Hosted by Preacher. \nTrivia+Comedy+Game Show = A Real Good Time
URL:https://artsalliancedavis.org/event/no-brain-drain-trivia-192/
LOCATION:1260 Lake Blvd\, Ste 121\, Davis\, CA 95616\, 1260 Lake Blvd\, Ste 121\, davis\, CA\, 95616\, United States
CATEGORIES:Food & Drink,Games
ATTACH;FMTTYPE=image/jpeg:https://artsalliancedavis.org/wp-content/uploads/2018/10/orange-white-aad-logo.jpg
ORGANIZER;CN="Super Owl Brewing":MAILTO:vida@superowlbrewing.com
END:VEVENT
BEGIN:VEVENT
DTSTART;TZID=America/Los_Angeles:20250904T183000
DTEND;TZID=America/Los_Angeles:20250904T193000
DTSTAMP:20260424T083025
CREATED:20250822T143529Z
LAST-MODIFIED:20250822T143529Z
UID:19813-1757010600-1757014200@artsalliancedavis.org
SUMMARY:No Brain Drain Trivia
DESCRIPTION:Hosted by Preacher. \nTrivia+Comedy+Game Show = A Real Good Time
URL:https://artsalliancedavis.org/event/no-brain-drain-trivia-202/
LOCATION:1260 Lake Blvd\, Ste 121\, Davis\, CA 95616\, 1260 Lake Blvd\, Ste 121\, davis\, CA\, 95616\, United States
CATEGORIES:Food & Drink,Games
ATTACH;FMTTYPE=image/jpeg:https://artsalliancedavis.org/wp-content/uploads/2018/10/orange-white-aad-logo.jpg
ORGANIZER;CN="Super Owl Brewing":MAILTO:vida@superowlbrewing.com
END:VEVENT
BEGIN:VEVENT
DTSTART;TZID=America/Los_Angeles:20250904T183000
DTEND;TZID=America/Los_Angeles:20250904T193000
DTSTAMP:20260424T083025
CREATED:20250822T143542Z
LAST-MODIFIED:20250822T143542Z
UID:19814-1757010600-1757014200@artsalliancedavis.org
SUMMARY:No Brain Drain Trivia
DESCRIPTION:Hosted by Preacher. \nTrivia+Comedy+Game Show = A Real Good Time
URL:https://artsalliancedavis.org/event/no-brain-drain-trivia-203/
LOCATION:1260 Lake Blvd\, Ste 121\, Davis\, CA 95616\, 1260 Lake Blvd\, Ste 121\, davis\, CA\, 95616\, United States
CATEGORIES:Food & Drink,Games
ATTACH;FMTTYPE=image/jpeg:https://artsalliancedavis.org/wp-content/uploads/2018/10/orange-white-aad-logo.jpg
ORGANIZER;CN="Super Owl Brewing":MAILTO:vida@superowlbrewing.com
END:VEVENT
BEGIN:VEVENT
DTSTART;TZID=America/Los_Angeles:20250904T183000
DTEND;TZID=America/Los_Angeles:20250904T193000
DTSTAMP:20260424T083025
CREATED:20250822T143543Z
LAST-MODIFIED:20250822T143543Z
UID:19815-1757010600-1757014200@artsalliancedavis.org
SUMMARY:No Brain Drain Trivia
DESCRIPTION:Hosted by Preacher. \nTrivia+Comedy+Game Show = A Real Good Time
URL:https://artsalliancedavis.org/event/no-brain-drain-trivia-204/
LOCATION:1260 Lake Blvd\, Ste 121\, Davis\, CA 95616\, 1260 Lake Blvd\, Ste 121\, davis\, CA\, 95616\, United States
CATEGORIES:Food & Drink,Games
ATTACH;FMTTYPE=image/jpeg:https://artsalliancedavis.org/wp-content/uploads/2018/10/orange-white-aad-logo.jpg
ORGANIZER;CN="Super Owl Brewing":MAILTO:vida@superowlbrewing.com
END:VEVENT
BEGIN:VEVENT
DTSTART;TZID=America/Los_Angeles:20250904T183000
DTEND;TZID=America/Los_Angeles:20250904T193000
DTSTAMP:20260424T083025
CREATED:20250822T143543Z
LAST-MODIFIED:20250822T143543Z
UID:19816-1757010600-1757014200@artsalliancedavis.org
SUMMARY:No Brain Drain Trivia
DESCRIPTION:Hosted by Preacher. \nTrivia+Comedy+Game Show = A Real Good Time
URL:https://artsalliancedavis.org/event/no-brain-drain-trivia-205/
LOCATION:1260 Lake Blvd\, Ste 121\, Davis\, CA 95616\, 1260 Lake Blvd\, Ste 121\, davis\, CA\, 95616\, United States
CATEGORIES:Food & Drink,Games
ATTACH;FMTTYPE=image/jpeg:https://artsalliancedavis.org/wp-content/uploads/2018/10/orange-white-aad-logo.jpg
ORGANIZER;CN="Super Owl Brewing":MAILTO:vida@superowlbrewing.com
END:VEVENT
BEGIN:VEVENT
DTSTART;TZID=America/Los_Angeles:20250904T183000
DTEND;TZID=America/Los_Angeles:20250904T193000
DTSTAMP:20260424T083025
CREATED:20250822T143544Z
LAST-MODIFIED:20250822T143544Z
UID:19817-1757010600-1757014200@artsalliancedavis.org
SUMMARY:No Brain Drain Trivia
DESCRIPTION:Hosted by Preacher. \nTrivia+Comedy+Game Show = A Real Good Time
URL:https://artsalliancedavis.org/event/no-brain-drain-trivia-206/
LOCATION:1260 Lake Blvd\, Ste 121\, Davis\, CA 95616\, 1260 Lake Blvd\, Ste 121\, davis\, CA\, 95616\, United States
CATEGORIES:Food & Drink,Games
ATTACH;FMTTYPE=image/jpeg:https://artsalliancedavis.org/wp-content/uploads/2018/10/orange-white-aad-logo.jpg
ORGANIZER;CN="Super Owl Brewing":MAILTO:vida@superowlbrewing.com
END:VEVENT
BEGIN:VEVENT
DTSTART;TZID=America/Los_Angeles:20250904T183000
DTEND;TZID=America/Los_Angeles:20250904T193000
DTSTAMP:20260424T083025
CREATED:20250822T143556Z
LAST-MODIFIED:20250822T143556Z
UID:19818-1757010600-1757014200@artsalliancedavis.org
SUMMARY:No Brain Drain Trivia
DESCRIPTION:Hosted by Preacher. \nTrivia+Comedy+Game Show = A Real Good Time
URL:https://artsalliancedavis.org/event/no-brain-drain-trivia-207/
LOCATION:1260 Lake Blvd\, Ste 121\, Davis\, CA 95616\, 1260 Lake Blvd\, Ste 121\, davis\, CA\, 95616\, United States
CATEGORIES:Food & Drink,Games
ATTACH;FMTTYPE=image/jpeg:https://artsalliancedavis.org/wp-content/uploads/2018/10/orange-white-aad-logo.jpg
ORGANIZER;CN="Super Owl Brewing":MAILTO:vida@superowlbrewing.com
END:VEVENT
BEGIN:VEVENT
DTSTART;TZID=America/Los_Angeles:20250904T183000
DTEND;TZID=America/Los_Angeles:20250904T193000
DTSTAMP:20260424T083025
CREATED:20250822T143557Z
LAST-MODIFIED:20250822T143557Z
UID:19819-1757010600-1757014200@artsalliancedavis.org
SUMMARY:No Brain Drain Trivia
DESCRIPTION:Hosted by Preacher. \nTrivia+Comedy+Game Show = A Real Good Time
URL:https://artsalliancedavis.org/event/no-brain-drain-trivia-208/
LOCATION:1260 Lake Blvd\, Ste 121\, Davis\, CA 95616\, 1260 Lake Blvd\, Ste 121\, davis\, CA\, 95616\, United States
CATEGORIES:Food & Drink,Games
ATTACH;FMTTYPE=image/jpeg:https://artsalliancedavis.org/wp-content/uploads/2018/10/orange-white-aad-logo.jpg
ORGANIZER;CN="Super Owl Brewing":MAILTO:vida@superowlbrewing.com
END:VEVENT
END:VCALENDAR