BEGIN:VCALENDAR
VERSION:2.0
PRODID:-//Arts Alliance Davis - ECPv6.15.20//NONSGML v1.0//EN
CALSCALE:GREGORIAN
METHOD:PUBLISH
X-WR-CALNAME:Arts Alliance Davis
X-ORIGINAL-URL:https://artsalliancedavis.org
X-WR-CALDESC:Events for Arts Alliance Davis
REFRESH-INTERVAL;VALUE=DURATION:PT1H
X-Robots-Tag:noindex
X-PUBLISHED-TTL:PT1H
BEGIN:VTIMEZONE
TZID:America/Los_Angeles
BEGIN:DAYLIGHT
TZOFFSETFROM:-0800
TZOFFSETTO:-0700
TZNAME:PDT
DTSTART:20240310T100000
END:DAYLIGHT
BEGIN:STANDARD
TZOFFSETFROM:-0700
TZOFFSETTO:-0800
TZNAME:PST
DTSTART:20241103T090000
END:STANDARD
BEGIN:DAYLIGHT
TZOFFSETFROM:-0800
TZOFFSETTO:-0700
TZNAME:PDT
DTSTART:20250309T100000
END:DAYLIGHT
BEGIN:STANDARD
TZOFFSETFROM:-0700
TZOFFSETTO:-0800
TZNAME:PST
DTSTART:20251102T090000
END:STANDARD
BEGIN:DAYLIGHT
TZOFFSETFROM:-0800
TZOFFSETTO:-0700
TZNAME:PDT
DTSTART:20260308T100000
END:DAYLIGHT
BEGIN:STANDARD
TZOFFSETFROM:-0700
TZOFFSETTO:-0800
TZNAME:PST
DTSTART:20261101T090000
END:STANDARD
END:VTIMEZONE
BEGIN:VEVENT
DTSTART;TZID=America/Los_Angeles:20251202T170000
DTEND;TZID=America/Los_Angeles:20251202T220000
DTSTAMP:20260423T204046
CREATED:20251022T160019Z
LAST-MODIFIED:20251022T160019Z
UID:21221-1764694800-1764712800@artsalliancedavis.org
SUMMARY:Drawing Club
DESCRIPTION:Every Tuesday from 5-10pm at Dunloe Brewing’s – The Local\, creative people of all levels are invited to participate in Drawing Club. Grab a cold drink and surround yourself with other people who want to draw. You can bring your own materials\, or work from the variety of materials that we provide from the free art supply pantry.
URL:https://artsalliancedavis.org/event/drawing-club-43/
LOCATION:Dunloe Brewing\, 1606 Olive Dr\, Davis\, 95616\, United States
CATEGORIES:Art,Community,Food & Drink
ATTACH;FMTTYPE=image/jpeg:https://artsalliancedavis.org/wp-content/uploads/2025/02/Untitled_Artwork-CxtnUh.tmp_.jpg
END:VEVENT
BEGIN:VEVENT
DTSTART;TZID=America/Los_Angeles:20251203T150000
DTEND;TZID=America/Los_Angeles:20251203T180000
DTSTAMP:20260423T204046
CREATED:20251022T160036Z
LAST-MODIFIED:20251022T160036Z
UID:21231-1764774000-1764784800@artsalliancedavis.org
SUMMARY:Davis Farmers Market
DESCRIPTION:Year-round at Central Park in downtown Davis\, thousands gather each week to shop for what is grown\, raised\, and made locally at our markets. We are dedicated to bringing farmers right to your table\, so we stay open rain or shine. \nWalk rows of stalls lined with an array of fruits and vegetables\, including certified organic produce\, choice meats\, chicken\, seafood\, wine\, local eggs and honey. Choose from a variety of fresh-baked goods\, plants\, flowers and gifts. Enjoy a picnic from one of our many food stands\, made from market ingredients. \nSee the vendor list here: https://www.davisfarmersmarket.org/our-sellers/ \nFarmers Market Hours  \nCentral Park: Saturdays 8a–1p (year-round)\, and Wednesdays 3p–6p (October through April); 4p–8p (May through September)\nUC Davis – North Quad: Wednesdays 10a–1:30p (fall and spring quarters)\nSutter Davis Hospital: Thursdays 10a–1p (May through September)\nSutter Medical Center\, Sacramento: Thursdays 2:30p–5:30p \n 
URL:https://artsalliancedavis.org/event/davis-farmers-market-307/
LOCATION:Central Park\, 101 C St\, Davis\, CA\, United States
CATEGORIES:Bring the Kids,Food & Drink,Shopping
ATTACH;FMTTYPE=image/png:https://artsalliancedavis.org/wp-content/uploads/2022/10/davis-farmers-market-logo-KERN-ADJUST2-01-1-e1649900473633-4mwvRA.tmp_.png
ORGANIZER;CN="Davis Farmers Market":MAILTO:dfmpr@dcn.org
END:VEVENT
BEGIN:VEVENT
DTSTART;TZID=America/Los_Angeles:20251204T183000
DTEND;TZID=America/Los_Angeles:20251204T193000
DTSTAMP:20260423T204046
CREATED:20251022T160040Z
LAST-MODIFIED:20251022T160040Z
UID:21239-1764873000-1764876600@artsalliancedavis.org
SUMMARY:No Brain Drain Trivia
DESCRIPTION:Hosted by Preacher. \nTrivia+Comedy+Game Show = A Real Good Time
URL:https://artsalliancedavis.org/event/no-brain-drain-trivia-529/
LOCATION:1260 Lake Blvd\, Ste 121\, Davis\, CA 95616\, 1260 Lake Blvd\, Ste 121\, davis\, CA\, 95616\, United States
CATEGORIES:Food & Drink,Games
ATTACH;FMTTYPE=image/jpeg:https://artsalliancedavis.org/wp-content/uploads/2018/10/orange-white-aad-logo.jpg
ORGANIZER;CN="Super Owl Brewing":MAILTO:vida@superowlbrewing.com
END:VEVENT
BEGIN:VEVENT
DTSTART;TZID=America/Los_Angeles:20251204T183000
DTEND;TZID=America/Los_Angeles:20251204T193000
DTSTAMP:20260423T204046
CREATED:20251022T160055Z
LAST-MODIFIED:20251022T160055Z
UID:21240-1764873000-1764876600@artsalliancedavis.org
SUMMARY:No Brain Drain Trivia
DESCRIPTION:Hosted by Preacher. \nTrivia+Comedy+Game Show = A Real Good Time
URL:https://artsalliancedavis.org/event/no-brain-drain-trivia-530/
LOCATION:1260 Lake Blvd\, Ste 121\, Davis\, CA 95616\, 1260 Lake Blvd\, Ste 121\, davis\, CA\, 95616\, United States
CATEGORIES:Food & Drink,Games
ATTACH;FMTTYPE=image/jpeg:https://artsalliancedavis.org/wp-content/uploads/2018/10/orange-white-aad-logo.jpg
ORGANIZER;CN="Super Owl Brewing":MAILTO:vida@superowlbrewing.com
END:VEVENT
BEGIN:VEVENT
DTSTART;TZID=America/Los_Angeles:20251204T183000
DTEND;TZID=America/Los_Angeles:20251204T193000
DTSTAMP:20260423T204046
CREATED:20251022T160055Z
LAST-MODIFIED:20251022T160055Z
UID:21241-1764873000-1764876600@artsalliancedavis.org
SUMMARY:No Brain Drain Trivia
DESCRIPTION:Hosted by Preacher. \nTrivia+Comedy+Game Show = A Real Good Time
URL:https://artsalliancedavis.org/event/no-brain-drain-trivia-531/
LOCATION:1260 Lake Blvd\, Ste 121\, Davis\, CA 95616\, 1260 Lake Blvd\, Ste 121\, davis\, CA\, 95616\, United States
CATEGORIES:Food & Drink,Games
ATTACH;FMTTYPE=image/jpeg:https://artsalliancedavis.org/wp-content/uploads/2018/10/orange-white-aad-logo.jpg
ORGANIZER;CN="Super Owl Brewing":MAILTO:vida@superowlbrewing.com
END:VEVENT
BEGIN:VEVENT
DTSTART;TZID=America/Los_Angeles:20251204T183000
DTEND;TZID=America/Los_Angeles:20251204T193000
DTSTAMP:20260423T204046
CREATED:20251022T160056Z
LAST-MODIFIED:20251022T160056Z
UID:21242-1764873000-1764876600@artsalliancedavis.org
SUMMARY:No Brain Drain Trivia
DESCRIPTION:Hosted by Preacher. \nTrivia+Comedy+Game Show = A Real Good Time
URL:https://artsalliancedavis.org/event/no-brain-drain-trivia-532/
LOCATION:1260 Lake Blvd\, Ste 121\, Davis\, CA 95616\, 1260 Lake Blvd\, Ste 121\, davis\, CA\, 95616\, United States
CATEGORIES:Food & Drink,Games
ATTACH;FMTTYPE=image/jpeg:https://artsalliancedavis.org/wp-content/uploads/2018/10/orange-white-aad-logo.jpg
ORGANIZER;CN="Super Owl Brewing":MAILTO:vida@superowlbrewing.com
END:VEVENT
BEGIN:VEVENT
DTSTART;TZID=America/Los_Angeles:20251204T183000
DTEND;TZID=America/Los_Angeles:20251204T193000
DTSTAMP:20260423T204046
CREATED:20251022T160057Z
LAST-MODIFIED:20251022T160057Z
UID:21243-1764873000-1764876600@artsalliancedavis.org
SUMMARY:No Brain Drain Trivia
DESCRIPTION:Hosted by Preacher. \nTrivia+Comedy+Game Show = A Real Good Time
URL:https://artsalliancedavis.org/event/no-brain-drain-trivia-533/
LOCATION:1260 Lake Blvd\, Ste 121\, Davis\, CA 95616\, 1260 Lake Blvd\, Ste 121\, davis\, CA\, 95616\, United States
CATEGORIES:Food & Drink,Games
ATTACH;FMTTYPE=image/jpeg:https://artsalliancedavis.org/wp-content/uploads/2018/10/orange-white-aad-logo.jpg
ORGANIZER;CN="Super Owl Brewing":MAILTO:vida@superowlbrewing.com
END:VEVENT
BEGIN:VEVENT
DTSTART;TZID=America/Los_Angeles:20251204T183000
DTEND;TZID=America/Los_Angeles:20251204T193000
DTSTAMP:20260423T204046
CREATED:20251022T160058Z
LAST-MODIFIED:20251022T160058Z
UID:21244-1764873000-1764876600@artsalliancedavis.org
SUMMARY:No Brain Drain Trivia
DESCRIPTION:Hosted by Preacher. \nTrivia+Comedy+Game Show = A Real Good Time
URL:https://artsalliancedavis.org/event/no-brain-drain-trivia-534/
LOCATION:1260 Lake Blvd\, Ste 121\, Davis\, CA 95616\, 1260 Lake Blvd\, Ste 121\, davis\, CA\, 95616\, United States
CATEGORIES:Food & Drink,Games
ATTACH;FMTTYPE=image/jpeg:https://artsalliancedavis.org/wp-content/uploads/2018/10/orange-white-aad-logo.jpg
ORGANIZER;CN="Super Owl Brewing":MAILTO:vida@superowlbrewing.com
END:VEVENT
BEGIN:VEVENT
DTSTART;TZID=America/Los_Angeles:20251204T183000
DTEND;TZID=America/Los_Angeles:20251204T193000
DTSTAMP:20260423T204046
CREATED:20251022T160059Z
LAST-MODIFIED:20251022T160059Z
UID:21245-1764873000-1764876600@artsalliancedavis.org
SUMMARY:No Brain Drain Trivia
DESCRIPTION:Hosted by Preacher. \nTrivia+Comedy+Game Show = A Real Good Time
URL:https://artsalliancedavis.org/event/no-brain-drain-trivia-535/
LOCATION:1260 Lake Blvd\, Ste 121\, Davis\, CA 95616\, 1260 Lake Blvd\, Ste 121\, davis\, CA\, 95616\, United States
CATEGORIES:Food & Drink,Games
ATTACH;FMTTYPE=image/jpeg:https://artsalliancedavis.org/wp-content/uploads/2018/10/orange-white-aad-logo.jpg
ORGANIZER;CN="Super Owl Brewing":MAILTO:vida@superowlbrewing.com
END:VEVENT
BEGIN:VEVENT
DTSTART;TZID=America/Los_Angeles:20251204T183000
DTEND;TZID=America/Los_Angeles:20251204T193000
DTSTAMP:20260423T204046
CREATED:20251022T160059Z
LAST-MODIFIED:20251022T160059Z
UID:21246-1764873000-1764876600@artsalliancedavis.org
SUMMARY:No Brain Drain Trivia
DESCRIPTION:Hosted by Preacher. \nTrivia+Comedy+Game Show = A Real Good Time
URL:https://artsalliancedavis.org/event/no-brain-drain-trivia-536/
LOCATION:1260 Lake Blvd\, Ste 121\, Davis\, CA 95616\, 1260 Lake Blvd\, Ste 121\, davis\, CA\, 95616\, United States
CATEGORIES:Food & Drink,Games
ATTACH;FMTTYPE=image/jpeg:https://artsalliancedavis.org/wp-content/uploads/2018/10/orange-white-aad-logo.jpg
ORGANIZER;CN="Super Owl Brewing":MAILTO:vida@superowlbrewing.com
END:VEVENT
BEGIN:VEVENT
DTSTART;TZID=America/Los_Angeles:20251204T183000
DTEND;TZID=America/Los_Angeles:20251204T193000
DTSTAMP:20260423T204046
CREATED:20251022T160100Z
LAST-MODIFIED:20251022T160100Z
UID:21247-1764873000-1764876600@artsalliancedavis.org
SUMMARY:No Brain Drain Trivia
DESCRIPTION:Hosted by Preacher. \nTrivia+Comedy+Game Show = A Real Good Time
URL:https://artsalliancedavis.org/event/no-brain-drain-trivia-537/
LOCATION:1260 Lake Blvd\, Ste 121\, Davis\, CA 95616\, 1260 Lake Blvd\, Ste 121\, davis\, CA\, 95616\, United States
CATEGORIES:Food & Drink,Games
ATTACH;FMTTYPE=image/jpeg:https://artsalliancedavis.org/wp-content/uploads/2018/10/orange-white-aad-logo.jpg
ORGANIZER;CN="Super Owl Brewing":MAILTO:vida@superowlbrewing.com
END:VEVENT
BEGIN:VEVENT
DTSTART;TZID=America/Los_Angeles:20251204T183000
DTEND;TZID=America/Los_Angeles:20251204T193000
DTSTAMP:20260423T204046
CREATED:20251022T160101Z
LAST-MODIFIED:20251022T160101Z
UID:21248-1764873000-1764876600@artsalliancedavis.org
SUMMARY:No Brain Drain Trivia
DESCRIPTION:Hosted by Preacher. \nTrivia+Comedy+Game Show = A Real Good Time
URL:https://artsalliancedavis.org/event/no-brain-drain-trivia-538/
LOCATION:1260 Lake Blvd\, Ste 121\, Davis\, CA 95616\, 1260 Lake Blvd\, Ste 121\, davis\, CA\, 95616\, United States
CATEGORIES:Food & Drink,Games
ATTACH;FMTTYPE=image/jpeg:https://artsalliancedavis.org/wp-content/uploads/2018/10/orange-white-aad-logo.jpg
ORGANIZER;CN="Super Owl Brewing":MAILTO:vida@superowlbrewing.com
END:VEVENT
BEGIN:VEVENT
DTSTART;TZID=America/Los_Angeles:20251204T183000
DTEND;TZID=America/Los_Angeles:20251204T193000
DTSTAMP:20260423T204046
CREATED:20251022T160115Z
LAST-MODIFIED:20251022T160115Z
UID:21249-1764873000-1764876600@artsalliancedavis.org
SUMMARY:No Brain Drain Trivia
DESCRIPTION:Hosted by Preacher. \nTrivia+Comedy+Game Show = A Real Good Time
URL:https://artsalliancedavis.org/event/no-brain-drain-trivia-539/
LOCATION:1260 Lake Blvd\, Ste 121\, Davis\, CA 95616\, 1260 Lake Blvd\, Ste 121\, davis\, CA\, 95616\, United States
CATEGORIES:Food & Drink,Games
ATTACH;FMTTYPE=image/jpeg:https://artsalliancedavis.org/wp-content/uploads/2018/10/orange-white-aad-logo.jpg
ORGANIZER;CN="Super Owl Brewing":MAILTO:vida@superowlbrewing.com
END:VEVENT
BEGIN:VEVENT
DTSTART;TZID=America/Los_Angeles:20251204T183000
DTEND;TZID=America/Los_Angeles:20251204T193000
DTSTAMP:20260423T204046
CREATED:20251022T160115Z
LAST-MODIFIED:20251022T160115Z
UID:21250-1764873000-1764876600@artsalliancedavis.org
SUMMARY:No Brain Drain Trivia
DESCRIPTION:Hosted by Preacher. \nTrivia+Comedy+Game Show = A Real Good Time
URL:https://artsalliancedavis.org/event/no-brain-drain-trivia-540/
LOCATION:1260 Lake Blvd\, Ste 121\, Davis\, CA 95616\, 1260 Lake Blvd\, Ste 121\, davis\, CA\, 95616\, United States
CATEGORIES:Food & Drink,Games
ATTACH;FMTTYPE=image/jpeg:https://artsalliancedavis.org/wp-content/uploads/2018/10/orange-white-aad-logo.jpg
ORGANIZER;CN="Super Owl Brewing":MAILTO:vida@superowlbrewing.com
END:VEVENT
BEGIN:VEVENT
DTSTART;TZID=America/Los_Angeles:20251204T183000
DTEND;TZID=America/Los_Angeles:20251204T193000
DTSTAMP:20260423T204046
CREATED:20251022T160116Z
LAST-MODIFIED:20251022T160116Z
UID:21251-1764873000-1764876600@artsalliancedavis.org
SUMMARY:No Brain Drain Trivia
DESCRIPTION:Hosted by Preacher. \nTrivia+Comedy+Game Show = A Real Good Time
URL:https://artsalliancedavis.org/event/no-brain-drain-trivia-541/
LOCATION:1260 Lake Blvd\, Ste 121\, Davis\, CA 95616\, 1260 Lake Blvd\, Ste 121\, davis\, CA\, 95616\, United States
CATEGORIES:Food & Drink,Games
ATTACH;FMTTYPE=image/jpeg:https://artsalliancedavis.org/wp-content/uploads/2018/10/orange-white-aad-logo.jpg
ORGANIZER;CN="Super Owl Brewing":MAILTO:vida@superowlbrewing.com
END:VEVENT
BEGIN:VEVENT
DTSTART;TZID=America/Los_Angeles:20251204T183000
DTEND;TZID=America/Los_Angeles:20251204T193000
DTSTAMP:20260423T204046
CREATED:20251022T160117Z
LAST-MODIFIED:20251022T160117Z
UID:21252-1764873000-1764876600@artsalliancedavis.org
SUMMARY:No Brain Drain Trivia
DESCRIPTION:Hosted by Preacher. \nTrivia+Comedy+Game Show = A Real Good Time
URL:https://artsalliancedavis.org/event/no-brain-drain-trivia-542/
LOCATION:1260 Lake Blvd\, Ste 121\, Davis\, CA 95616\, 1260 Lake Blvd\, Ste 121\, davis\, CA\, 95616\, United States
CATEGORIES:Food & Drink,Games
ATTACH;FMTTYPE=image/jpeg:https://artsalliancedavis.org/wp-content/uploads/2018/10/orange-white-aad-logo.jpg
ORGANIZER;CN="Super Owl Brewing":MAILTO:vida@superowlbrewing.com
END:VEVENT
BEGIN:VEVENT
DTSTART;TZID=America/Los_Angeles:20251204T183000
DTEND;TZID=America/Los_Angeles:20251204T193000
DTSTAMP:20260423T204046
CREATED:20251022T160118Z
LAST-MODIFIED:20251022T160118Z
UID:21253-1764873000-1764876600@artsalliancedavis.org
SUMMARY:No Brain Drain Trivia
DESCRIPTION:Hosted by Preacher. \nTrivia+Comedy+Game Show = A Real Good Time
URL:https://artsalliancedavis.org/event/no-brain-drain-trivia-543/
LOCATION:1260 Lake Blvd\, Ste 121\, Davis\, CA 95616\, 1260 Lake Blvd\, Ste 121\, davis\, CA\, 95616\, United States
CATEGORIES:Food & Drink,Games
ATTACH;FMTTYPE=image/jpeg:https://artsalliancedavis.org/wp-content/uploads/2018/10/orange-white-aad-logo.jpg
ORGANIZER;CN="Super Owl Brewing":MAILTO:vida@superowlbrewing.com
END:VEVENT
BEGIN:VEVENT
DTSTART;TZID=America/Los_Angeles:20251204T183000
DTEND;TZID=America/Los_Angeles:20251204T193000
DTSTAMP:20260423T204046
CREATED:20251022T160119Z
LAST-MODIFIED:20251022T160119Z
UID:21254-1764873000-1764876600@artsalliancedavis.org
SUMMARY:No Brain Drain Trivia
DESCRIPTION:Hosted by Preacher. \nTrivia+Comedy+Game Show = A Real Good Time
URL:https://artsalliancedavis.org/event/no-brain-drain-trivia-544/
LOCATION:1260 Lake Blvd\, Ste 121\, Davis\, CA 95616\, 1260 Lake Blvd\, Ste 121\, davis\, CA\, 95616\, United States
CATEGORIES:Food & Drink,Games
ATTACH;FMTTYPE=image/jpeg:https://artsalliancedavis.org/wp-content/uploads/2018/10/orange-white-aad-logo.jpg
ORGANIZER;CN="Super Owl Brewing":MAILTO:vida@superowlbrewing.com
END:VEVENT
BEGIN:VEVENT
DTSTART;TZID=America/Los_Angeles:20251204T183000
DTEND;TZID=America/Los_Angeles:20251204T193000
DTSTAMP:20260423T204046
CREATED:20251022T160120Z
LAST-MODIFIED:20251022T160120Z
UID:21255-1764873000-1764876600@artsalliancedavis.org
SUMMARY:No Brain Drain Trivia
DESCRIPTION:Hosted by Preacher. \nTrivia+Comedy+Game Show = A Real Good Time
URL:https://artsalliancedavis.org/event/no-brain-drain-trivia-545/
LOCATION:1260 Lake Blvd\, Ste 121\, Davis\, CA 95616\, 1260 Lake Blvd\, Ste 121\, davis\, CA\, 95616\, United States
CATEGORIES:Food & Drink,Games
ATTACH;FMTTYPE=image/jpeg:https://artsalliancedavis.org/wp-content/uploads/2018/10/orange-white-aad-logo.jpg
ORGANIZER;CN="Super Owl Brewing":MAILTO:vida@superowlbrewing.com
END:VEVENT
BEGIN:VEVENT
DTSTART;TZID=America/Los_Angeles:20251204T183000
DTEND;TZID=America/Los_Angeles:20251204T193000
DTSTAMP:20260423T204046
CREATED:20251022T160120Z
LAST-MODIFIED:20251022T160120Z
UID:21256-1764873000-1764876600@artsalliancedavis.org
SUMMARY:No Brain Drain Trivia
DESCRIPTION:Hosted by Preacher. \nTrivia+Comedy+Game Show = A Real Good Time
URL:https://artsalliancedavis.org/event/no-brain-drain-trivia-546/
LOCATION:1260 Lake Blvd\, Ste 121\, Davis\, CA 95616\, 1260 Lake Blvd\, Ste 121\, davis\, CA\, 95616\, United States
CATEGORIES:Food & Drink,Games
ATTACH;FMTTYPE=image/jpeg:https://artsalliancedavis.org/wp-content/uploads/2018/10/orange-white-aad-logo.jpg
ORGANIZER;CN="Super Owl Brewing":MAILTO:vida@superowlbrewing.com
END:VEVENT
BEGIN:VEVENT
DTSTART;TZID=America/Los_Angeles:20251204T183000
DTEND;TZID=America/Los_Angeles:20251204T193000
DTSTAMP:20260423T204046
CREATED:20251022T160121Z
LAST-MODIFIED:20251022T160121Z
UID:21257-1764873000-1764876600@artsalliancedavis.org
SUMMARY:No Brain Drain Trivia
DESCRIPTION:Hosted by Preacher. \nTrivia+Comedy+Game Show = A Real Good Time
URL:https://artsalliancedavis.org/event/no-brain-drain-trivia-547/
LOCATION:1260 Lake Blvd\, Ste 121\, Davis\, CA 95616\, 1260 Lake Blvd\, Ste 121\, davis\, CA\, 95616\, United States
CATEGORIES:Food & Drink,Games
ATTACH;FMTTYPE=image/jpeg:https://artsalliancedavis.org/wp-content/uploads/2018/10/orange-white-aad-logo.jpg
ORGANIZER;CN="Super Owl Brewing":MAILTO:vida@superowlbrewing.com
END:VEVENT
BEGIN:VEVENT
DTSTART;TZID=America/Los_Angeles:20251204T183000
DTEND;TZID=America/Los_Angeles:20251204T193000
DTSTAMP:20260423T204046
CREATED:20251022T160122Z
LAST-MODIFIED:20251022T160122Z
UID:21258-1764873000-1764876600@artsalliancedavis.org
SUMMARY:No Brain Drain Trivia
DESCRIPTION:Hosted by Preacher. \nTrivia+Comedy+Game Show = A Real Good Time
URL:https://artsalliancedavis.org/event/no-brain-drain-trivia-548/
LOCATION:1260 Lake Blvd\, Ste 121\, Davis\, CA 95616\, 1260 Lake Blvd\, Ste 121\, davis\, CA\, 95616\, United States
CATEGORIES:Food & Drink,Games
ATTACH;FMTTYPE=image/jpeg:https://artsalliancedavis.org/wp-content/uploads/2018/10/orange-white-aad-logo.jpg
ORGANIZER;CN="Super Owl Brewing":MAILTO:vida@superowlbrewing.com
END:VEVENT
BEGIN:VEVENT
DTSTART;TZID=America/Los_Angeles:20251204T183000
DTEND;TZID=America/Los_Angeles:20251204T193000
DTSTAMP:20260423T204046
CREATED:20251022T160136Z
LAST-MODIFIED:20251022T160136Z
UID:21259-1764873000-1764876600@artsalliancedavis.org
SUMMARY:No Brain Drain Trivia
DESCRIPTION:Hosted by Preacher. \nTrivia+Comedy+Game Show = A Real Good Time
URL:https://artsalliancedavis.org/event/no-brain-drain-trivia-549/
LOCATION:1260 Lake Blvd\, Ste 121\, Davis\, CA 95616\, 1260 Lake Blvd\, Ste 121\, davis\, CA\, 95616\, United States
CATEGORIES:Food & Drink,Games
ATTACH;FMTTYPE=image/jpeg:https://artsalliancedavis.org/wp-content/uploads/2018/10/orange-white-aad-logo.jpg
ORGANIZER;CN="Super Owl Brewing":MAILTO:vida@superowlbrewing.com
END:VEVENT
BEGIN:VEVENT
DTSTART;TZID=America/Los_Angeles:20251204T183000
DTEND;TZID=America/Los_Angeles:20251204T193000
DTSTAMP:20260423T204046
CREATED:20251022T160137Z
LAST-MODIFIED:20251022T160137Z
UID:21260-1764873000-1764876600@artsalliancedavis.org
SUMMARY:No Brain Drain Trivia
DESCRIPTION:Hosted by Preacher. \nTrivia+Comedy+Game Show = A Real Good Time
URL:https://artsalliancedavis.org/event/no-brain-drain-trivia-550/
LOCATION:1260 Lake Blvd\, Ste 121\, Davis\, CA 95616\, 1260 Lake Blvd\, Ste 121\, davis\, CA\, 95616\, United States
CATEGORIES:Food & Drink,Games
ATTACH;FMTTYPE=image/jpeg:https://artsalliancedavis.org/wp-content/uploads/2018/10/orange-white-aad-logo.jpg
ORGANIZER;CN="Super Owl Brewing":MAILTO:vida@superowlbrewing.com
END:VEVENT
BEGIN:VEVENT
DTSTART;TZID=America/Los_Angeles:20251204T183000
DTEND;TZID=America/Los_Angeles:20251204T193000
DTSTAMP:20260423T204046
CREATED:20251022T160138Z
LAST-MODIFIED:20251022T160138Z
UID:21261-1764873000-1764876600@artsalliancedavis.org
SUMMARY:No Brain Drain Trivia
DESCRIPTION:Hosted by Preacher. \nTrivia+Comedy+Game Show = A Real Good Time
URL:https://artsalliancedavis.org/event/no-brain-drain-trivia-551/
LOCATION:1260 Lake Blvd\, Ste 121\, Davis\, CA 95616\, 1260 Lake Blvd\, Ste 121\, davis\, CA\, 95616\, United States
CATEGORIES:Food & Drink,Games
ATTACH;FMTTYPE=image/jpeg:https://artsalliancedavis.org/wp-content/uploads/2018/10/orange-white-aad-logo.jpg
ORGANIZER;CN="Super Owl Brewing":MAILTO:vida@superowlbrewing.com
END:VEVENT
BEGIN:VEVENT
DTSTART;TZID=America/Los_Angeles:20251204T183000
DTEND;TZID=America/Los_Angeles:20251204T193000
DTSTAMP:20260423T204046
CREATED:20251022T160138Z
LAST-MODIFIED:20251022T160138Z
UID:21262-1764873000-1764876600@artsalliancedavis.org
SUMMARY:No Brain Drain Trivia
DESCRIPTION:Hosted by Preacher. \nTrivia+Comedy+Game Show = A Real Good Time
URL:https://artsalliancedavis.org/event/no-brain-drain-trivia-552/
LOCATION:1260 Lake Blvd\, Ste 121\, Davis\, CA 95616\, 1260 Lake Blvd\, Ste 121\, davis\, CA\, 95616\, United States
CATEGORIES:Food & Drink,Games
ATTACH;FMTTYPE=image/jpeg:https://artsalliancedavis.org/wp-content/uploads/2018/10/orange-white-aad-logo.jpg
ORGANIZER;CN="Super Owl Brewing":MAILTO:vida@superowlbrewing.com
END:VEVENT
BEGIN:VEVENT
DTSTART;TZID=America/Los_Angeles:20251204T183000
DTEND;TZID=America/Los_Angeles:20251204T193000
DTSTAMP:20260423T204046
CREATED:20251022T160140Z
LAST-MODIFIED:20251022T160140Z
UID:21263-1764873000-1764876600@artsalliancedavis.org
SUMMARY:No Brain Drain Trivia
DESCRIPTION:Hosted by Preacher. \nTrivia+Comedy+Game Show = A Real Good Time
URL:https://artsalliancedavis.org/event/no-brain-drain-trivia-553/
LOCATION:1260 Lake Blvd\, Ste 121\, Davis\, CA 95616\, 1260 Lake Blvd\, Ste 121\, davis\, CA\, 95616\, United States
CATEGORIES:Food & Drink,Games
ATTACH;FMTTYPE=image/jpeg:https://artsalliancedavis.org/wp-content/uploads/2018/10/orange-white-aad-logo.jpg
ORGANIZER;CN="Super Owl Brewing":MAILTO:vida@superowlbrewing.com
END:VEVENT
BEGIN:VEVENT
DTSTART;TZID=America/Los_Angeles:20251204T183000
DTEND;TZID=America/Los_Angeles:20251204T193000
DTSTAMP:20260423T204046
CREATED:20251022T160141Z
LAST-MODIFIED:20251022T160141Z
UID:21264-1764873000-1764876600@artsalliancedavis.org
SUMMARY:No Brain Drain Trivia
DESCRIPTION:Hosted by Preacher. \nTrivia+Comedy+Game Show = A Real Good Time
URL:https://artsalliancedavis.org/event/no-brain-drain-trivia-554/
LOCATION:1260 Lake Blvd\, Ste 121\, Davis\, CA 95616\, 1260 Lake Blvd\, Ste 121\, davis\, CA\, 95616\, United States
CATEGORIES:Food & Drink,Games
ATTACH;FMTTYPE=image/jpeg:https://artsalliancedavis.org/wp-content/uploads/2018/10/orange-white-aad-logo.jpg
ORGANIZER;CN="Super Owl Brewing":MAILTO:vida@superowlbrewing.com
END:VEVENT
BEGIN:VEVENT
DTSTART;TZID=America/Los_Angeles:20251204T183000
DTEND;TZID=America/Los_Angeles:20251204T193000
DTSTAMP:20260423T204046
CREATED:20251022T160142Z
LAST-MODIFIED:20251022T160142Z
UID:21265-1764873000-1764876600@artsalliancedavis.org
SUMMARY:No Brain Drain Trivia
DESCRIPTION:Hosted by Preacher. \nTrivia+Comedy+Game Show = A Real Good Time
URL:https://artsalliancedavis.org/event/no-brain-drain-trivia-555/
LOCATION:1260 Lake Blvd\, Ste 121\, Davis\, CA 95616\, 1260 Lake Blvd\, Ste 121\, davis\, CA\, 95616\, United States
CATEGORIES:Food & Drink,Games
ATTACH;FMTTYPE=image/jpeg:https://artsalliancedavis.org/wp-content/uploads/2018/10/orange-white-aad-logo.jpg
ORGANIZER;CN="Super Owl Brewing":MAILTO:vida@superowlbrewing.com
END:VEVENT
BEGIN:VEVENT
DTSTART;TZID=America/Los_Angeles:20251204T183000
DTEND;TZID=America/Los_Angeles:20251204T193000
DTSTAMP:20260423T204046
CREATED:20251022T160143Z
LAST-MODIFIED:20251022T160143Z
UID:21266-1764873000-1764876600@artsalliancedavis.org
SUMMARY:No Brain Drain Trivia
DESCRIPTION:Hosted by Preacher. \nTrivia+Comedy+Game Show = A Real Good Time
URL:https://artsalliancedavis.org/event/no-brain-drain-trivia-556/
LOCATION:1260 Lake Blvd\, Ste 121\, Davis\, CA 95616\, 1260 Lake Blvd\, Ste 121\, davis\, CA\, 95616\, United States
CATEGORIES:Food & Drink,Games
ATTACH;FMTTYPE=image/jpeg:https://artsalliancedavis.org/wp-content/uploads/2018/10/orange-white-aad-logo.jpg
ORGANIZER;CN="Super Owl Brewing":MAILTO:vida@superowlbrewing.com
END:VEVENT
END:VCALENDAR