BEGIN:VCALENDAR
VERSION:2.0
PRODID:-//Arts Alliance Davis - ECPv6.15.20//NONSGML v1.0//EN
CALSCALE:GREGORIAN
METHOD:PUBLISH
X-ORIGINAL-URL:https://artsalliancedavis.org
X-WR-CALDESC:Events for Arts Alliance Davis
REFRESH-INTERVAL;VALUE=DURATION:PT1H
X-Robots-Tag:noindex
X-PUBLISHED-TTL:PT1H
BEGIN:VTIMEZONE
TZID:America/Los_Angeles
BEGIN:DAYLIGHT
TZOFFSETFROM:-0800
TZOFFSETTO:-0700
TZNAME:PDT
DTSTART:20250309T100000
END:DAYLIGHT
BEGIN:STANDARD
TZOFFSETFROM:-0700
TZOFFSETTO:-0800
TZNAME:PST
DTSTART:20251102T090000
END:STANDARD
BEGIN:DAYLIGHT
TZOFFSETFROM:-0800
TZOFFSETTO:-0700
TZNAME:PDT
DTSTART:20260308T100000
END:DAYLIGHT
BEGIN:STANDARD
TZOFFSETFROM:-0700
TZOFFSETTO:-0800
TZNAME:PST
DTSTART:20261101T090000
END:STANDARD
BEGIN:DAYLIGHT
TZOFFSETFROM:-0800
TZOFFSETTO:-0700
TZNAME:PDT
DTSTART:20270314T100000
END:DAYLIGHT
BEGIN:STANDARD
TZOFFSETFROM:-0700
TZOFFSETTO:-0800
TZNAME:PST
DTSTART:20271107T090000
END:STANDARD
END:VTIMEZONE
BEGIN:VEVENT
DTSTART;TZID=America/Los_Angeles:20260301T120000
DTEND;TZID=America/Los_Angeles:20260301T150000
DTSTAMP:20260423T151521
CREATED:20260115T210124Z
LAST-MODIFIED:20260115T210124Z
UID:23246-1772366400-1772377200@artsalliancedavis.org
SUMMARY:Donut & Wine Pairing
DESCRIPTION:🍩🍷 Donut & Wine Paired Tasting at Great Bear Vineyards ✨\nSunday\, March 1 | 12–3pm\nTicket includes a flight of 4 wines paired with 4 donuts \nWe’re opening our doors on a Sunday again—and we’re doing it the Great Bear way. Help us kick off the spring–summer season with a playful\, joy-filled Donut & Wine Paired Tasting\, celebrating the return of longer afternoons\, shared tables\, and delicious surprises. \nDonuts + wine? Oh yes. We’ve done the (very tasty) research\, and the results are unexpected\, delightful\, and outrageously good. This experience is all about bright flavors\, surprising combinations\, and the fun of discovering what works—together. \nSuggested Pairings Include:\n• Sparkling Brut or Mimosa + Classic Glazed\n• Sparkling Rosé + Cherry or Red Jelly\n• White Dessert Wine + Lemon\, Coconut\, or Maple\n• Ruby Port-Style Dessert Wine + Chocolate or Maple \nYou’ll enjoy a guided flight of four wines\, plus your choice of four whole donuts selected to create memorable flavor moments. Feeling generous? Share the fun by choosing one donut pairing and adding separate wine tastings for friends ($20 per person)—everyone gets to join in the discovery. \nWe’ll offer pairing tips\, then encourage you to mix\, match\, and explore your own favorites. Don’t forget to cast your vote at the end—we love seeing which pairing surprises you most 🍷🍩 \nBring your sweet tooth\, your curiosity\, and a few friends to help us celebrate the return of Sundays with an afternoon of fun\, flavor\, and just the right amount of indulgence at Great Bear Vineyards. \nImportant Details:\n• Tickets must be purchased in advance\n• Ticket sales close Saturday\, February 28 at 12:00pm\n• Limited availability to ensure a relaxed\, high-quality experience \nSpring starts here—and it tastes like wine and donuts ✨
URL:https://artsalliancedavis.org/event/donut-wine-pairing-4/
LOCATION:Great Bear Vineyards (Great Bear)\, 24800 County Rd 101A
CATEGORIES:Food & Drink
ATTACH;FMTTYPE=image/png:https://artsalliancedavis.org/wp-content/uploads/2026/01/3-1-26-Thumbnail-sJha7y.png
ORGANIZER;CN="Great Bear Vineyards":MAILTO:greatbearvineyards@gmail.com
END:VEVENT
BEGIN:VEVENT
DTSTART;TZID=America/Los_Angeles:20260303T170000
DTEND;TZID=America/Los_Angeles:20260303T220000
DTSTAMP:20260423T151521
CREATED:20251203T202106Z
LAST-MODIFIED:20251203T202106Z
UID:22557-1772557200-1772575200@artsalliancedavis.org
SUMMARY:Drawing Club
DESCRIPTION:Every Tuesday from 5-10pm at Dunloe Brewing’s – The Local\, creative people of all levels are invited to participate in Drawing Club. Grab a cold drink and surround yourself with other people who want to draw. You can bring your own materials\, or work from the variety of materials that we provide from the free art supply pantry.
URL:https://artsalliancedavis.org/event/drawing-club-57/
LOCATION:Dunloe Brewing\, 1606 Olive Dr\, Davis\, 95616\, United States
CATEGORIES:Art,Community,Food & Drink
ATTACH;FMTTYPE=image/jpeg:https://artsalliancedavis.org/wp-content/uploads/2025/02/Untitled_Artwork-CxtnUh.tmp_.jpg
END:VEVENT
BEGIN:VEVENT
DTSTART;TZID=America/Los_Angeles:20260304T150000
DTEND;TZID=America/Los_Angeles:20260304T180000
DTSTAMP:20260423T151521
CREATED:20251204T203753Z
LAST-MODIFIED:20251204T203753Z
UID:22582-1772636400-1772647200@artsalliancedavis.org
SUMMARY:Davis Farmers Market
DESCRIPTION:Year-round at Central Park in downtown Davis\, thousands gather each week to shop for what is grown\, raised\, and made locally at our markets. We are dedicated to bringing farmers right to your table\, so we stay open rain or shine. \nWalk rows of stalls lined with an array of fruits and vegetables\, including certified organic produce\, choice meats\, chicken\, seafood\, wine\, local eggs and honey. Choose from a variety of fresh-baked goods\, plants\, flowers and gifts. Enjoy a picnic from one of our many food stands\, made from market ingredients. \nSee the vendor list here: https://www.davisfarmersmarket.org/our-sellers/ \nFarmers Market Hours  \nCentral Park: Saturdays 8a–1p (year-round)\, and Wednesdays 3p–6p (October through April); 4p–8p (May through September)\nUC Davis – North Quad: Wednesdays 10a–1:30p (fall and spring quarters)\nSutter Davis Hospital: Thursdays 10a–1p (May through September)\nSutter Medical Center\, Sacramento: Thursdays 2:30p–5:30p \n 
URL:https://artsalliancedavis.org/event/davis-farmers-market-334/
LOCATION:Central Park\, 101 C St\, Davis\, CA\, United States
CATEGORIES:Bring the Kids,Food & Drink,Shopping
ATTACH;FMTTYPE=image/png:https://artsalliancedavis.org/wp-content/uploads/2022/10/davis-farmers-market-logo-KERN-ADJUST2-01-1-e1649900473633-4mwvRA.tmp_.png
ORGANIZER;CN="Davis Farmers Market":MAILTO:dfmpr@dcn.org
END:VEVENT
BEGIN:VEVENT
DTSTART;TZID=America/Los_Angeles:20260305T183000
DTEND;TZID=America/Los_Angeles:20260305T193000
DTSTAMP:20260423T151521
CREATED:20251205T211016Z
LAST-MODIFIED:20251205T211016Z
UID:22594-1772735400-1772739000@artsalliancedavis.org
SUMMARY:No Brain Drain Trivia
DESCRIPTION:Hosted by Preacher. \nTrivia+Comedy+Game Show = A Real Good Time
URL:https://artsalliancedavis.org/event/no-brain-drain-trivia-906/
LOCATION:1260 Lake Blvd\, Ste 121\, Davis\, CA 95616\, 1260 Lake Blvd\, Ste 121\, davis\, CA\, 95616\, United States
CATEGORIES:Food & Drink,Games
ATTACH;FMTTYPE=image/jpeg:https://artsalliancedavis.org/wp-content/uploads/2018/10/orange-white-aad-logo.jpg
ORGANIZER;CN="Super Owl Brewing":MAILTO:vida@superowlbrewing.com
END:VEVENT
BEGIN:VEVENT
DTSTART;TZID=America/Los_Angeles:20260305T183000
DTEND;TZID=America/Los_Angeles:20260305T193000
DTSTAMP:20260423T151521
CREATED:20251205T211018Z
LAST-MODIFIED:20251205T211018Z
UID:22595-1772735400-1772739000@artsalliancedavis.org
SUMMARY:No Brain Drain Trivia
DESCRIPTION:Hosted by Preacher. \nTrivia+Comedy+Game Show = A Real Good Time
URL:https://artsalliancedavis.org/event/no-brain-drain-trivia-907/
LOCATION:1260 Lake Blvd\, Ste 121\, Davis\, CA 95616\, 1260 Lake Blvd\, Ste 121\, davis\, CA\, 95616\, United States
CATEGORIES:Food & Drink,Games
ATTACH;FMTTYPE=image/jpeg:https://artsalliancedavis.org/wp-content/uploads/2018/10/orange-white-aad-logo.jpg
ORGANIZER;CN="Super Owl Brewing":MAILTO:vida@superowlbrewing.com
END:VEVENT
BEGIN:VEVENT
DTSTART;TZID=America/Los_Angeles:20260305T183000
DTEND;TZID=America/Los_Angeles:20260305T193000
DTSTAMP:20260423T151521
CREATED:20251205T211019Z
LAST-MODIFIED:20251205T211019Z
UID:22596-1772735400-1772739000@artsalliancedavis.org
SUMMARY:No Brain Drain Trivia
DESCRIPTION:Hosted by Preacher. \nTrivia+Comedy+Game Show = A Real Good Time
URL:https://artsalliancedavis.org/event/no-brain-drain-trivia-908/
LOCATION:1260 Lake Blvd\, Ste 121\, Davis\, CA 95616\, 1260 Lake Blvd\, Ste 121\, davis\, CA\, 95616\, United States
CATEGORIES:Food & Drink,Games
ATTACH;FMTTYPE=image/jpeg:https://artsalliancedavis.org/wp-content/uploads/2018/10/orange-white-aad-logo.jpg
ORGANIZER;CN="Super Owl Brewing":MAILTO:vida@superowlbrewing.com
END:VEVENT
BEGIN:VEVENT
DTSTART;TZID=America/Los_Angeles:20260305T183000
DTEND;TZID=America/Los_Angeles:20260305T193000
DTSTAMP:20260423T151521
CREATED:20251205T211021Z
LAST-MODIFIED:20251205T211021Z
UID:22597-1772735400-1772739000@artsalliancedavis.org
SUMMARY:No Brain Drain Trivia
DESCRIPTION:Hosted by Preacher. \nTrivia+Comedy+Game Show = A Real Good Time
URL:https://artsalliancedavis.org/event/no-brain-drain-trivia-909/
LOCATION:1260 Lake Blvd\, Ste 121\, Davis\, CA 95616\, 1260 Lake Blvd\, Ste 121\, davis\, CA\, 95616\, United States
CATEGORIES:Food & Drink,Games
ATTACH;FMTTYPE=image/jpeg:https://artsalliancedavis.org/wp-content/uploads/2018/10/orange-white-aad-logo.jpg
ORGANIZER;CN="Super Owl Brewing":MAILTO:vida@superowlbrewing.com
END:VEVENT
BEGIN:VEVENT
DTSTART;TZID=America/Los_Angeles:20260305T183000
DTEND;TZID=America/Los_Angeles:20260305T193000
DTSTAMP:20260423T151521
CREATED:20251205T211023Z
LAST-MODIFIED:20251205T211023Z
UID:22598-1772735400-1772739000@artsalliancedavis.org
SUMMARY:No Brain Drain Trivia
DESCRIPTION:Hosted by Preacher. \nTrivia+Comedy+Game Show = A Real Good Time
URL:https://artsalliancedavis.org/event/no-brain-drain-trivia-910/
LOCATION:1260 Lake Blvd\, Ste 121\, Davis\, CA 95616\, 1260 Lake Blvd\, Ste 121\, davis\, CA\, 95616\, United States
CATEGORIES:Food & Drink,Games
ATTACH;FMTTYPE=image/jpeg:https://artsalliancedavis.org/wp-content/uploads/2018/10/orange-white-aad-logo.jpg
ORGANIZER;CN="Super Owl Brewing":MAILTO:vida@superowlbrewing.com
END:VEVENT
BEGIN:VEVENT
DTSTART;TZID=America/Los_Angeles:20260305T183000
DTEND;TZID=America/Los_Angeles:20260305T193000
DTSTAMP:20260423T151521
CREATED:20251205T211025Z
LAST-MODIFIED:20251205T211025Z
UID:22599-1772735400-1772739000@artsalliancedavis.org
SUMMARY:No Brain Drain Trivia
DESCRIPTION:Hosted by Preacher. \nTrivia+Comedy+Game Show = A Real Good Time
URL:https://artsalliancedavis.org/event/no-brain-drain-trivia-911/
LOCATION:1260 Lake Blvd\, Ste 121\, Davis\, CA 95616\, 1260 Lake Blvd\, Ste 121\, davis\, CA\, 95616\, United States
CATEGORIES:Food & Drink,Games
ATTACH;FMTTYPE=image/jpeg:https://artsalliancedavis.org/wp-content/uploads/2018/10/orange-white-aad-logo.jpg
ORGANIZER;CN="Super Owl Brewing":MAILTO:vida@superowlbrewing.com
END:VEVENT
BEGIN:VEVENT
DTSTART;TZID=America/Los_Angeles:20260305T183000
DTEND;TZID=America/Los_Angeles:20260305T193000
DTSTAMP:20260423T151521
CREATED:20251205T211026Z
LAST-MODIFIED:20251205T211026Z
UID:22600-1772735400-1772739000@artsalliancedavis.org
SUMMARY:No Brain Drain Trivia
DESCRIPTION:Hosted by Preacher. \nTrivia+Comedy+Game Show = A Real Good Time
URL:https://artsalliancedavis.org/event/no-brain-drain-trivia-912/
LOCATION:1260 Lake Blvd\, Ste 121\, Davis\, CA 95616\, 1260 Lake Blvd\, Ste 121\, davis\, CA\, 95616\, United States
CATEGORIES:Food & Drink,Games
ATTACH;FMTTYPE=image/jpeg:https://artsalliancedavis.org/wp-content/uploads/2018/10/orange-white-aad-logo.jpg
ORGANIZER;CN="Super Owl Brewing":MAILTO:vida@superowlbrewing.com
END:VEVENT
BEGIN:VEVENT
DTSTART;TZID=America/Los_Angeles:20260305T183000
DTEND;TZID=America/Los_Angeles:20260305T193000
DTSTAMP:20260423T151521
CREATED:20251205T211028Z
LAST-MODIFIED:20251205T211028Z
UID:22601-1772735400-1772739000@artsalliancedavis.org
SUMMARY:No Brain Drain Trivia
DESCRIPTION:Hosted by Preacher. \nTrivia+Comedy+Game Show = A Real Good Time
URL:https://artsalliancedavis.org/event/no-brain-drain-trivia-913/
LOCATION:1260 Lake Blvd\, Ste 121\, Davis\, CA 95616\, 1260 Lake Blvd\, Ste 121\, davis\, CA\, 95616\, United States
CATEGORIES:Food & Drink,Games
ATTACH;FMTTYPE=image/jpeg:https://artsalliancedavis.org/wp-content/uploads/2018/10/orange-white-aad-logo.jpg
ORGANIZER;CN="Super Owl Brewing":MAILTO:vida@superowlbrewing.com
END:VEVENT
BEGIN:VEVENT
DTSTART;TZID=America/Los_Angeles:20260305T183000
DTEND;TZID=America/Los_Angeles:20260305T193000
DTSTAMP:20260423T151521
CREATED:20251205T211044Z
LAST-MODIFIED:20251205T211044Z
UID:22602-1772735400-1772739000@artsalliancedavis.org
SUMMARY:No Brain Drain Trivia
DESCRIPTION:Hosted by Preacher. \nTrivia+Comedy+Game Show = A Real Good Time
URL:https://artsalliancedavis.org/event/no-brain-drain-trivia-914/
LOCATION:1260 Lake Blvd\, Ste 121\, Davis\, CA 95616\, 1260 Lake Blvd\, Ste 121\, davis\, CA\, 95616\, United States
CATEGORIES:Food & Drink,Games
ATTACH;FMTTYPE=image/jpeg:https://artsalliancedavis.org/wp-content/uploads/2018/10/orange-white-aad-logo.jpg
ORGANIZER;CN="Super Owl Brewing":MAILTO:vida@superowlbrewing.com
END:VEVENT
BEGIN:VEVENT
DTSTART;TZID=America/Los_Angeles:20260305T183000
DTEND;TZID=America/Los_Angeles:20260305T193000
DTSTAMP:20260423T151521
CREATED:20251205T211046Z
LAST-MODIFIED:20251205T211046Z
UID:22603-1772735400-1772739000@artsalliancedavis.org
SUMMARY:No Brain Drain Trivia
DESCRIPTION:Hosted by Preacher. \nTrivia+Comedy+Game Show = A Real Good Time
URL:https://artsalliancedavis.org/event/no-brain-drain-trivia-915/
LOCATION:1260 Lake Blvd\, Ste 121\, Davis\, CA 95616\, 1260 Lake Blvd\, Ste 121\, davis\, CA\, 95616\, United States
CATEGORIES:Food & Drink,Games
ATTACH;FMTTYPE=image/jpeg:https://artsalliancedavis.org/wp-content/uploads/2018/10/orange-white-aad-logo.jpg
ORGANIZER;CN="Super Owl Brewing":MAILTO:vida@superowlbrewing.com
END:VEVENT
BEGIN:VEVENT
DTSTART;TZID=America/Los_Angeles:20260305T183000
DTEND;TZID=America/Los_Angeles:20260305T193000
DTSTAMP:20260423T151521
CREATED:20251205T211048Z
LAST-MODIFIED:20251205T211048Z
UID:22604-1772735400-1772739000@artsalliancedavis.org
SUMMARY:No Brain Drain Trivia
DESCRIPTION:Hosted by Preacher. \nTrivia+Comedy+Game Show = A Real Good Time
URL:https://artsalliancedavis.org/event/no-brain-drain-trivia-916/
LOCATION:1260 Lake Blvd\, Ste 121\, Davis\, CA 95616\, 1260 Lake Blvd\, Ste 121\, davis\, CA\, 95616\, United States
CATEGORIES:Food & Drink,Games
ATTACH;FMTTYPE=image/jpeg:https://artsalliancedavis.org/wp-content/uploads/2018/10/orange-white-aad-logo.jpg
ORGANIZER;CN="Super Owl Brewing":MAILTO:vida@superowlbrewing.com
END:VEVENT
BEGIN:VEVENT
DTSTART;TZID=America/Los_Angeles:20260305T183000
DTEND;TZID=America/Los_Angeles:20260305T193000
DTSTAMP:20260423T151521
CREATED:20251205T211050Z
LAST-MODIFIED:20251205T211050Z
UID:22605-1772735400-1772739000@artsalliancedavis.org
SUMMARY:No Brain Drain Trivia
DESCRIPTION:Hosted by Preacher. \nTrivia+Comedy+Game Show = A Real Good Time
URL:https://artsalliancedavis.org/event/no-brain-drain-trivia-917/
LOCATION:1260 Lake Blvd\, Ste 121\, Davis\, CA 95616\, 1260 Lake Blvd\, Ste 121\, davis\, CA\, 95616\, United States
CATEGORIES:Food & Drink,Games
ATTACH;FMTTYPE=image/jpeg:https://artsalliancedavis.org/wp-content/uploads/2018/10/orange-white-aad-logo.jpg
ORGANIZER;CN="Super Owl Brewing":MAILTO:vida@superowlbrewing.com
END:VEVENT
BEGIN:VEVENT
DTSTART;TZID=America/Los_Angeles:20260305T183000
DTEND;TZID=America/Los_Angeles:20260305T193000
DTSTAMP:20260423T151521
CREATED:20251205T211051Z
LAST-MODIFIED:20251205T211051Z
UID:22606-1772735400-1772739000@artsalliancedavis.org
SUMMARY:No Brain Drain Trivia
DESCRIPTION:Hosted by Preacher. \nTrivia+Comedy+Game Show = A Real Good Time
URL:https://artsalliancedavis.org/event/no-brain-drain-trivia-918/
LOCATION:1260 Lake Blvd\, Ste 121\, Davis\, CA 95616\, 1260 Lake Blvd\, Ste 121\, davis\, CA\, 95616\, United States
CATEGORIES:Food & Drink,Games
ATTACH;FMTTYPE=image/jpeg:https://artsalliancedavis.org/wp-content/uploads/2018/10/orange-white-aad-logo.jpg
ORGANIZER;CN="Super Owl Brewing":MAILTO:vida@superowlbrewing.com
END:VEVENT
BEGIN:VEVENT
DTSTART;TZID=America/Los_Angeles:20260305T183000
DTEND;TZID=America/Los_Angeles:20260305T193000
DTSTAMP:20260423T151521
CREATED:20251205T211053Z
LAST-MODIFIED:20251205T211053Z
UID:22607-1772735400-1772739000@artsalliancedavis.org
SUMMARY:No Brain Drain Trivia
DESCRIPTION:Hosted by Preacher. \nTrivia+Comedy+Game Show = A Real Good Time
URL:https://artsalliancedavis.org/event/no-brain-drain-trivia-919/
LOCATION:1260 Lake Blvd\, Ste 121\, Davis\, CA 95616\, 1260 Lake Blvd\, Ste 121\, davis\, CA\, 95616\, United States
CATEGORIES:Food & Drink,Games
ATTACH;FMTTYPE=image/jpeg:https://artsalliancedavis.org/wp-content/uploads/2018/10/orange-white-aad-logo.jpg
ORGANIZER;CN="Super Owl Brewing":MAILTO:vida@superowlbrewing.com
END:VEVENT
BEGIN:VEVENT
DTSTART;TZID=America/Los_Angeles:20260305T183000
DTEND;TZID=America/Los_Angeles:20260305T193000
DTSTAMP:20260423T151521
CREATED:20251205T211055Z
LAST-MODIFIED:20251205T211055Z
UID:22608-1772735400-1772739000@artsalliancedavis.org
SUMMARY:No Brain Drain Trivia
DESCRIPTION:Hosted by Preacher. \nTrivia+Comedy+Game Show = A Real Good Time
URL:https://artsalliancedavis.org/event/no-brain-drain-trivia-920/
LOCATION:1260 Lake Blvd\, Ste 121\, Davis\, CA 95616\, 1260 Lake Blvd\, Ste 121\, davis\, CA\, 95616\, United States
CATEGORIES:Food & Drink,Games
ATTACH;FMTTYPE=image/jpeg:https://artsalliancedavis.org/wp-content/uploads/2018/10/orange-white-aad-logo.jpg
ORGANIZER;CN="Super Owl Brewing":MAILTO:vida@superowlbrewing.com
END:VEVENT
BEGIN:VEVENT
DTSTART;TZID=America/Los_Angeles:20260305T183000
DTEND;TZID=America/Los_Angeles:20260305T193000
DTSTAMP:20260423T151521
CREATED:20251205T211057Z
LAST-MODIFIED:20251205T211057Z
UID:22609-1772735400-1772739000@artsalliancedavis.org
SUMMARY:No Brain Drain Trivia
DESCRIPTION:Hosted by Preacher. \nTrivia+Comedy+Game Show = A Real Good Time
URL:https://artsalliancedavis.org/event/no-brain-drain-trivia-921/
LOCATION:1260 Lake Blvd\, Ste 121\, Davis\, CA 95616\, 1260 Lake Blvd\, Ste 121\, davis\, CA\, 95616\, United States
CATEGORIES:Food & Drink,Games
ATTACH;FMTTYPE=image/jpeg:https://artsalliancedavis.org/wp-content/uploads/2018/10/orange-white-aad-logo.jpg
ORGANIZER;CN="Super Owl Brewing":MAILTO:vida@superowlbrewing.com
END:VEVENT
BEGIN:VEVENT
DTSTART;TZID=America/Los_Angeles:20260305T183000
DTEND;TZID=America/Los_Angeles:20260305T193000
DTSTAMP:20260423T151521
CREATED:20251205T211058Z
LAST-MODIFIED:20251205T211058Z
UID:22610-1772735400-1772739000@artsalliancedavis.org
SUMMARY:No Brain Drain Trivia
DESCRIPTION:Hosted by Preacher. \nTrivia+Comedy+Game Show = A Real Good Time
URL:https://artsalliancedavis.org/event/no-brain-drain-trivia-922/
LOCATION:1260 Lake Blvd\, Ste 121\, Davis\, CA 95616\, 1260 Lake Blvd\, Ste 121\, davis\, CA\, 95616\, United States
CATEGORIES:Food & Drink,Games
ATTACH;FMTTYPE=image/jpeg:https://artsalliancedavis.org/wp-content/uploads/2018/10/orange-white-aad-logo.jpg
ORGANIZER;CN="Super Owl Brewing":MAILTO:vida@superowlbrewing.com
END:VEVENT
BEGIN:VEVENT
DTSTART;TZID=America/Los_Angeles:20260305T183000
DTEND;TZID=America/Los_Angeles:20260305T193000
DTSTAMP:20260423T151521
CREATED:20251205T211100Z
LAST-MODIFIED:20251205T211100Z
UID:22611-1772735400-1772739000@artsalliancedavis.org
SUMMARY:No Brain Drain Trivia
DESCRIPTION:Hosted by Preacher. \nTrivia+Comedy+Game Show = A Real Good Time
URL:https://artsalliancedavis.org/event/no-brain-drain-trivia-923/
LOCATION:1260 Lake Blvd\, Ste 121\, Davis\, CA 95616\, 1260 Lake Blvd\, Ste 121\, davis\, CA\, 95616\, United States
CATEGORIES:Food & Drink,Games
ATTACH;FMTTYPE=image/jpeg:https://artsalliancedavis.org/wp-content/uploads/2018/10/orange-white-aad-logo.jpg
ORGANIZER;CN="Super Owl Brewing":MAILTO:vida@superowlbrewing.com
END:VEVENT
BEGIN:VEVENT
DTSTART;TZID=America/Los_Angeles:20260305T183000
DTEND;TZID=America/Los_Angeles:20260305T193000
DTSTAMP:20260423T151521
CREATED:20251205T211116Z
LAST-MODIFIED:20251205T211116Z
UID:22612-1772735400-1772739000@artsalliancedavis.org
SUMMARY:No Brain Drain Trivia
DESCRIPTION:Hosted by Preacher. \nTrivia+Comedy+Game Show = A Real Good Time
URL:https://artsalliancedavis.org/event/no-brain-drain-trivia-924/
LOCATION:1260 Lake Blvd\, Ste 121\, Davis\, CA 95616\, 1260 Lake Blvd\, Ste 121\, davis\, CA\, 95616\, United States
CATEGORIES:Food & Drink,Games
ATTACH;FMTTYPE=image/jpeg:https://artsalliancedavis.org/wp-content/uploads/2018/10/orange-white-aad-logo.jpg
ORGANIZER;CN="Super Owl Brewing":MAILTO:vida@superowlbrewing.com
END:VEVENT
BEGIN:VEVENT
DTSTART;TZID=America/Los_Angeles:20260305T183000
DTEND;TZID=America/Los_Angeles:20260305T193000
DTSTAMP:20260423T151521
CREATED:20251205T211118Z
LAST-MODIFIED:20251205T211118Z
UID:22613-1772735400-1772739000@artsalliancedavis.org
SUMMARY:No Brain Drain Trivia
DESCRIPTION:Hosted by Preacher. \nTrivia+Comedy+Game Show = A Real Good Time
URL:https://artsalliancedavis.org/event/no-brain-drain-trivia-925/
LOCATION:1260 Lake Blvd\, Ste 121\, Davis\, CA 95616\, 1260 Lake Blvd\, Ste 121\, davis\, CA\, 95616\, United States
CATEGORIES:Food & Drink,Games
ATTACH;FMTTYPE=image/jpeg:https://artsalliancedavis.org/wp-content/uploads/2018/10/orange-white-aad-logo.jpg
ORGANIZER;CN="Super Owl Brewing":MAILTO:vida@superowlbrewing.com
END:VEVENT
BEGIN:VEVENT
DTSTART;TZID=America/Los_Angeles:20260305T183000
DTEND;TZID=America/Los_Angeles:20260305T193000
DTSTAMP:20260423T151521
CREATED:20251205T211120Z
LAST-MODIFIED:20251205T211120Z
UID:22614-1772735400-1772739000@artsalliancedavis.org
SUMMARY:No Brain Drain Trivia
DESCRIPTION:Hosted by Preacher. \nTrivia+Comedy+Game Show = A Real Good Time
URL:https://artsalliancedavis.org/event/no-brain-drain-trivia-926/
LOCATION:1260 Lake Blvd\, Ste 121\, Davis\, CA 95616\, 1260 Lake Blvd\, Ste 121\, davis\, CA\, 95616\, United States
CATEGORIES:Food & Drink,Games
ATTACH;FMTTYPE=image/jpeg:https://artsalliancedavis.org/wp-content/uploads/2018/10/orange-white-aad-logo.jpg
ORGANIZER;CN="Super Owl Brewing":MAILTO:vida@superowlbrewing.com
END:VEVENT
BEGIN:VEVENT
DTSTART;TZID=America/Los_Angeles:20260305T183000
DTEND;TZID=America/Los_Angeles:20260305T193000
DTSTAMP:20260423T151521
CREATED:20251205T211122Z
LAST-MODIFIED:20251205T211122Z
UID:22615-1772735400-1772739000@artsalliancedavis.org
SUMMARY:No Brain Drain Trivia
DESCRIPTION:Hosted by Preacher. \nTrivia+Comedy+Game Show = A Real Good Time
URL:https://artsalliancedavis.org/event/no-brain-drain-trivia-927/
LOCATION:1260 Lake Blvd\, Ste 121\, Davis\, CA 95616\, 1260 Lake Blvd\, Ste 121\, davis\, CA\, 95616\, United States
CATEGORIES:Food & Drink,Games
ATTACH;FMTTYPE=image/jpeg:https://artsalliancedavis.org/wp-content/uploads/2018/10/orange-white-aad-logo.jpg
ORGANIZER;CN="Super Owl Brewing":MAILTO:vida@superowlbrewing.com
END:VEVENT
BEGIN:VEVENT
DTSTART;TZID=America/Los_Angeles:20260305T183000
DTEND;TZID=America/Los_Angeles:20260305T193000
DTSTAMP:20260423T151521
CREATED:20251205T211123Z
LAST-MODIFIED:20251205T211123Z
UID:22616-1772735400-1772739000@artsalliancedavis.org
SUMMARY:No Brain Drain Trivia
DESCRIPTION:Hosted by Preacher. \nTrivia+Comedy+Game Show = A Real Good Time
URL:https://artsalliancedavis.org/event/no-brain-drain-trivia-928/
LOCATION:1260 Lake Blvd\, Ste 121\, Davis\, CA 95616\, 1260 Lake Blvd\, Ste 121\, davis\, CA\, 95616\, United States
CATEGORIES:Food & Drink,Games
ATTACH;FMTTYPE=image/jpeg:https://artsalliancedavis.org/wp-content/uploads/2018/10/orange-white-aad-logo.jpg
ORGANIZER;CN="Super Owl Brewing":MAILTO:vida@superowlbrewing.com
END:VEVENT
BEGIN:VEVENT
DTSTART;TZID=America/Los_Angeles:20260305T183000
DTEND;TZID=America/Los_Angeles:20260305T193000
DTSTAMP:20260423T151521
CREATED:20251205T211125Z
LAST-MODIFIED:20251205T211125Z
UID:22617-1772735400-1772739000@artsalliancedavis.org
SUMMARY:No Brain Drain Trivia
DESCRIPTION:Hosted by Preacher. \nTrivia+Comedy+Game Show = A Real Good Time
URL:https://artsalliancedavis.org/event/no-brain-drain-trivia-929/
LOCATION:1260 Lake Blvd\, Ste 121\, Davis\, CA 95616\, 1260 Lake Blvd\, Ste 121\, davis\, CA\, 95616\, United States
CATEGORIES:Food & Drink,Games
ATTACH;FMTTYPE=image/jpeg:https://artsalliancedavis.org/wp-content/uploads/2018/10/orange-white-aad-logo.jpg
ORGANIZER;CN="Super Owl Brewing":MAILTO:vida@superowlbrewing.com
END:VEVENT
BEGIN:VEVENT
DTSTART;TZID=America/Los_Angeles:20260305T183000
DTEND;TZID=America/Los_Angeles:20260305T193000
DTSTAMP:20260423T151521
CREATED:20251205T211127Z
LAST-MODIFIED:20251205T211127Z
UID:22618-1772735400-1772739000@artsalliancedavis.org
SUMMARY:No Brain Drain Trivia
DESCRIPTION:Hosted by Preacher. \nTrivia+Comedy+Game Show = A Real Good Time
URL:https://artsalliancedavis.org/event/no-brain-drain-trivia-930/
LOCATION:1260 Lake Blvd\, Ste 121\, Davis\, CA 95616\, 1260 Lake Blvd\, Ste 121\, davis\, CA\, 95616\, United States
CATEGORIES:Food & Drink,Games
ATTACH;FMTTYPE=image/jpeg:https://artsalliancedavis.org/wp-content/uploads/2018/10/orange-white-aad-logo.jpg
ORGANIZER;CN="Super Owl Brewing":MAILTO:vida@superowlbrewing.com
END:VEVENT
BEGIN:VEVENT
DTSTART;TZID=America/Los_Angeles:20260305T183000
DTEND;TZID=America/Los_Angeles:20260305T193000
DTSTAMP:20260423T151521
CREATED:20251205T211128Z
LAST-MODIFIED:20251205T211128Z
UID:22619-1772735400-1772739000@artsalliancedavis.org
SUMMARY:No Brain Drain Trivia
DESCRIPTION:Hosted by Preacher. \nTrivia+Comedy+Game Show = A Real Good Time
URL:https://artsalliancedavis.org/event/no-brain-drain-trivia-931/
LOCATION:1260 Lake Blvd\, Ste 121\, Davis\, CA 95616\, 1260 Lake Blvd\, Ste 121\, davis\, CA\, 95616\, United States
CATEGORIES:Food & Drink,Games
ATTACH;FMTTYPE=image/jpeg:https://artsalliancedavis.org/wp-content/uploads/2018/10/orange-white-aad-logo.jpg
ORGANIZER;CN="Super Owl Brewing":MAILTO:vida@superowlbrewing.com
END:VEVENT
BEGIN:VEVENT
DTSTART;TZID=America/Los_Angeles:20260305T183000
DTEND;TZID=America/Los_Angeles:20260305T193000
DTSTAMP:20260423T151521
CREATED:20251205T211130Z
LAST-MODIFIED:20251205T211130Z
UID:22620-1772735400-1772739000@artsalliancedavis.org
SUMMARY:No Brain Drain Trivia
DESCRIPTION:Hosted by Preacher. \nTrivia+Comedy+Game Show = A Real Good Time
URL:https://artsalliancedavis.org/event/no-brain-drain-trivia-932/
LOCATION:1260 Lake Blvd\, Ste 121\, Davis\, CA 95616\, 1260 Lake Blvd\, Ste 121\, davis\, CA\, 95616\, United States
CATEGORIES:Food & Drink,Games
ATTACH;FMTTYPE=image/jpeg:https://artsalliancedavis.org/wp-content/uploads/2018/10/orange-white-aad-logo.jpg
ORGANIZER;CN="Super Owl Brewing":MAILTO:vida@superowlbrewing.com
END:VEVENT
END:VCALENDAR