BEGIN:VCALENDAR
VERSION:2.0
PRODID:-//Arts Alliance Davis - ECPv6.15.20//NONSGML v1.0//EN
CALSCALE:GREGORIAN
METHOD:PUBLISH
X-ORIGINAL-URL:https://artsalliancedavis.org
X-WR-CALDESC:Events for Arts Alliance Davis
REFRESH-INTERVAL;VALUE=DURATION:PT1H
X-Robots-Tag:noindex
X-PUBLISHED-TTL:PT1H
BEGIN:VTIMEZONE
TZID:America/Los_Angeles
BEGIN:DAYLIGHT
TZOFFSETFROM:-0800
TZOFFSETTO:-0700
TZNAME:PDT
DTSTART:20230312T100000
END:DAYLIGHT
BEGIN:STANDARD
TZOFFSETFROM:-0700
TZOFFSETTO:-0800
TZNAME:PST
DTSTART:20231105T090000
END:STANDARD
BEGIN:DAYLIGHT
TZOFFSETFROM:-0800
TZOFFSETTO:-0700
TZNAME:PDT
DTSTART:20240310T100000
END:DAYLIGHT
BEGIN:STANDARD
TZOFFSETFROM:-0700
TZOFFSETTO:-0800
TZNAME:PST
DTSTART:20241103T090000
END:STANDARD
BEGIN:DAYLIGHT
TZOFFSETFROM:-0800
TZOFFSETTO:-0700
TZNAME:PDT
DTSTART:20250309T100000
END:DAYLIGHT
BEGIN:STANDARD
TZOFFSETFROM:-0700
TZOFFSETTO:-0800
TZNAME:PST
DTSTART:20251102T090000
END:STANDARD
END:VTIMEZONE
BEGIN:VEVENT
DTSTART;TZID=America/Los_Angeles:20240903T090000
DTEND;TZID=America/Los_Angeles:20240903T163000
DTSTAMP:20260424T162032
CREATED:20240727T205317Z
LAST-MODIFIED:20240727T205317Z
UID:13852-1725354000-1725381000@artsalliancedavis.org
SUMMARY:Summer Walk-ins available at the Bohart Museum of Entomology
DESCRIPTION:From June 17 to August 27 we will be open for walk-in visitors Tuesdays 9AM-12PM\, 1PM-4:30PM. We will be closed to the public September 1-22. For weekday campus parking information visit: https://taps.ucdavis.edu/visitor
URL:https://artsalliancedavis.org/event/summer-walk-ins-available-at-the-bohart-museum-of-entomology-6/
LOCATION:Bohart Museum of Entomology (Bohart Museum)\, 1124 Academic Surge\, UC Davis Campus
CATEGORIES:Bring the Kids,Science
ATTACH;FMTTYPE=image/jpeg:https://artsalliancedavis.org/wp-content/uploads/2018/10/orange-white-aad-logo.jpg
ORGANIZER;CN="Bohart Museum of Entomology":MAILTO:bmuseum@ucdavis.edu
END:VEVENT
BEGIN:VEVENT
DTSTART;TZID=America/Los_Angeles:20240910T090000
DTEND;TZID=America/Los_Angeles:20240910T163000
DTSTAMP:20260424T162032
CREATED:20240727T205357Z
LAST-MODIFIED:20240727T205357Z
UID:13853-1725958800-1725985800@artsalliancedavis.org
SUMMARY:Summer Walk-ins available at the Bohart Museum of Entomology
DESCRIPTION:From June 17 to August 27 we will be open for walk-in visitors Tuesdays 9AM-12PM\, 1PM-4:30PM. We will be closed to the public September 1-22. For weekday campus parking information visit: https://taps.ucdavis.edu/visitor
URL:https://artsalliancedavis.org/event/summer-walk-ins-available-at-the-bohart-museum-of-entomology-7/
LOCATION:Bohart Museum of Entomology (Bohart Museum)\, 1124 Academic Surge\, UC Davis Campus
CATEGORIES:Bring the Kids,Science
ATTACH;FMTTYPE=image/jpeg:https://artsalliancedavis.org/wp-content/uploads/2018/10/orange-white-aad-logo.jpg
ORGANIZER;CN="Bohart Museum of Entomology":MAILTO:bmuseum@ucdavis.edu
END:VEVENT
BEGIN:VEVENT
DTSTART;TZID=America/Los_Angeles:20240917T090000
DTEND;TZID=America/Los_Angeles:20240917T163000
DTSTAMP:20260424T162032
CREATED:20240727T205423Z
LAST-MODIFIED:20240727T205423Z
UID:13854-1726563600-1726590600@artsalliancedavis.org
SUMMARY:Summer Walk-ins available at the Bohart Museum of Entomology
DESCRIPTION:From June 17 to August 27 we will be open for walk-in visitors Tuesdays 9AM-12PM\, 1PM-4:30PM. We will be closed to the public September 1-22. For weekday campus parking information visit: https://taps.ucdavis.edu/visitor
URL:https://artsalliancedavis.org/event/summer-walk-ins-available-at-the-bohart-museum-of-entomology-8/
LOCATION:Bohart Museum of Entomology (Bohart Museum)\, 1124 Academic Surge\, UC Davis Campus
CATEGORIES:Bring the Kids,Science
ATTACH;FMTTYPE=image/jpeg:https://artsalliancedavis.org/wp-content/uploads/2018/10/orange-white-aad-logo.jpg
ORGANIZER;CN="Bohart Museum of Entomology":MAILTO:bmuseum@ucdavis.edu
END:VEVENT
BEGIN:VEVENT
DTSTART;TZID=America/Los_Angeles:20240924T090000
DTEND;TZID=America/Los_Angeles:20240924T163000
DTSTAMP:20260424T162032
CREATED:20240727T205504Z
LAST-MODIFIED:20240727T205504Z
UID:13855-1727168400-1727195400@artsalliancedavis.org
SUMMARY:Summer Walk-ins available at the Bohart Museum of Entomology
DESCRIPTION:From June 17 to August 27 we will be open for walk-in visitors Tuesdays 9AM-12PM\, 1PM-4:30PM. We will be closed to the public September 1-22. For weekday campus parking information visit: https://taps.ucdavis.edu/visitor
URL:https://artsalliancedavis.org/event/summer-walk-ins-available-at-the-bohart-museum-of-entomology-9/
LOCATION:Bohart Museum of Entomology (Bohart Museum)\, 1124 Academic Surge\, UC Davis Campus
CATEGORIES:Bring the Kids,Science
ATTACH;FMTTYPE=image/jpeg:https://artsalliancedavis.org/wp-content/uploads/2018/10/orange-white-aad-logo.jpg
ORGANIZER;CN="Bohart Museum of Entomology":MAILTO:bmuseum@ucdavis.edu
END:VEVENT
END:VCALENDAR