BEGIN:VCALENDAR
VERSION:2.0
PRODID:-//Arts Alliance Davis - ECPv6.15.20//NONSGML v1.0//EN
CALSCALE:GREGORIAN
METHOD:PUBLISH
X-WR-CALNAME:Arts Alliance Davis
X-ORIGINAL-URL:https://artsalliancedavis.org
X-WR-CALDESC:Events for Arts Alliance Davis
REFRESH-INTERVAL;VALUE=DURATION:PT1H
X-Robots-Tag:noindex
X-PUBLISHED-TTL:PT1H
BEGIN:VTIMEZONE
TZID:America/Los_Angeles
BEGIN:DAYLIGHT
TZOFFSETFROM:-0800
TZOFFSETTO:-0700
TZNAME:PDT
DTSTART:20230312T100000
END:DAYLIGHT
BEGIN:STANDARD
TZOFFSETFROM:-0700
TZOFFSETTO:-0800
TZNAME:PST
DTSTART:20231105T090000
END:STANDARD
BEGIN:DAYLIGHT
TZOFFSETFROM:-0800
TZOFFSETTO:-0700
TZNAME:PDT
DTSTART:20240310T100000
END:DAYLIGHT
BEGIN:STANDARD
TZOFFSETFROM:-0700
TZOFFSETTO:-0800
TZNAME:PST
DTSTART:20241103T090000
END:STANDARD
BEGIN:DAYLIGHT
TZOFFSETFROM:-0800
TZOFFSETTO:-0700
TZNAME:PDT
DTSTART:20250309T100000
END:DAYLIGHT
BEGIN:STANDARD
TZOFFSETFROM:-0700
TZOFFSETTO:-0800
TZNAME:PST
DTSTART:20251102T090000
END:STANDARD
END:VTIMEZONE
BEGIN:VEVENT
DTSTART;TZID=America/Los_Angeles:20241102T130000
DTEND;TZID=America/Los_Angeles:20241102T160000
DTSTAMP:20260424T134709
CREATED:20241027T124111Z
LAST-MODIFIED:20241027T124111Z
UID:15768-1730552400-1730563200@artsalliancedavis.org
SUMMARY:Free Open House: Predators of Insects
DESCRIPTION:Free event and free parking at the UC Davis Bohart Museum of Entomology. The event will start with an engaging talk and Q and A with graduate students Emma Jochim (arachnids) and Christofer Brothers (dragonflies and kin). There will be live arachnid feedings on the hours\, hands-on activities\, and carnivorous plants. Chat with a scientist and visit our insect collection\, one of the largest in North America. \n 
URL:https://artsalliancedavis.org/event/free-open-house-predators-of-insects/
LOCATION:Bohart Museum of Entomology (Bohart Museum)\, 1124 Academic Surge\, UC Davis Campus
CATEGORIES:Science
ATTACH;FMTTYPE=image/jpeg:https://artsalliancedavis.org/wp-content/uploads/2024/10/Tarantuala-feeding-on-a-bug.-Image-by-Emma-Jochim-XAf7yA.tmp_.jpg
ORGANIZER;CN="Tabatha Yang":MAILTO:tabyang@ucdavis.edu
END:VEVENT
BEGIN:VEVENT
DTSTART;TZID=America/Los_Angeles:20241105T090000
DTEND;TZID=America/Los_Angeles:20241105T163000
DTSTAMP:20260424T134709
CREATED:20240808T000247Z
LAST-MODIFIED:20240808T000247Z
UID:13966-1730797200-1730824200@artsalliancedavis.org
SUMMARY:Summer Walk-ins available at the Bohart Museum of Entomology
DESCRIPTION:From June 17 to August 27 we will be open for walk-in visitors Tuesdays 9AM-12PM\, 1PM-4:30PM. We will be closed to the public September 1-22. For weekday campus parking information visit: https://taps.ucdavis.edu/visitor
URL:https://artsalliancedavis.org/event/summer-walk-ins-available-at-the-bohart-museum-of-entomology-15/
LOCATION:Bohart Museum of Entomology (Bohart Museum)\, 1124 Academic Surge\, UC Davis Campus
CATEGORIES:Bring the Kids,Science
ATTACH;FMTTYPE=image/jpeg:https://artsalliancedavis.org/wp-content/uploads/2018/10/orange-white-aad-logo.jpg
ORGANIZER;CN="Bohart Museum of Entomology":MAILTO:bmuseum@ucdavis.edu
END:VEVENT
BEGIN:VEVENT
DTSTART;TZID=America/Los_Angeles:20241112T090000
DTEND;TZID=America/Los_Angeles:20241112T163000
DTSTAMP:20260424T134709
CREATED:20240814T121329Z
LAST-MODIFIED:20240814T121329Z
UID:14022-1731402000-1731429000@artsalliancedavis.org
SUMMARY:Summer Walk-ins available at the Bohart Museum of Entomology
DESCRIPTION:From June 17 to August 27 we will be open for walk-in visitors Tuesdays 9AM-12PM\, 1PM-4:30PM. We will be closed to the public September 1-22. For weekday campus parking information visit: https://taps.ucdavis.edu/visitor
URL:https://artsalliancedavis.org/event/summer-walk-ins-available-at-the-bohart-museum-of-entomology-16/
LOCATION:Bohart Museum of Entomology (Bohart Museum)\, 1124 Academic Surge\, UC Davis Campus
CATEGORIES:Bring the Kids,Science
ATTACH;FMTTYPE=image/jpeg:https://artsalliancedavis.org/wp-content/uploads/2018/10/orange-white-aad-logo.jpg
ORGANIZER;CN="Bohart Museum of Entomology":MAILTO:bmuseum@ucdavis.edu
END:VEVENT
BEGIN:VEVENT
DTSTART;TZID=America/Los_Angeles:20241119T090000
DTEND;TZID=America/Los_Angeles:20241119T163000
DTSTAMP:20260424T134709
CREATED:20240821T141003Z
LAST-MODIFIED:20240821T141003Z
UID:14072-1732006800-1732033800@artsalliancedavis.org
SUMMARY:Summer Walk-ins available at the Bohart Museum of Entomology
DESCRIPTION:From June 17 to August 27 we will be open for walk-in visitors Tuesdays 9AM-12PM\, 1PM-4:30PM. We will be closed to the public September 1-22. For weekday campus parking information visit: https://taps.ucdavis.edu/visitor
URL:https://artsalliancedavis.org/event/summer-walk-ins-available-at-the-bohart-museum-of-entomology-17/
LOCATION:Bohart Museum of Entomology (Bohart Museum)\, 1124 Academic Surge\, UC Davis Campus
CATEGORIES:Bring the Kids,Science
ATTACH;FMTTYPE=image/jpeg:https://artsalliancedavis.org/wp-content/uploads/2018/10/orange-white-aad-logo.jpg
ORGANIZER;CN="Bohart Museum of Entomology":MAILTO:bmuseum@ucdavis.edu
END:VEVENT
END:VCALENDAR