BEGIN:VCALENDAR
VERSION:2.0
PRODID:-//Arts Alliance Davis - ECPv6.15.20//NONSGML v1.0//EN
CALSCALE:GREGORIAN
METHOD:PUBLISH
X-ORIGINAL-URL:https://artsalliancedavis.org
X-WR-CALDESC:Events for Arts Alliance Davis
REFRESH-INTERVAL;VALUE=DURATION:PT1H
X-Robots-Tag:noindex
X-PUBLISHED-TTL:PT1H
BEGIN:VTIMEZONE
TZID:America/Los_Angeles
BEGIN:DAYLIGHT
TZOFFSETFROM:-0800
TZOFFSETTO:-0700
TZNAME:PDT
DTSTART:20240310T100000
END:DAYLIGHT
BEGIN:STANDARD
TZOFFSETFROM:-0700
TZOFFSETTO:-0800
TZNAME:PST
DTSTART:20241103T090000
END:STANDARD
BEGIN:DAYLIGHT
TZOFFSETFROM:-0800
TZOFFSETTO:-0700
TZNAME:PDT
DTSTART:20250309T100000
END:DAYLIGHT
BEGIN:STANDARD
TZOFFSETFROM:-0700
TZOFFSETTO:-0800
TZNAME:PST
DTSTART:20251102T090000
END:STANDARD
BEGIN:DAYLIGHT
TZOFFSETFROM:-0800
TZOFFSETTO:-0700
TZNAME:PDT
DTSTART:20260308T100000
END:DAYLIGHT
BEGIN:STANDARD
TZOFFSETFROM:-0700
TZOFFSETTO:-0800
TZNAME:PST
DTSTART:20261101T090000
END:STANDARD
END:VTIMEZONE
BEGIN:VEVENT
DTSTART;VALUE=DATE:20250208
DTEND;VALUE=DATE:20250209
DTSTAMP:20260424T082722
CREATED:20250127T173232Z
LAST-MODIFIED:20250127T173232Z
UID:17434-1738972800-1739059199@artsalliancedavis.org
SUMMARY:UC Davis Biodiversity Museum Day
DESCRIPTION:UC Davis Biodiversity Museum Day is an annual celebration that showcases the incredible diversity of life on Earth and the scientific efforts to understand and protect it. Held on the UC Davis campus\, this free\, family-friendly event invites the public to explore the university’s world-renowned natural history collections\, museums\, and research centers through interactive exhibits\, engaging activities\, and behind-the-scenes tours. Each of the 10 participating museums have a separate schedule and offerings\, but most of the activities are from 10 am – 2 pm\, with a few starting earlier and ending later.
URL:https://artsalliancedavis.org/event/uc-davis-biodiversity-museum-day/
LOCATION:UC Davis\, 550 Alumni Lane\, Davis\, California\, 95616\, United States
CATEGORIES:Bring the Kids,Community,Science
ATTACH;FMTTYPE=image/png:https://artsalliancedavis.org/wp-content/uploads/2025/01/BioDivDay25-hA8AGJ.tmp_.png
ORGANIZER;CN="Bohart Museum of Entomology":MAILTO:bmuseum@ucdavis.edu
END:VEVENT
BEGIN:VEVENT
DTSTART;TZID=America/Los_Angeles:20250214T130000
DTEND;TZID=America/Los_Angeles:20250214T160000
DTSTAMP:20260424T082722
CREATED:20250209T195317Z
LAST-MODIFIED:20250209T195317Z
UID:17499-1739538000-1739548800@artsalliancedavis.org
SUMMARY:Explorit: Marine Mammal Weekend
DESCRIPTION:EXPLORIT SCIENCE CENTER. Visit Explorit to learn about the fascinating world of marine mammals. See displays & specimens of this unique group of animals. Every family receives a gift set including posters\, cards\, and a marine mammal plush with paid admission! While supplies last. 1p – 4p. $5.
URL:https://artsalliancedavis.org/event/explorit-marine-mammal-weekend-4/
LOCATION:Explorit Science Center (Explorit)\, 3141 5th St.
CATEGORIES:Bring the Kids,Community,Science
ATTACH;FMTTYPE=image/png:https://artsalliancedavis.org/wp-content/uploads/2025/02/Marine-Mammal-Weekend-8.5-x-11-in-Yge2H7.tmp_.png
ORGANIZER;CN="Explorit Science Center":MAILTO:explorit@explorit.org
END:VEVENT
BEGIN:VEVENT
DTSTART;TZID=America/Los_Angeles:20250215T100000
DTEND;TZID=America/Los_Angeles:20250215T140000
DTSTAMP:20260424T082722
CREATED:20250127T173414Z
LAST-MODIFIED:20250127T173414Z
UID:17439-1739613600-1739628000@artsalliancedavis.org
SUMMARY:Explorit: Marine Mammal Weekend
DESCRIPTION:Visit Explorit to learn about the fascinating world of marine mammals. See displays and specimens of this unique group of animals. Every family receives a gift set including posters\, cards\, and marine mammal plush with paid admission! While supplies last. \n 
URL:https://artsalliancedavis.org/event/explorit-marine-mammal-weekend/
LOCATION:Explorit Science Center (Explorit)\, 3141 5th St.
CATEGORIES:Bring the Kids,Featured,Science
ATTACH;FMTTYPE=image/png:https://artsalliancedavis.org/wp-content/uploads/2025/01/Marine-Mammal-Weekend-8.5-x-11-in-1-pwq8bx.tmp_.png
ORGANIZER;CN="Explorit Science Center":MAILTO:explorit@explorit.org
END:VEVENT
BEGIN:VEVENT
DTSTART;TZID=America/Los_Angeles:20250216T100000
DTEND;TZID=America/Los_Angeles:20250216T140000
DTSTAMP:20260424T082722
CREATED:20250127T173424Z
LAST-MODIFIED:20250127T173424Z
UID:17441-1739700000-1739714400@artsalliancedavis.org
SUMMARY:Explorit: Marine Mammal Weekend
DESCRIPTION:Visit Explorit to learn about the fascinating world of marine mammals. See displays and specimens of this unique group of animals. Every family receives a gift set including posters\, cards\, and marine mammal plush with paid admission! While supplies last. \n 
URL:https://artsalliancedavis.org/event/explorit-marine-mammal-weekend-2/
LOCATION:Explorit Science Center (Explorit)\, 3141 5th St.
CATEGORIES:Bring the Kids,Featured,Science
ATTACH;FMTTYPE=image/png:https://artsalliancedavis.org/wp-content/uploads/2025/01/Marine-Mammal-Weekend-8.5-x-11-in-1-pwq8bx.tmp_.png
ORGANIZER;CN="Explorit Science Center":MAILTO:explorit@explorit.org
END:VEVENT
BEGIN:VEVENT
DTSTART;TZID=America/Los_Angeles:20250217T100000
DTEND;TZID=America/Los_Angeles:20250217T140000
DTSTAMP:20260424T082722
CREATED:20250127T173440Z
LAST-MODIFIED:20250127T173440Z
UID:17442-1739786400-1739800800@artsalliancedavis.org
SUMMARY:Explorit: Marine Mammal Weekend
DESCRIPTION:Visit Explorit to learn about the fascinating world of marine mammals. See displays and specimens of this unique group of animals. Every family receives a gift set including posters\, cards\, and marine mammal plush with paid admission! While supplies last. \n 
URL:https://artsalliancedavis.org/event/explorit-marine-mammal-weekend-3/
LOCATION:Explorit Science Center (Explorit)\, 3141 5th St.
CATEGORIES:Bring the Kids,Featured,Science
ATTACH;FMTTYPE=image/png:https://artsalliancedavis.org/wp-content/uploads/2025/01/Marine-Mammal-Weekend-8.5-x-11-in-1-pwq8bx.tmp_.png
ORGANIZER;CN="Explorit Science Center":MAILTO:explorit@explorit.org
END:VEVENT
END:VCALENDAR