BEGIN:VCALENDAR
VERSION:2.0
PRODID:-//Arts Alliance Davis - ECPv6.15.20//NONSGML v1.0//EN
CALSCALE:GREGORIAN
METHOD:PUBLISH
X-ORIGINAL-URL:https://artsalliancedavis.org
X-WR-CALDESC:Events for Arts Alliance Davis
REFRESH-INTERVAL;VALUE=DURATION:PT1H
X-Robots-Tag:noindex
X-PUBLISHED-TTL:PT1H
BEGIN:VTIMEZONE
TZID:America/Los_Angeles
BEGIN:DAYLIGHT
TZOFFSETFROM:-0800
TZOFFSETTO:-0700
TZNAME:PDT
DTSTART:20240310T100000
END:DAYLIGHT
BEGIN:STANDARD
TZOFFSETFROM:-0700
TZOFFSETTO:-0800
TZNAME:PST
DTSTART:20241103T090000
END:STANDARD
BEGIN:DAYLIGHT
TZOFFSETFROM:-0800
TZOFFSETTO:-0700
TZNAME:PDT
DTSTART:20250309T100000
END:DAYLIGHT
BEGIN:STANDARD
TZOFFSETFROM:-0700
TZOFFSETTO:-0800
TZNAME:PST
DTSTART:20251102T090000
END:STANDARD
BEGIN:DAYLIGHT
TZOFFSETFROM:-0800
TZOFFSETTO:-0700
TZNAME:PDT
DTSTART:20260308T100000
END:DAYLIGHT
BEGIN:STANDARD
TZOFFSETFROM:-0700
TZOFFSETTO:-0800
TZNAME:PST
DTSTART:20261101T090000
END:STANDARD
END:VTIMEZONE
BEGIN:VEVENT
DTSTART;TZID=America/Los_Angeles:20250505T173000
DTEND;TZID=America/Los_Angeles:20250505T190000
DTSTAMP:20260424T043814
CREATED:20250311T152805Z
LAST-MODIFIED:20250311T152805Z
UID:18042-1746466200-1746471600@artsalliancedavis.org
SUMMARY:UC Davis Science Cafe
DESCRIPTION:G STREET WUNDERBAR. The Davis Science Café series was founded in 2012 by Professor Jared Shaw\, initially supported by the National Science Foundation & currently supported by the College of Letters and Science & promoted by Capital Science Communicators. Over the years\, the #DavisSciCafe has been held at the Arboretum\, Crepeville\, de Vere’s\, and most recently has settled in at G Street WunderBar. Café topics have spanned the likes of milk science\, wine science\, sea level rise\, hyperdimensional geometry\, & coral reef ecology. So come on by\, and let’s drink to science! Hosted on the second Wednesday of each month.. 5:30p – 7:00p. Free.
URL:https://artsalliancedavis.org/event/uc-davis-science-cafe-3/
LOCATION:G Street Wunderbar\, 228 G St.\, Davis\, 95616\, United States
CATEGORIES:Community,Food & Drink,Science
ATTACH;FMTTYPE=image/jpeg:https://artsalliancedavis.org/wp-content/uploads/2025/03/scicafe_template-copy-xAjGDO.tmp_.jpg
ORGANIZER;CN="Professor Jared Shaw":MAILTO:davissciencecafe@gmail.com
END:VEVENT
BEGIN:VEVENT
DTSTART;TZID=America/Los_Angeles:20250518T130000
DTEND;TZID=America/Los_Angeles:20250518T160000
DTSTAMP:20260424T043814
CREATED:20250311T153027Z
LAST-MODIFIED:20250311T153027Z
UID:18061-1747573200-1747584000@artsalliancedavis.org
SUMMARY:UC Davis Bohart Museum of Entomology Open House: Insects- Life Stages
DESCRIPTION:UC DAVIS BOHART MUSEUM OF ENTOMOLOGY. Visit the UC Davis Bohart Museum of Entomology for a free\, all ages event focused on insects and their different life stages from egg to adult. See our world-class insect collection\, meet live arthropods and enjoy chatting with scientists. 1p – 4p. Free.
URL:https://artsalliancedavis.org/event/uc-davis-bohart-museum-of-entomology-open-house-insects-life-stages/
LOCATION:Bohart Museum of Entomology (Bohart Museum)\, 1124 Academic Surge\, UC Davis Campus
CATEGORIES:Bring the Kids,Community,Science
ATTACH;FMTTYPE=image/jpeg:https://artsalliancedavis.org/wp-content/uploads/2025/03/Bohart-Outreach-2025-Winter-Spring-1-rbg6AO.tmp_.jpg
ORGANIZER;CN="Bohart Museum of Entomology":MAILTO:bmuseum@ucdavis.edu
END:VEVENT
END:VCALENDAR