BEGIN:VCALENDAR
VERSION:2.0
PRODID:-//Arts Alliance Davis - ECPv6.15.20//NONSGML v1.0//EN
CALSCALE:GREGORIAN
METHOD:PUBLISH
X-ORIGINAL-URL:https://artsalliancedavis.org
X-WR-CALDESC:Events for Arts Alliance Davis
REFRESH-INTERVAL;VALUE=DURATION:PT1H
X-Robots-Tag:noindex
X-PUBLISHED-TTL:PT1H
BEGIN:VTIMEZONE
TZID:America/Los_Angeles
BEGIN:DAYLIGHT
TZOFFSETFROM:-0800
TZOFFSETTO:-0700
TZNAME:PDT
DTSTART:20240310T100000
END:DAYLIGHT
BEGIN:STANDARD
TZOFFSETFROM:-0700
TZOFFSETTO:-0800
TZNAME:PST
DTSTART:20241103T090000
END:STANDARD
BEGIN:DAYLIGHT
TZOFFSETFROM:-0800
TZOFFSETTO:-0700
TZNAME:PDT
DTSTART:20250309T100000
END:DAYLIGHT
BEGIN:STANDARD
TZOFFSETFROM:-0700
TZOFFSETTO:-0800
TZNAME:PST
DTSTART:20251102T090000
END:STANDARD
BEGIN:DAYLIGHT
TZOFFSETFROM:-0800
TZOFFSETTO:-0700
TZNAME:PDT
DTSTART:20260308T100000
END:DAYLIGHT
BEGIN:STANDARD
TZOFFSETFROM:-0700
TZOFFSETTO:-0800
TZNAME:PST
DTSTART:20261101T090000
END:STANDARD
END:VTIMEZONE
BEGIN:VEVENT
DTSTART;TZID=America/Los_Angeles:20251104T180000
DTEND;TZID=America/Los_Angeles:20251104T203000
DTSTAMP:20260423T180446
CREATED:20251022T154745Z
LAST-MODIFIED:20251022T154745Z
UID:21028-1762279200-1762288200@artsalliancedavis.org
SUMMARY:The Surprising History of the Expansion of the Universe
DESCRIPTION:Nobel Laureate to Present “The Surprising History of the Expansion of the Universe” \nThe Department of Physics and Astronomy\, together with the College of Letters and Science at UC Davis\, will be hosting a free reception and public lecture on Tuesday\, November 4th from 6pm – 8:30 pm. Professor Adam Riess of Johns Hopkins University and the Space Telescope Science Institute will describe his team’s measurements that reveal how the expansion of space has unfolded over time\, and explain why they are surprising. This work was recognized with the 2011 Nobel prize in physics and more recently has led to yet another surprising result. Both of these findings remain major drivers of the cosmology community’s attempts to understand the cosmos and the fundamental laws of nature.
URL:https://artsalliancedavis.org/event/the-surprising-history-of-the-expansion-of-the-universe-2/
LOCATION:UC Davis Conference Center\, 550 Alumni Lane\, Davis\, 95616\, United States
CATEGORIES:Science
ATTACH;FMTTYPE=image/jpeg:https://artsalliancedavis.org/wp-content/uploads/2025/10/RiessGraphicv3-sy6qrb.jpg
ORGANIZER;CN="UC Davis College of Letters and Science":MAILTO:mgfrench@ucdavis.edu
END:VEVENT
BEGIN:VEVENT
DTSTART;TZID=America/Los_Angeles:20251106T173000
DTEND;TZID=America/Los_Angeles:20251106T190000
DTSTAMP:20260423T180446
CREATED:20251029T185214Z
LAST-MODIFIED:20251029T185214Z
UID:21861-1762450200-1762455600@artsalliancedavis.org
SUMMARY:Abundance in the Age of Constraint
DESCRIPTION:UC Davis Association of Environmental Professionals is welcoming members of the community that work in the environmental field to our event for a night of conversation\, networking\, and mingling with other professionals\, students\, and our speakers. \nJoin us for an evening of interesting conversation as we navigate policy shifts in the environmental sector\, silver linings\, and strategies on how we move forward. The speakers will touch on SB 253 among other topics. \nDr. Sarah McCullough from the Feminist Research Institute will be the moderator for our panel discussion. Attendees will have a chance to interact with speakers and ask questions. \nRefreshments will be provided! Please RSVP Here: https://forms.gle/esyBhykFE8gbQpzz8
URL:https://artsalliancedavis.org/event/abundance-in-the-age-of-constraint/
LOCATION:Walker Hall
CATEGORIES:Books & Talks,Community,Science
ATTACH;FMTTYPE=image/png:https://artsalliancedavis.org/wp-content/uploads/2025/10/11.6.25-AEP-Updated-Event-Flyer-LZXMgj.png
END:VEVENT
BEGIN:VEVENT
DTSTART;TZID=America/Los_Angeles:20251115T130000
DTEND;TZID=America/Los_Angeles:20251115T160000
DTSTAMP:20260423T180446
CREATED:20251024T164116Z
LAST-MODIFIED:20251024T164116Z
UID:21716-1763211600-1763222400@artsalliancedavis.org
SUMMARY:Bohart Museum of Entomology Open House: Bees & Their Mimics
DESCRIPTION:This is the second in our weekend open house series for 2025-2026. Come and enjoy this free\, all ages event at the UC Davis Bohart Museum of Entomology. Explore native bees and other insects that look like them from expert scientists. Learn how not to be fooled in nature! You can also visit part of this world class research collection\, look through microscopes\, hold friendly\, live insects and do a craft. This is a fun\, free event\, including free parking.
URL:https://artsalliancedavis.org/event/bohart-museum-of-entomology-open-house-bees-their-mimics/
LOCATION:Bohart Museum of Entomology (Bohart Museum)\, 1124 Academic Surge\, UC Davis Campus
CATEGORIES:Bring the Kids,Community,Science
ATTACH;FMTTYPE=image/jpeg:https://artsalliancedavis.org/wp-content/uploads/2025/10/KKG-flowerfly-under-10-KB-WZRQJA.jpg
ORGANIZER;CN="Tabatha Yang":MAILTO:tabyang@ucdavis.edu
END:VEVENT
END:VCALENDAR