BEGIN:VCALENDAR
VERSION:2.0
PRODID:-//Arts Alliance Davis - ECPv6.15.20//NONSGML v1.0//EN
CALSCALE:GREGORIAN
METHOD:PUBLISH
X-ORIGINAL-URL:https://artsalliancedavis.org
X-WR-CALDESC:Events for Arts Alliance Davis
REFRESH-INTERVAL;VALUE=DURATION:PT1H
X-Robots-Tag:noindex
X-PUBLISHED-TTL:PT1H
BEGIN:VTIMEZONE
TZID:America/Los_Angeles
BEGIN:DAYLIGHT
TZOFFSETFROM:-0800
TZOFFSETTO:-0700
TZNAME:PDT
DTSTART:20240310T100000
END:DAYLIGHT
BEGIN:STANDARD
TZOFFSETFROM:-0700
TZOFFSETTO:-0800
TZNAME:PST
DTSTART:20241103T090000
END:STANDARD
BEGIN:DAYLIGHT
TZOFFSETFROM:-0800
TZOFFSETTO:-0700
TZNAME:PDT
DTSTART:20250309T100000
END:DAYLIGHT
BEGIN:STANDARD
TZOFFSETFROM:-0700
TZOFFSETTO:-0800
TZNAME:PST
DTSTART:20251102T090000
END:STANDARD
BEGIN:DAYLIGHT
TZOFFSETFROM:-0800
TZOFFSETTO:-0700
TZNAME:PDT
DTSTART:20260308T100000
END:DAYLIGHT
BEGIN:STANDARD
TZOFFSETFROM:-0700
TZOFFSETTO:-0800
TZNAME:PST
DTSTART:20261101T090000
END:STANDARD
END:VTIMEZONE
BEGIN:VEVENT
DTSTART;TZID=America/Los_Angeles:20250402T150000
DTEND;TZID=America/Los_Angeles:20250402T180000
DTSTAMP:20260424T193736
CREATED:20250311T152002Z
LAST-MODIFIED:20250311T152002Z
UID:17987-1743606000-1743616800@artsalliancedavis.org
SUMMARY:Davis Farmers Market
DESCRIPTION:Year-round at Central Park in downtown Davis\, thousands gather each week to shop for what is grown\, raised\, and made locally at our markets. We are dedicated to bringing farmers right to your table\, so we stay open rain or shine. \nWalk rows of stalls lined with an array of fruits and vegetables\, including certified organic produce\, choice meats\, chicken\, seafood\, wine\, local eggs and honey. Choose from a variety of fresh-baked goods\, plants\, flowers and gifts. Enjoy a picnic from one of our many food stands\, made from market ingredients. \nSee the vendor list here: https://www.davisfarmersmarket.org/our-sellers/ \nFarmers Market Hours  \nCentral Park: Saturdays 8a–1p (year-round)\, and Wednesdays 3p–6p (October through April); 4p–8p (May through September)\nUC Davis – North Quad: Wednesdays 10a–1:30p (fall and spring quarters)\nSutter Davis Hospital: Thursdays 10a–1p (May through September)\nSutter Medical Center\, Sacramento: Thursdays 2:30p–5:30p \n 
URL:https://artsalliancedavis.org/event/davis-farmers-market-267/
LOCATION:Central Park\, 101 C St\, Davis\, CA\, United States
CATEGORIES:Bring the Kids,Food & Drink,Shopping
ATTACH;FMTTYPE=image/png:https://artsalliancedavis.org/wp-content/uploads/2022/10/davis-farmers-market-logo-KERN-ADJUST2-01-1-e1649900473633-4mwvRA.tmp_.png
ORGANIZER;CN="Davis Farmers Market":MAILTO:dfmpr@dcn.org
END:VEVENT
BEGIN:VEVENT
DTSTART;TZID=America/Los_Angeles:20250405T080000
DTEND;TZID=America/Los_Angeles:20250405T130000
DTSTAMP:20260424T193736
CREATED:20250105T230432Z
LAST-MODIFIED:20250105T230432Z
UID:16972-1743840000-1743858000@artsalliancedavis.org
SUMMARY:Davis Farmers Market
DESCRIPTION:Year-round at Central Park in downtown Davis\, thousands gather each week to shop for what is grown\, raised\, and made locally at our markets. We are dedicated to bringing farmers right to your table\, so we stay open rain or shine. \nWalk rows of stalls lined with an array of fruits and vegetables\, including certified organic produce\, choice meats\, chicken\, seafood\, wine\, local eggs and honey. Choose from a variety of fresh-baked goods\, plants\, flowers and gifts. Enjoy a picnic from one of our many food stands\, made from market ingredients. \nSee the vendor list here: https://www.davisfarmersmarket.org/our-sellers/ \nFarmers Market Hours  \nCentral Park: Saturdays 8a–1p (year-round)\, and Wednesdays 3p–6p (October through April); 4p–8p (May through September)\nUC Davis – North Quad: Wednesdays 10a–1:30p (fall and spring quarters)\nSutter Davis Hospital: Thursdays 10a–1p (May through September)\nSutter Medical Center\, Sacramento: Thursdays 2:30p–5:30p \n 
URL:https://artsalliancedavis.org/event/davis-farmers-market-258/
LOCATION:Central Park\, 101 C St\, Davis\, CA\, United States
CATEGORIES:Bring the Kids,Food & Drink,Shopping
ATTACH;FMTTYPE=image/png:https://artsalliancedavis.org/wp-content/uploads/2022/10/davis-farmers-market-logo-KERN-ADJUST2-01-1-e1649900473633-4mwvRA.tmp_.png
ORGANIZER;CN="Davis Farmers Market":MAILTO:dfmpr@dcn.org
END:VEVENT
BEGIN:VEVENT
DTSTART;TZID=America/Los_Angeles:20250406T100000
DTEND;TZID=America/Los_Angeles:20250406T140000
DTSTAMP:20260424T193736
CREATED:20250404T111508Z
LAST-MODIFIED:20250404T111508Z
UID:18740-1743933600-1743948000@artsalliancedavis.org
SUMMARY:Moda Market
DESCRIPTION:Join us for the inaugural Moda Market\, hosted by Davis High School’s fashion magazine club\, Moda Magazine\, on Sunday\, April 6. Moda Market is a flea market featuring dozens of student vendors selling new\, vintage\, and gently used jewelry and clothing. The event is open to the public from 10AM-2PM. Come support Davis High students and find some great deals!
URL:https://artsalliancedavis.org/event/moda-market/
LOCATION:DJUSD District office parking lot\, 526 B Street\, Davis\, CA\, United States
CATEGORIES:Community,Music,Outside,Shopping
ATTACH;FMTTYPE=image/jpeg:https://artsalliancedavis.org/wp-content/uploads/2025/04/MODA-MARKET-FLYER-4-7Vv3rs.tmp_.jpg
ORGANIZER;CN="Moda Magazine":MAILTO:modamagazinedhs@gmail.com
END:VEVENT
BEGIN:VEVENT
DTSTART;TZID=America/Los_Angeles:20250406T100000
DTEND;TZID=America/Los_Angeles:20250406T160000
DTSTAMP:20260424T193736
CREATED:20250121T154829Z
LAST-MODIFIED:20250121T154829Z
UID:17253-1743933600-1743955200@artsalliancedavis.org
SUMMARY:Davis Craft and Vintage Fair
DESCRIPTION:Davis Craft and Vintage Fair began as the Square Tomatoes Craft Fair more than 10 years ago! The event was started by instructors from the UC Davis Craft Center in order to have a monthly craft fair for local artisans and the local community. We embraced local vintage vendors in 2017\, we’ve grown and we are still home to local artists and makers from the Davis and greater Sacramento area. \nWe collaborate with local non-profits starting with Couleurs Vives Art Studio who joined us in 2018! Many of our talented vendors can be found at other festivals like the Davis Phoenix Coalition’s Pride Fest\, the I-House’s International Festival\, and 2nd Friday Art Abouts on E Street Plaza! \nExpect to see friendly vendors with local handmade and original art\, crafts\, quality vintage items\, upcycled treasures\, earth-friendly creations\, good food\, and more! Free live music fills the open space for a lively atmosphere so be sure to stop by and join us!  \n 
URL:https://artsalliancedavis.org/event/davis-craft-and-vintage-fair-41/
LOCATION:Central Park – Davis\, 5th St & B St\,\, Davis\,\, CA\, 95616\, United States
CATEGORIES:Art,Community,Outside,Shopping,Stage & Dance
ATTACH;FMTTYPE=image/png:https://artsalliancedavis.org/wp-content/uploads/2025/01/craft-and-vintage-fair-logo-NgaUZz.tmp_.png
END:VEVENT
BEGIN:VEVENT
DTSTART;TZID=America/Los_Angeles:20250408T000000
DTEND;TZID=America/Los_Angeles:20250523T170000
DTSTAMP:20260424T193736
CREATED:20250408T131232Z
LAST-MODIFIED:20250408T131232Z
UID:18844-1744070400-1748019600@artsalliancedavis.org
SUMMARY:Call to Artists! Night Market at the Pence
DESCRIPTION:Call to Artists! Night Market at the Pence \nEvent: June 13\, 6 – 9 PM \nApplication deadline: May 23\, 5 PM \n  \nThis pop-up market during the 2nd Friday ArtAbout invites young visual artists\, ages 16-25\, to display and sell their artwork inside the gallery\, ranging from prints and paintings\, to ceramics and jewelry\, and more. It’s free to apply!  \n  \nArtists who are interested in participating must fill out an online application. The Pence provides an indoor venue at $25/accepted artist (no fee for Pence Members!)\, which must be paid prior to the event. Artists must bring their own table to display their work\, but the Pence will provide chairs. All art sales are handled by participants\, and all proceeds go directly to the artist. Please note that space is limited\, and applications are due by 5 PM of May 23. Artists will be notified of their acceptance by May 28. \n  \nLearn more: https://pencegallery.org/events/night-market/ \nView application: bit.ly/pencenightmarket
URL:https://artsalliancedavis.org/event/call-to-artists-night-market-at-the-pence/
LOCATION:Pence Gallery\, 212 D St\, Davis\, CA\, United States
CATEGORIES:Art,Community,Shopping
ATTACH;FMTTYPE=image/png:https://artsalliancedavis.org/wp-content/uploads/2025/04/Night-Market-Call-square-nc7FZR.tmp_.png
ORGANIZER;CN="Pence Gallery":MAILTO:pencesocialmedia@gmail.com
END:VEVENT
BEGIN:VEVENT
DTSTART;TZID=America/Los_Angeles:20250409T150000
DTEND;TZID=America/Los_Angeles:20250409T180000
DTSTAMP:20260424T193736
CREATED:20250311T152151Z
LAST-MODIFIED:20250311T152151Z
UID:18006-1744210800-1744221600@artsalliancedavis.org
SUMMARY:Davis Farmers Market
DESCRIPTION:Year-round at Central Park in downtown Davis\, thousands gather each week to shop for what is grown\, raised\, and made locally at our markets. We are dedicated to bringing farmers right to your table\, so we stay open rain or shine. \nWalk rows of stalls lined with an array of fruits and vegetables\, including certified organic produce\, choice meats\, chicken\, seafood\, wine\, local eggs and honey. Choose from a variety of fresh-baked goods\, plants\, flowers and gifts. Enjoy a picnic from one of our many food stands\, made from market ingredients. \nSee the vendor list here: https://www.davisfarmersmarket.org/our-sellers/ \nFarmers Market Hours  \nCentral Park: Saturdays 8a–1p (year-round)\, and Wednesdays 3p–6p (October through April); 4p–8p (May through September)\nUC Davis – North Quad: Wednesdays 10a–1:30p (fall and spring quarters)\nSutter Davis Hospital: Thursdays 10a–1p (May through September)\nSutter Medical Center\, Sacramento: Thursdays 2:30p–5:30p \n 
URL:https://artsalliancedavis.org/event/davis-farmers-market-268/
LOCATION:Central Park\, 101 C St\, Davis\, CA\, United States
CATEGORIES:Bring the Kids,Food & Drink,Shopping
ATTACH;FMTTYPE=image/png:https://artsalliancedavis.org/wp-content/uploads/2022/10/davis-farmers-market-logo-KERN-ADJUST2-01-1-e1649900473633-4mwvRA.tmp_.png
ORGANIZER;CN="Davis Farmers Market":MAILTO:dfmpr@dcn.org
END:VEVENT
BEGIN:VEVENT
DTSTART;TZID=America/Los_Angeles:20250411T180000
DTEND;TZID=America/Los_Angeles:20250411T203000
DTSTAMP:20260424T193736
CREATED:20250327T212346Z
LAST-MODIFIED:20250327T212346Z
UID:18552-1744394400-1744403400@artsalliancedavis.org
SUMMARY:2nd Friday ArtAbout Artist Reception at The Paint Chip
DESCRIPTION:THE PAINT CHIP. Come meet & be inspired by the AP Art students from Pioneer High School\, Woodland.  Exhibition dates 04/01/25-04/30/25 at The Paint Chip. 6p – 8:30p. Free.
URL:https://artsalliancedavis.org/event/2nd-friday-artabout-artist-reception-at-the-paint-chip/
LOCATION:The Paint Chip\, 217 F Street\, Davis\, CA\, 95616\, United States
CATEGORIES:Art,Bring the Kids,Community,Shopping
ATTACH;FMTTYPE=image/jpeg:https://artsalliancedavis.org/wp-content/uploads/2018/10/orange-white-aad-logo.jpg
ORGANIZER;CN="Pence Gallery":MAILTO:pencesocialmedia@gmail.com
END:VEVENT
BEGIN:VEVENT
DTSTART;TZID=America/Los_Angeles:20250411T180000
DTEND;TZID=America/Los_Angeles:20250411T203000
DTSTAMP:20260424T193736
CREATED:20250327T212346Z
LAST-MODIFIED:20250327T212346Z
UID:18551-1744394400-1744403400@artsalliancedavis.org
SUMMARY:2nd Friday Art About Artist Reception at The Paint Chip
DESCRIPTION:THE PAINT CHIP. Come meet & be inspired by the AP Art students from Pioneer High School\, Woodland.  Exhibition dates 04/01/25-04/30/25 at The Paint Chip. 6p – 8:30p. Free.
URL:https://artsalliancedavis.org/event/2nd-friday-art-about-artist-reception-at-the-paint-chip/
LOCATION:The Paint Chip\, 217 F Street\, Davis\, CA\, 95616\, United States
CATEGORIES:Art,Bring the Kids,Community,Shopping
ATTACH;FMTTYPE=image/jpeg:https://artsalliancedavis.org/wp-content/uploads/2018/10/orange-white-aad-logo.jpg
ORGANIZER;CN="Pence Gallery":MAILTO:pencesocialmedia@gmail.com
END:VEVENT
BEGIN:VEVENT
DTSTART;TZID=America/Los_Angeles:20250412T080000
DTEND;TZID=America/Los_Angeles:20250412T130000
DTSTAMP:20260424T193736
CREATED:20250112T123857Z
LAST-MODIFIED:20250112T123857Z
UID:17059-1744444800-1744462800@artsalliancedavis.org
SUMMARY:Davis Farmers Market
DESCRIPTION:Year-round at Central Park in downtown Davis\, thousands gather each week to shop for what is grown\, raised\, and made locally at our markets. We are dedicated to bringing farmers right to your table\, so we stay open rain or shine. \nWalk rows of stalls lined with an array of fruits and vegetables\, including certified organic produce\, choice meats\, chicken\, seafood\, wine\, local eggs and honey. Choose from a variety of fresh-baked goods\, plants\, flowers and gifts. Enjoy a picnic from one of our many food stands\, made from market ingredients. \nSee the vendor list here: https://www.davisfarmersmarket.org/our-sellers/ \nFarmers Market Hours  \nCentral Park: Saturdays 8a–1p (year-round)\, and Wednesdays 3p–6p (October through April); 4p–8p (May through September)\nUC Davis – North Quad: Wednesdays 10a–1:30p (fall and spring quarters)\nSutter Davis Hospital: Thursdays 10a–1p (May through September)\nSutter Medical Center\, Sacramento: Thursdays 2:30p–5:30p \n 
URL:https://artsalliancedavis.org/event/davis-farmers-market-259/
LOCATION:Central Park\, 101 C St\, Davis\, CA\, United States
CATEGORIES:Bring the Kids,Food & Drink,Shopping
ATTACH;FMTTYPE=image/png:https://artsalliancedavis.org/wp-content/uploads/2022/10/davis-farmers-market-logo-KERN-ADJUST2-01-1-e1649900473633-4mwvRA.tmp_.png
ORGANIZER;CN="Davis Farmers Market":MAILTO:dfmpr@dcn.org
END:VEVENT
BEGIN:VEVENT
DTSTART;TZID=America/Los_Angeles:20250413T100000
DTEND;TZID=America/Los_Angeles:20250413T160000
DTSTAMP:20260424T193736
CREATED:20250125T170057Z
LAST-MODIFIED:20250125T170057Z
UID:17376-1744538400-1744560000@artsalliancedavis.org
SUMMARY:Davis Craft and Vintage Fair
DESCRIPTION:Davis Craft and Vintage Fair began as the Square Tomatoes Craft Fair more than 10 years ago! The event was started by instructors from the UC Davis Craft Center in order to have a monthly craft fair for local artisans and the local community. We embraced local vintage vendors in 2017\, we’ve grown and we are still home to local artists and makers from the Davis and greater Sacramento area. \nWe collaborate with local non-profits starting with Couleurs Vives Art Studio who joined us in 2018! Many of our talented vendors can be found at other festivals like the Davis Phoenix Coalition’s Pride Fest\, the I-House’s International Festival\, and 2nd Friday Art Abouts on E Street Plaza! \nExpect to see friendly vendors with local handmade and original art\, crafts\, quality vintage items\, upcycled treasures\, earth-friendly creations\, good food\, and more! Free live music fills the open space for a lively atmosphere so be sure to stop by and join us!  \n 
URL:https://artsalliancedavis.org/event/davis-craft-and-vintage-fair-44/
LOCATION:Central Park – Davis\, 5th St & B St\,\, Davis\,\, CA\, 95616\, United States
CATEGORIES:Art,Community,Outside,Shopping,Stage & Dance
ATTACH;FMTTYPE=image/png:https://artsalliancedavis.org/wp-content/uploads/2025/01/craft-and-vintage-fair-logo-NgaUZz.tmp_.png
END:VEVENT
BEGIN:VEVENT
DTSTART;TZID=America/Los_Angeles:20250413T110000
DTEND;TZID=America/Los_Angeles:20250413T130000
DTSTAMP:20260424T193736
CREATED:20250327T212441Z
LAST-MODIFIED:20250327T212441Z
UID:18564-1744542000-1744549200@artsalliancedavis.org
SUMMARY:New Harmony Jazz Band @ Davis Craft & Vintage Fair
DESCRIPTION:CENTRAL PARK. Two free sets of Swing\, Big Band & Latin jazz amidst the splendor of the craft fair! 11a – 1p. Free.
URL:https://artsalliancedavis.org/event/new-harmony-jazz-band-davis-craft-vintage-fair-6/
LOCATION:Central Park – Davis\, 5th St & B St\,\, Davis\,\, CA\, 95616\, United States
CATEGORIES:Bring the Kids,Featured,Food & Drink,Music,Outside,Shopping
ATTACH;FMTTYPE=image/jpeg:https://artsalliancedavis.org/wp-content/uploads/2025/03/NHJB-Central-Park-right-profile-pic-FsiiMz.tmp_.jpg
END:VEVENT
BEGIN:VEVENT
DTSTART;TZID=America/Los_Angeles:20250416T150000
DTEND;TZID=America/Los_Angeles:20250416T180000
DTSTAMP:20260424T193736
CREATED:20250311T152355Z
LAST-MODIFIED:20250311T152355Z
UID:18022-1744815600-1744826400@artsalliancedavis.org
SUMMARY:Davis Farmers Market
DESCRIPTION:Year-round at Central Park in downtown Davis\, thousands gather each week to shop for what is grown\, raised\, and made locally at our markets. We are dedicated to bringing farmers right to your table\, so we stay open rain or shine. \nWalk rows of stalls lined with an array of fruits and vegetables\, including certified organic produce\, choice meats\, chicken\, seafood\, wine\, local eggs and honey. Choose from a variety of fresh-baked goods\, plants\, flowers and gifts. Enjoy a picnic from one of our many food stands\, made from market ingredients. \nSee the vendor list here: https://www.davisfarmersmarket.org/our-sellers/ \nFarmers Market Hours  \nCentral Park: Saturdays 8a–1p (year-round)\, and Wednesdays 3p–6p (October through April); 4p–8p (May through September)\nUC Davis – North Quad: Wednesdays 10a–1:30p (fall and spring quarters)\nSutter Davis Hospital: Thursdays 10a–1p (May through September)\nSutter Medical Center\, Sacramento: Thursdays 2:30p–5:30p \n 
URL:https://artsalliancedavis.org/event/davis-farmers-market-269/
LOCATION:Central Park\, 101 C St\, Davis\, CA\, United States
CATEGORIES:Bring the Kids,Food & Drink,Shopping
ATTACH;FMTTYPE=image/png:https://artsalliancedavis.org/wp-content/uploads/2022/10/davis-farmers-market-logo-KERN-ADJUST2-01-1-e1649900473633-4mwvRA.tmp_.png
ORGANIZER;CN="Davis Farmers Market":MAILTO:dfmpr@dcn.org
END:VEVENT
BEGIN:VEVENT
DTSTART;TZID=America/Los_Angeles:20250419T080000
DTEND;TZID=America/Los_Angeles:20250419T130000
DTSTAMP:20260424T193736
CREATED:20250119T152155Z
LAST-MODIFIED:20250119T152155Z
UID:17171-1745049600-1745067600@artsalliancedavis.org
SUMMARY:Davis Farmers Market
DESCRIPTION:Year-round at Central Park in downtown Davis\, thousands gather each week to shop for what is grown\, raised\, and made locally at our markets. We are dedicated to bringing farmers right to your table\, so we stay open rain or shine. \nWalk rows of stalls lined with an array of fruits and vegetables\, including certified organic produce\, choice meats\, chicken\, seafood\, wine\, local eggs and honey. Choose from a variety of fresh-baked goods\, plants\, flowers and gifts. Enjoy a picnic from one of our many food stands\, made from market ingredients. \nSee the vendor list here: https://www.davisfarmersmarket.org/our-sellers/ \nFarmers Market Hours  \nCentral Park: Saturdays 8a–1p (year-round)\, and Wednesdays 3p–6p (October through April); 4p–8p (May through September)\nUC Davis – North Quad: Wednesdays 10a–1:30p (fall and spring quarters)\nSutter Davis Hospital: Thursdays 10a–1p (May through September)\nSutter Medical Center\, Sacramento: Thursdays 2:30p–5:30p \n 
URL:https://artsalliancedavis.org/event/davis-farmers-market-260/
LOCATION:Central Park\, 101 C St\, Davis\, CA\, United States
CATEGORIES:Bring the Kids,Food & Drink,Shopping
ATTACH;FMTTYPE=image/png:https://artsalliancedavis.org/wp-content/uploads/2022/10/davis-farmers-market-logo-KERN-ADJUST2-01-1-e1649900473633-4mwvRA.tmp_.png
ORGANIZER;CN="Davis Farmers Market":MAILTO:dfmpr@dcn.org
END:VEVENT
BEGIN:VEVENT
DTSTART;TZID=America/Los_Angeles:20250423T150000
DTEND;TZID=America/Los_Angeles:20250423T180000
DTSTAMP:20260424T193736
CREATED:20250311T152527Z
LAST-MODIFIED:20250311T152527Z
UID:18030-1745420400-1745431200@artsalliancedavis.org
SUMMARY:Davis Farmers Market
DESCRIPTION:Year-round at Central Park in downtown Davis\, thousands gather each week to shop for what is grown\, raised\, and made locally at our markets. We are dedicated to bringing farmers right to your table\, so we stay open rain or shine. \nWalk rows of stalls lined with an array of fruits and vegetables\, including certified organic produce\, choice meats\, chicken\, seafood\, wine\, local eggs and honey. Choose from a variety of fresh-baked goods\, plants\, flowers and gifts. Enjoy a picnic from one of our many food stands\, made from market ingredients. \nSee the vendor list here: https://www.davisfarmersmarket.org/our-sellers/ \nFarmers Market Hours  \nCentral Park: Saturdays 8a–1p (year-round)\, and Wednesdays 3p–6p (October through April); 4p–8p (May through September)\nUC Davis – North Quad: Wednesdays 10a–1:30p (fall and spring quarters)\nSutter Davis Hospital: Thursdays 10a–1p (May through September)\nSutter Medical Center\, Sacramento: Thursdays 2:30p–5:30p \n 
URL:https://artsalliancedavis.org/event/davis-farmers-market-270/
LOCATION:Central Park\, 101 C St\, Davis\, CA\, United States
CATEGORIES:Bring the Kids,Food & Drink,Shopping
ATTACH;FMTTYPE=image/png:https://artsalliancedavis.org/wp-content/uploads/2022/10/davis-farmers-market-logo-KERN-ADJUST2-01-1-e1649900473633-4mwvRA.tmp_.png
ORGANIZER;CN="Davis Farmers Market":MAILTO:dfmpr@dcn.org
END:VEVENT
BEGIN:VEVENT
DTSTART;TZID=America/Los_Angeles:20250425T120000
DTEND;TZID=America/Los_Angeles:20250425T170000
DTSTAMP:20260424T193736
CREATED:20250125T170246Z
LAST-MODIFIED:20250125T170246Z
UID:17393-1745582400-1745600400@artsalliancedavis.org
SUMMARY:Mainstage Customer Appreciation Day
DESCRIPTION:Every last Friday of the month purchase any item in store and enjoy lunch on us! Hefty Gyros will be the featured food truck this month. We will see you there!!
URL:https://artsalliancedavis.org/event/mainstage-customer-appreciation-day-9/
LOCATION:Mainstage Dispensary
CATEGORIES:Shopping
ATTACH;FMTTYPE=image/jpeg:https://artsalliancedavis.org/wp-content/uploads/2018/10/orange-white-aad-logo.jpg
END:VEVENT
BEGIN:VEVENT
DTSTART;TZID=America/Los_Angeles:20250426T080000
DTEND;TZID=America/Los_Angeles:20250426T130000
DTSTAMP:20260424T193736
CREATED:20250126T173015Z
LAST-MODIFIED:20250126T173015Z
UID:17422-1745654400-1745672400@artsalliancedavis.org
SUMMARY:Davis Farmers Market
DESCRIPTION:Year-round at Central Park in downtown Davis\, thousands gather each week to shop for what is grown\, raised\, and made locally at our markets. We are dedicated to bringing farmers right to your table\, so we stay open rain or shine. \nWalk rows of stalls lined with an array of fruits and vegetables\, including certified organic produce\, choice meats\, chicken\, seafood\, wine\, local eggs and honey. Choose from a variety of fresh-baked goods\, plants\, flowers and gifts. Enjoy a picnic from one of our many food stands\, made from market ingredients. \nSee the vendor list here: https://www.davisfarmersmarket.org/our-sellers/ \nFarmers Market Hours  \nCentral Park: Saturdays 8a–1p (year-round)\, and Wednesdays 3p–6p (October through April); 4p–8p (May through September)\nUC Davis – North Quad: Wednesdays 10a–1:30p (fall and spring quarters)\nSutter Davis Hospital: Thursdays 10a–1p (May through September)\nSutter Medical Center\, Sacramento: Thursdays 2:30p–5:30p \n 
URL:https://artsalliancedavis.org/event/davis-farmers-market-261/
LOCATION:Central Park\, 101 C St\, Davis\, CA\, United States
CATEGORIES:Bring the Kids,Food & Drink,Shopping
ATTACH;FMTTYPE=image/png:https://artsalliancedavis.org/wp-content/uploads/2022/10/davis-farmers-market-logo-KERN-ADJUST2-01-1-e1649900473633-4mwvRA.tmp_.png
ORGANIZER;CN="Davis Farmers Market":MAILTO:dfmpr@dcn.org
END:VEVENT
BEGIN:VEVENT
DTSTART;TZID=America/Los_Angeles:20250426T090000
DTEND;TZID=America/Los_Angeles:20250426T130000
DTSTAMP:20260424T193736
CREATED:20250311T152605Z
LAST-MODIFIED:20250311T152605Z
UID:18035-1745658000-1745672400@artsalliancedavis.org
SUMMARY:UC Davis Plant Sale
DESCRIPTION:ARBORETUM TEACHING NURSERY. Find an incredible selection of water-wise\, pollinator-friendly\, & climate-ready plants including Arboretum All-Stars & California natives. Whether you’re looking to refresh your garden or start a new landscaping project\, this is the perfect opportunity to shop our amazing inventory & engage with knowledgeable staff and volunteers ready to provide expert advice. Funds from these plant sales and membership fees support the UC Davis Arboretum & Public Garden’s environmental leadership programs\, the growth of our gardens & collections & the wide variety of free\, educational events we offer the public. 9a – 1p.
URL:https://artsalliancedavis.org/event/uc-davis-plant-sale/
LOCATION:Arboretum Teaching Nursery\, 920 Garrod Dr\, Davis\, Ca
CATEGORIES:Bring the Kids,Featured,Outside,Shopping
ATTACH;FMTTYPE=image/png:https://artsalliancedavis.org/wp-content/uploads/2025/03/S25_FB_Event_Banner_Dates-2-bL6ga2.tmp_.png
END:VEVENT
BEGIN:VEVENT
DTSTART;TZID=America/Los_Angeles:20250430T150000
DTEND;TZID=America/Los_Angeles:20250430T180000
DTSTAMP:20260424T193736
CREATED:20250311T152658Z
LAST-MODIFIED:20250311T152658Z
UID:18038-1746025200-1746036000@artsalliancedavis.org
SUMMARY:Davis Farmers Market
DESCRIPTION:Year-round at Central Park in downtown Davis\, thousands gather each week to shop for what is grown\, raised\, and made locally at our markets. We are dedicated to bringing farmers right to your table\, so we stay open rain or shine. \nWalk rows of stalls lined with an array of fruits and vegetables\, including certified organic produce\, choice meats\, chicken\, seafood\, wine\, local eggs and honey. Choose from a variety of fresh-baked goods\, plants\, flowers and gifts. Enjoy a picnic from one of our many food stands\, made from market ingredients. \nSee the vendor list here: https://www.davisfarmersmarket.org/our-sellers/ \nFarmers Market Hours  \nCentral Park: Saturdays 8a–1p (year-round)\, and Wednesdays 3p–6p (October through April); 4p–8p (May through September)\nUC Davis – North Quad: Wednesdays 10a–1:30p (fall and spring quarters)\nSutter Davis Hospital: Thursdays 10a–1p (May through September)\nSutter Medical Center\, Sacramento: Thursdays 2:30p–5:30p \n 
URL:https://artsalliancedavis.org/event/davis-farmers-market-271/
LOCATION:Central Park\, 101 C St\, Davis\, CA\, United States
CATEGORIES:Bring the Kids,Food & Drink,Shopping
ATTACH;FMTTYPE=image/png:https://artsalliancedavis.org/wp-content/uploads/2022/10/davis-farmers-market-logo-KERN-ADJUST2-01-1-e1649900473633-4mwvRA.tmp_.png
ORGANIZER;CN="Davis Farmers Market":MAILTO:dfmpr@dcn.org
END:VEVENT
END:VCALENDAR