BEGIN:VCALENDAR
VERSION:2.0
PRODID:-//Arts Alliance Davis - ECPv6.15.20//NONSGML v1.0//EN
CALSCALE:GREGORIAN
METHOD:PUBLISH
X-ORIGINAL-URL:https://artsalliancedavis.org
X-WR-CALDESC:Events for Arts Alliance Davis
REFRESH-INTERVAL;VALUE=DURATION:PT1H
X-Robots-Tag:noindex
X-PUBLISHED-TTL:PT1H
BEGIN:VTIMEZONE
TZID:America/Los_Angeles
BEGIN:DAYLIGHT
TZOFFSETFROM:-0800
TZOFFSETTO:-0700
TZNAME:PDT
DTSTART:20240310T100000
END:DAYLIGHT
BEGIN:STANDARD
TZOFFSETFROM:-0700
TZOFFSETTO:-0800
TZNAME:PST
DTSTART:20241103T090000
END:STANDARD
BEGIN:DAYLIGHT
TZOFFSETFROM:-0800
TZOFFSETTO:-0700
TZNAME:PDT
DTSTART:20250309T100000
END:DAYLIGHT
BEGIN:STANDARD
TZOFFSETFROM:-0700
TZOFFSETTO:-0800
TZNAME:PST
DTSTART:20251102T090000
END:STANDARD
BEGIN:DAYLIGHT
TZOFFSETFROM:-0800
TZOFFSETTO:-0700
TZNAME:PDT
DTSTART:20260308T100000
END:DAYLIGHT
BEGIN:STANDARD
TZOFFSETFROM:-0700
TZOFFSETTO:-0800
TZNAME:PST
DTSTART:20261101T090000
END:STANDARD
END:VTIMEZONE
BEGIN:VEVENT
DTSTART;TZID=America/Los_Angeles:20250408T000000
DTEND;TZID=America/Los_Angeles:20250523T170000
DTSTAMP:20260424T140023
CREATED:20250408T131232Z
LAST-MODIFIED:20250408T131232Z
UID:18844-1744070400-1748019600@artsalliancedavis.org
SUMMARY:Call to Artists! Night Market at the Pence
DESCRIPTION:Call to Artists! Night Market at the Pence \nEvent: June 13\, 6 – 9 PM \nApplication deadline: May 23\, 5 PM \n  \nThis pop-up market during the 2nd Friday ArtAbout invites young visual artists\, ages 16-25\, to display and sell their artwork inside the gallery\, ranging from prints and paintings\, to ceramics and jewelry\, and more. It’s free to apply!  \n  \nArtists who are interested in participating must fill out an online application. The Pence provides an indoor venue at $25/accepted artist (no fee for Pence Members!)\, which must be paid prior to the event. Artists must bring their own table to display their work\, but the Pence will provide chairs. All art sales are handled by participants\, and all proceeds go directly to the artist. Please note that space is limited\, and applications are due by 5 PM of May 23. Artists will be notified of their acceptance by May 28. \n  \nLearn more: https://pencegallery.org/events/night-market/ \nView application: bit.ly/pencenightmarket
URL:https://artsalliancedavis.org/event/call-to-artists-night-market-at-the-pence/
LOCATION:Pence Gallery\, 212 D St\, Davis\, CA\, United States
CATEGORIES:Art,Community,Shopping
ATTACH;FMTTYPE=image/png:https://artsalliancedavis.org/wp-content/uploads/2025/04/Night-Market-Call-square-nc7FZR.tmp_.png
ORGANIZER;CN="Pence Gallery":MAILTO:pencesocialmedia@gmail.com
END:VEVENT
BEGIN:VEVENT
DTSTART;TZID=America/Los_Angeles:20250503T080000
DTEND;TZID=America/Los_Angeles:20250503T130000
DTSTAMP:20260424T140023
CREATED:20250209T201101Z
LAST-MODIFIED:20250209T201101Z
UID:17639-1746259200-1746277200@artsalliancedavis.org
SUMMARY:Davis Farmers Market
DESCRIPTION:Year-round at Central Park in downtown Davis\, thousands gather each week to shop for what is grown\, raised\, and made locally at our markets. We are dedicated to bringing farmers right to your table\, so we stay open rain or shine. \nWalk rows of stalls lined with an array of fruits and vegetables\, including certified organic produce\, choice meats\, chicken\, seafood\, wine\, local eggs and honey. Choose from a variety of fresh-baked goods\, plants\, flowers and gifts. Enjoy a picnic from one of our many food stands\, made from market ingredients. \nSee the vendor list here: https://www.davisfarmersmarket.org/our-sellers/ \nFarmers Market Hours  \nCentral Park: Saturdays 8a–1p (year-round)\, and Wednesdays 3p–6p (October through April); 4p–8p (May through September)\nUC Davis – North Quad: Wednesdays 10a–1:30p (fall and spring quarters)\nSutter Davis Hospital: Thursdays 10a–1p (May through September)\nSutter Medical Center\, Sacramento: Thursdays 2:30p–5:30p \n 
URL:https://artsalliancedavis.org/event/davis-farmers-market-262/
LOCATION:Central Park\, 101 C St\, Davis\, CA\, United States
CATEGORIES:Bring the Kids,Food & Drink,Shopping
ATTACH;FMTTYPE=image/png:https://artsalliancedavis.org/wp-content/uploads/2022/10/davis-farmers-market-logo-KERN-ADJUST2-01-1-e1649900473633-4mwvRA.tmp_.png
ORGANIZER;CN="Davis Farmers Market":MAILTO:dfmpr@dcn.org
END:VEVENT
BEGIN:VEVENT
DTSTART;TZID=America/Los_Angeles:20250504T100000
DTEND;TZID=America/Los_Angeles:20250504T160000
DTSTAMP:20260424T140023
CREATED:20250209T201128Z
LAST-MODIFIED:20250209T201128Z
UID:17654-1746352800-1746374400@artsalliancedavis.org
SUMMARY:Davis Craft and Vintage Fair
DESCRIPTION:Davis Craft and Vintage Fair began as the Square Tomatoes Craft Fair more than 10 years ago! The event was started by instructors from the UC Davis Craft Center in order to have a monthly craft fair for local artisans and the local community. We embraced local vintage vendors in 2017\, we’ve grown and we are still home to local artists and makers from the Davis and greater Sacramento area. \nWe collaborate with local non-profits starting with Couleurs Vives Art Studio who joined us in 2018! Many of our talented vendors can be found at other festivals like the Davis Phoenix Coalition’s Pride Fest\, the I-House’s International Festival\, and 2nd Friday Art Abouts on E Street Plaza! \nExpect to see friendly vendors with local handmade and original art\, crafts\, quality vintage items\, upcycled treasures\, earth-friendly creations\, good food\, and more! Free live music fills the open space for a lively atmosphere so be sure to stop by and join us!  \n 
URL:https://artsalliancedavis.org/event/davis-craft-and-vintage-fair-45/
LOCATION:Central Park – Davis\, 5th St & B St\,\, Davis\,\, CA\, 95616\, United States
CATEGORIES:Art,Community,Outside,Shopping,Stage & Dance
ATTACH;FMTTYPE=image/png:https://artsalliancedavis.org/wp-content/uploads/2025/01/craft-and-vintage-fair-logo-NgaUZz.tmp_.png
END:VEVENT
BEGIN:VEVENT
DTSTART;TZID=America/Los_Angeles:20250507T160000
DTEND;TZID=America/Los_Angeles:20250507T200000
DTSTAMP:20260424T140023
CREATED:20250426T225057Z
LAST-MODIFIED:20250426T225057Z
UID:19181-1746633600-1746648000@artsalliancedavis.org
SUMMARY:Picnic in the Park! Davis Farmers Market
DESCRIPTION:Year-round at Central Park in downtown Davis\, thousands gather each week to shop for what is grown\, raised\, and made locally at our markets. We are dedicated to bringing farmers right to your table\, so we stay open rain or shine. \nWalk rows of stalls lined with an array of fruits and vegetables\, including certified organic produce\, choice meats\, chicken\, seafood\, wine\, local eggs and honey. Choose from a variety of fresh-baked goods\, plants\, flowers and gifts. Enjoy a picnic from one of our many food stands\, made from market ingredients. \nSee the vendor list here: https://www.davisfarmersmarket.org/our-sellers/ \nFarmers Market Hours  \nCentral Park: Saturdays 8a–1p (year-round)\, and Wednesdays 3p–6p (October through April); 4p–8p (May through September)\nUC Davis – North Quad: Wednesdays 10a–1:30p (fall and spring quarters)\nSutter Davis Hospital: Thursdays 10a–1p (May through September)\nSutter Medical Center\, Sacramento: Thursdays 2:30p–5:30p \n 
URL:https://artsalliancedavis.org/event/picnic-in-the-park-davis-farmers-market/
LOCATION:Central Park\, 101 C St\, Davis\, CA\, United States
CATEGORIES:Bring the Kids,Food & Drink,Shopping
ATTACH;FMTTYPE=image/png:https://artsalliancedavis.org/wp-content/uploads/2022/10/davis-farmers-market-logo-KERN-ADJUST2-01-1-e1649900473633-4mwvRA.tmp_.png
ORGANIZER;CN="Davis Farmers Market":MAILTO:dfmpr@dcn.org
END:VEVENT
BEGIN:VEVENT
DTSTART;TZID=America/Los_Angeles:20250509T170000
DTEND;TZID=America/Los_Angeles:20250509T210000
DTSTAMP:20260424T140023
CREATED:20250423T212823Z
LAST-MODIFIED:20250423T212823Z
UID:19091-1746810000-1746824400@artsalliancedavis.org
SUMMARY:2nd Friday ArtAbout
DESCRIPTION:Enjoy art in full bloom during the ArtAbout! Check out art receptions\, pop-ups\, open studios\, live music\, and more in Downtown Davis & beyond for the artwalk the evening of May 9. This is a great free event to enjoy with friends and family each month. Participating venues: \n  \nArboretum Art Works\, 17 Arboretum Dr\, Suites G & H | 5:30-8 PM \nWorking artist collective open studios \n  \nThe Artery\, 207 G St | 6-9 PM \nNew Paintings by Adele Louise Shaw \n  \nDavis Craft & Vintage Fair\, E St Plaza | 5-9 PM \nPop-up arts\, crafts\, and vintage sellers + live music (weather permitting) \n  \nLogos Books\, 513 2nd St | 6-8 PM \nLifting The Veil by Larry Williams \n  \nMabel’s Market\, 222 D St\, Ste. #1 | 6-9 PM \nDSHS Artists on the Rise \n  \nMAK Design+Build\, 430 F St | 5:30-8:30 PM \nPaintings by Luis Guarnizo \n  \nThe Paint Chip\, 217 F St | 6-8:30 PM \nThe River by Jerry DeCamp \n  \nPence Gallery\, 212 D St | 6-9 PM \nAssorted Flavors: The Member Show \nTiny Show  \nBiophilia: Our Longing for Nature \nLive music by Sammy & Lauren Leverone \n  \nThird Space Art Collective\, 17 Arboretum Drive\, Unit C | 6-9 PM \nFabric of Davis by Pauline Jackson \n  \n[OFF MAP EVENTS] \n  \nDavis Arts Center\, 1919 F St | 5-7 PM \nFamily Open Studio \n  \nUnitarian Universalist Church of Davis\, 27074 Patwin Rd | 12-1 PM \nMuusic at Noon Free Concert by Chanteuses Treble Vocal Ensemble \n  \n— \n  \nThe ArtAbout is currently coordinated by the Pence Gallery and sponsored by the Davis Downtown Business Association\, but we could use more support! To become a sponsor of this free community offering\, please visit https://pencegallery.org/events/artabout/. \n  \nImages: \nLarry Williams\, “Threshold” \nJudy Catambay\, Untitled \nAdele Louise Shaw\, “The Fire Inside”
URL:https://artsalliancedavis.org/event/2nd-friday-artabout-39/
LOCATION:Downtown Davis Artwalk
CATEGORIES:Art,Community,Music,Shopping
ATTACH;FMTTYPE=image/png:https://artsalliancedavis.org/wp-content/uploads/2025/04/2nd-Fri-Banners-fqA5wo.tmp_.png
ORGANIZER;CN="Pence Gallery":MAILTO:pencesocialmedia@gmail.com
END:VEVENT
BEGIN:VEVENT
DTSTART;TZID=America/Los_Angeles:20250510T080000
DTEND;TZID=America/Los_Angeles:20250510T130000
DTSTAMP:20260424T140023
CREATED:20250209T201258Z
LAST-MODIFIED:20250209T201258Z
UID:17693-1746864000-1746882000@artsalliancedavis.org
SUMMARY:Davis Farmers Market
DESCRIPTION:Year-round at Central Park in downtown Davis\, thousands gather each week to shop for what is grown\, raised\, and made locally at our markets. We are dedicated to bringing farmers right to your table\, so we stay open rain or shine. \nWalk rows of stalls lined with an array of fruits and vegetables\, including certified organic produce\, choice meats\, chicken\, seafood\, wine\, local eggs and honey. Choose from a variety of fresh-baked goods\, plants\, flowers and gifts. Enjoy a picnic from one of our many food stands\, made from market ingredients. \nSee the vendor list here: https://www.davisfarmersmarket.org/our-sellers/ \nFarmers Market Hours  \nCentral Park: Saturdays 8a–1p (year-round)\, and Wednesdays 3p–6p (October through April); 4p–8p (May through September)\nUC Davis – North Quad: Wednesdays 10a–1:30p (fall and spring quarters)\nSutter Davis Hospital: Thursdays 10a–1p (May through September)\nSutter Medical Center\, Sacramento: Thursdays 2:30p–5:30p \n 
URL:https://artsalliancedavis.org/event/davis-farmers-market-263/
LOCATION:Central Park\, 101 C St\, Davis\, CA\, United States
CATEGORIES:Bring the Kids,Food & Drink,Shopping
ATTACH;FMTTYPE=image/png:https://artsalliancedavis.org/wp-content/uploads/2022/10/davis-farmers-market-logo-KERN-ADJUST2-01-1-e1649900473633-4mwvRA.tmp_.png
ORGANIZER;CN="Davis Farmers Market":MAILTO:dfmpr@dcn.org
END:VEVENT
BEGIN:VEVENT
DTSTART;TZID=America/Los_Angeles:20250510T090000
DTEND;TZID=America/Los_Angeles:20250510T130000
DTSTAMP:20260424T140023
CREATED:20250311T152856Z
LAST-MODIFIED:20250311T152856Z
UID:18046-1746867600-1746882000@artsalliancedavis.org
SUMMARY:UC Davis Plant Sale
DESCRIPTION:ARBORETUM TEACHING NURSERY. Our public clearance plant sale is your last chance to purchase from our inventory of attractive\, climate-ready plants including Arboretum All-stars and California natives. All our remaining plants are marked down. Funds from these plant sales & membership fees support the UC Davis Arboretum and Public Garden’s environmental leadership programs\, the growth of our gardens & collections & the wide variety of free\, educational events we offer the public. 9a – 11p.
URL:https://artsalliancedavis.org/event/uc-davis-plant-sale-2/
LOCATION:Arboretum Teaching Nursery\, 920 Garrod Dr\, Davis\, Ca
CATEGORIES:Bring the Kids,Featured,Outside,Shopping
ATTACH;FMTTYPE=image/png:https://artsalliancedavis.org/wp-content/uploads/2025/03/S25_FB_Event_Banner_Dates-3-jIeJKx.tmp_.png
END:VEVENT
BEGIN:VEVENT
DTSTART;TZID=America/Los_Angeles:20250510T110000
DTEND;TZID=America/Los_Angeles:20250510T120000
DTSTAMP:20260424T140023
CREATED:20250419T192246Z
LAST-MODIFIED:20250419T192246Z
UID:19025-1746874800-1746878400@artsalliancedavis.org
SUMMARY:New Harmony Jazz Band @ the Whole Earth Festival
DESCRIPTION:Swing\, Big Band\, and Latin jazz standards at the Main Stage on the Quad!
URL:https://artsalliancedavis.org/event/new-harmony-jazz-band-the-whole-earth-festival/
LOCATION:UC Davis Quad
CATEGORIES:Bring the Kids,Community,Food & Drink,Music,Outside,Shopping
ATTACH;FMTTYPE=image/jpeg:https://artsalliancedavis.org/wp-content/uploads/2025/04/IMG_7698-xD5ZPm.tmp_.jpg
ORGANIZER;CN="UC Davis":MAILTO:jaeasley@ucdavis.edu
END:VEVENT
BEGIN:VEVENT
DTSTART;TZID=America/Los_Angeles:20250514T160000
DTEND;TZID=America/Los_Angeles:20250514T200000
DTSTAMP:20260424T140023
CREATED:20250426T225254Z
LAST-MODIFIED:20250426T225254Z
UID:19185-1747238400-1747252800@artsalliancedavis.org
SUMMARY:Picnic in the Park! Davis Farmers Market
DESCRIPTION:Year-round at Central Park in downtown Davis\, thousands gather each week to shop for what is grown\, raised\, and made locally at our markets. We are dedicated to bringing farmers right to your table\, so we stay open rain or shine. \nWalk rows of stalls lined with an array of fruits and vegetables\, including certified organic produce\, choice meats\, chicken\, seafood\, wine\, local eggs and honey. Choose from a variety of fresh-baked goods\, plants\, flowers and gifts. Enjoy a picnic from one of our many food stands\, made from market ingredients. \nSee the vendor list here: https://www.davisfarmersmarket.org/our-sellers/ \nFarmers Market Hours  \nCentral Park: Saturdays 8a–1p (year-round)\, and Wednesdays 3p–6p (October through April); 4p–8p (May through September)\nUC Davis – North Quad: Wednesdays 10a–1:30p (fall and spring quarters)\nSutter Davis Hospital: Thursdays 10a–1p (May through September)\nSutter Medical Center\, Sacramento: Thursdays 2:30p–5:30p \n 
URL:https://artsalliancedavis.org/event/picnic-in-the-park-davis-farmers-market-2/
LOCATION:Central Park\, 101 C St\, Davis\, CA\, United States
CATEGORIES:Bring the Kids,Food & Drink,Shopping
ATTACH;FMTTYPE=image/png:https://artsalliancedavis.org/wp-content/uploads/2022/10/davis-farmers-market-logo-KERN-ADJUST2-01-1-e1649900473633-4mwvRA.tmp_.png
ORGANIZER;CN="Davis Farmers Market":MAILTO:dfmpr@dcn.org
END:VEVENT
BEGIN:VEVENT
DTSTART;TZID=America/Los_Angeles:20250517T080000
DTEND;TZID=America/Los_Angeles:20250517T130000
DTSTAMP:20260424T140023
CREATED:20250311T152944Z
LAST-MODIFIED:20250311T152944Z
UID:18049-1747468800-1747486800@artsalliancedavis.org
SUMMARY:Davis Farmers Market
DESCRIPTION:Year-round at Central Park in downtown Davis\, thousands gather each week to shop for what is grown\, raised\, and made locally at our markets. We are dedicated to bringing farmers right to your table\, so we stay open rain or shine. \nWalk rows of stalls lined with an array of fruits and vegetables\, including certified organic produce\, choice meats\, chicken\, seafood\, wine\, local eggs and honey. Choose from a variety of fresh-baked goods\, plants\, flowers and gifts. Enjoy a picnic from one of our many food stands\, made from market ingredients. \nSee the vendor list here: https://www.davisfarmersmarket.org/our-sellers/ \nFarmers Market Hours  \nCentral Park: Saturdays 8a–1p (year-round)\, and Wednesdays 3p–6p (October through April); 4p–8p (May through September)\nUC Davis – North Quad: Wednesdays 10a–1:30p (fall and spring quarters)\nSutter Davis Hospital: Thursdays 10a–1p (May through September)\nSutter Medical Center\, Sacramento: Thursdays 2:30p–5:30p \n 
URL:https://artsalliancedavis.org/event/davis-farmers-market-272/
LOCATION:Central Park\, 101 C St\, Davis\, CA\, United States
CATEGORIES:Bring the Kids,Food & Drink,Shopping
ATTACH;FMTTYPE=image/png:https://artsalliancedavis.org/wp-content/uploads/2022/10/davis-farmers-market-logo-KERN-ADJUST2-01-1-e1649900473633-4mwvRA.tmp_.png
ORGANIZER;CN="Davis Farmers Market":MAILTO:dfmpr@dcn.org
END:VEVENT
BEGIN:VEVENT
DTSTART;TZID=America/Los_Angeles:20250517T100000
DTEND;TZID=America/Los_Angeles:20250517T160000
DTSTAMP:20260424T140023
CREATED:20250417T171931Z
LAST-MODIFIED:20250417T171931Z
UID:18980-1747476000-1747497600@artsalliancedavis.org
SUMMARY:Garden Art Sale in the Pence Courtyard
DESCRIPTION:Garden Art Sale in the Pence Courtyard \nSaturday\, May 17\, 10 AM – 4 PM (Free admission) \n  \nThe Pence is happy to bring back our Garden Art Sale! Join us for an enjoyable afternoon of shopping. Purchase outdoor sculptures\, mosaic stepping stones\, decorative plant hangers\, fountains\, and more in a sale to benefit the Pence and local artists. Also discover the perfect gift for garden enthusiasts\, ranging from plant wands and gardening aprons\, to air plants and wind chimes. We’ll have plants from The Growing Groves for sale too!
URL:https://artsalliancedavis.org/event/garden-art-sale-in-the-pence-courtyard/
LOCATION:Pence Gallery\, 212 D St\, Davis\, CA\, United States
CATEGORIES:Art,Community,Outside,Shopping
ATTACH;FMTTYPE=image/png:https://artsalliancedavis.org/wp-content/uploads/2025/04/Garden-Art-Sale-PNG-6gNX76.tmp_.png
ORGANIZER;CN="Pence Gallery":MAILTO:pencesocialmedia@gmail.com
END:VEVENT
BEGIN:VEVENT
DTSTART;TZID=America/Los_Angeles:20250518T100000
DTEND;TZID=America/Los_Angeles:20250518T160000
DTSTAMP:20260424T140023
CREATED:20250507T113717Z
LAST-MODIFIED:20250507T113717Z
UID:19371-1747562400-1747584000@artsalliancedavis.org
SUMMARY:Day in Downtown
DESCRIPTION:Day in Downtown is a community event comprised of artists\, makers\, vintage clothing vendors\, Downtown brick and mortars\, and Davis non-profits. It will take place on Sunday\, May 18th from 10am to 4pm in the E Street Plaza Parking Lot. Admission is free\, and it is family friendly. Come check out what will soon become a Davis classic!
URL:https://artsalliancedavis.org/event/day-in-downtown/
LOCATION:E Street Plaza Parking Lot\, 228 E Street\, Davis\, 95616\, United States
CATEGORIES:Art,Bring the Kids,Community,Featured,Outside,Shopping
ATTACH;FMTTYPE=image/jpeg:https://artsalliancedavis.org/wp-content/uploads/2018/10/orange-white-aad-logo.jpg
ORGANIZER;CN="Yesterday Vintage":MAILTO:shop@yesterdaydavis.com
END:VEVENT
BEGIN:VEVENT
DTSTART;TZID=America/Los_Angeles:20250521T160000
DTEND;TZID=America/Los_Angeles:20250521T200000
DTSTAMP:20260424T140023
CREATED:20250426T225456Z
LAST-MODIFIED:20250426T225456Z
UID:19187-1747843200-1747857600@artsalliancedavis.org
SUMMARY:Picnic in the Park! Davis Farmers Market
DESCRIPTION:Year-round at Central Park in downtown Davis\, thousands gather each week to shop for what is grown\, raised\, and made locally at our markets. We are dedicated to bringing farmers right to your table\, so we stay open rain or shine. \nWalk rows of stalls lined with an array of fruits and vegetables\, including certified organic produce\, choice meats\, chicken\, seafood\, wine\, local eggs and honey. Choose from a variety of fresh-baked goods\, plants\, flowers and gifts. Enjoy a picnic from one of our many food stands\, made from market ingredients. \nSee the vendor list here: https://www.davisfarmersmarket.org/our-sellers/ \nFarmers Market Hours  \nCentral Park: Saturdays 8a–1p (year-round)\, and Wednesdays 3p–6p (October through April); 4p–8p (May through September)\nUC Davis – North Quad: Wednesdays 10a–1:30p (fall and spring quarters)\nSutter Davis Hospital: Thursdays 10a–1p (May through September)\nSutter Medical Center\, Sacramento: Thursdays 2:30p–5:30p \n 
URL:https://artsalliancedavis.org/event/picnic-in-the-park-davis-farmers-market-3/
LOCATION:Central Park\, 101 C St\, Davis\, CA\, United States
CATEGORIES:Bring the Kids,Food & Drink,Shopping
ATTACH;FMTTYPE=image/png:https://artsalliancedavis.org/wp-content/uploads/2022/10/davis-farmers-market-logo-KERN-ADJUST2-01-1-e1649900473633-4mwvRA.tmp_.png
ORGANIZER;CN="Davis Farmers Market":MAILTO:dfmpr@dcn.org
END:VEVENT
BEGIN:VEVENT
DTSTART;TZID=America/Los_Angeles:20250524T080000
DTEND;TZID=America/Los_Angeles:20250524T130000
DTSTAMP:20260424T140023
CREATED:20250311T153152Z
LAST-MODIFIED:20250311T153152Z
UID:18095-1748073600-1748091600@artsalliancedavis.org
SUMMARY:Davis Farmers Market
DESCRIPTION:Year-round at Central Park in downtown Davis\, thousands gather each week to shop for what is grown\, raised\, and made locally at our markets. We are dedicated to bringing farmers right to your table\, so we stay open rain or shine. \nWalk rows of stalls lined with an array of fruits and vegetables\, including certified organic produce\, choice meats\, chicken\, seafood\, wine\, local eggs and honey. Choose from a variety of fresh-baked goods\, plants\, flowers and gifts. Enjoy a picnic from one of our many food stands\, made from market ingredients. \nSee the vendor list here: https://www.davisfarmersmarket.org/our-sellers/ \nFarmers Market Hours  \nCentral Park: Saturdays 8a–1p (year-round)\, and Wednesdays 3p–6p (October through April); 4p–8p (May through September)\nUC Davis – North Quad: Wednesdays 10a–1:30p (fall and spring quarters)\nSutter Davis Hospital: Thursdays 10a–1p (May through September)\nSutter Medical Center\, Sacramento: Thursdays 2:30p–5:30p \n 
URL:https://artsalliancedavis.org/event/davis-farmers-market-273/
LOCATION:Central Park\, 101 C St\, Davis\, CA\, United States
CATEGORIES:Bring the Kids,Food & Drink,Shopping
ATTACH;FMTTYPE=image/png:https://artsalliancedavis.org/wp-content/uploads/2022/10/davis-farmers-market-logo-KERN-ADJUST2-01-1-e1649900473633-4mwvRA.tmp_.png
ORGANIZER;CN="Davis Farmers Market":MAILTO:dfmpr@dcn.org
END:VEVENT
BEGIN:VEVENT
DTSTART;TZID=America/Los_Angeles:20250525T100000
DTEND;TZID=America/Los_Angeles:20250525T160000
DTSTAMP:20260424T140023
CREATED:20250311T153215Z
LAST-MODIFIED:20250311T153215Z
UID:18104-1748167200-1748188800@artsalliancedavis.org
SUMMARY:Davis Craft and Vintage Fair
DESCRIPTION:Davis Craft and Vintage Fair began as the Square Tomatoes Craft Fair more than 10 years ago! The event was started by instructors from the UC Davis Craft Center in order to have a monthly craft fair for local artisans and the local community. We embraced local vintage vendors in 2017\, we’ve grown and we are still home to local artists and makers from the Davis and greater Sacramento area. \nWe collaborate with local non-profits starting with Couleurs Vives Art Studio who joined us in 2018! Many of our talented vendors can be found at other festivals like the Davis Phoenix Coalition’s Pride Fest\, the I-House’s International Festival\, and 2nd Friday Art Abouts on E Street Plaza! \nExpect to see friendly vendors with local handmade and original art\, crafts\, quality vintage items\, upcycled treasures\, earth-friendly creations\, good food\, and more! Free live music fills the open space for a lively atmosphere so be sure to stop by and join us!  \n 
URL:https://artsalliancedavis.org/event/davis-craft-and-vintage-fair-46/
LOCATION:Central Park – Davis\, 5th St & B St\,\, Davis\,\, CA\, 95616\, United States
CATEGORIES:Art,Community,Outside,Shopping,Stage & Dance
ATTACH;FMTTYPE=image/png:https://artsalliancedavis.org/wp-content/uploads/2025/01/craft-and-vintage-fair-logo-NgaUZz.tmp_.png
END:VEVENT
BEGIN:VEVENT
DTSTART;TZID=America/Los_Angeles:20250525T110000
DTEND;TZID=America/Los_Angeles:20250525T130000
DTSTAMP:20260424T140023
CREATED:20250419T192656Z
LAST-MODIFIED:20250419T192656Z
UID:19034-1748170800-1748178000@artsalliancedavis.org
SUMMARY:New Harmony Jazz Band @ Davis Craft & Vintage Fair
DESCRIPTION:Two free sets of Swing\, Big Band and Latin jazz standards amidst the splendor of the Craft & Vintage Fair! Bring your dancing shoes!
URL:https://artsalliancedavis.org/event/new-harmony-jazz-band-davis-craft-vintage-fair-7/
LOCATION:Central Park – Davis\, 5th St & B St\,\, Davis\,\, CA\, 95616\, United States
CATEGORIES:Bring the Kids,Community,Food & Drink,Music,Outside,Shopping
ATTACH;FMTTYPE=image/jpeg:https://artsalliancedavis.org/wp-content/uploads/2025/04/NHJB-Central-Park-right-profile-pic-vR4jvN.tmp_.jpg
END:VEVENT
BEGIN:VEVENT
DTSTART;TZID=America/Los_Angeles:20250528T160000
DTEND;TZID=America/Los_Angeles:20250528T200000
DTSTAMP:20260424T140023
CREATED:20250426T225628Z
LAST-MODIFIED:20250426T225628Z
UID:19191-1748448000-1748462400@artsalliancedavis.org
SUMMARY:Picnic in the Park! Davis Farmers Market
DESCRIPTION:Year-round at Central Park in downtown Davis\, thousands gather each week to shop for what is grown\, raised\, and made locally at our markets. We are dedicated to bringing farmers right to your table\, so we stay open rain or shine. \nWalk rows of stalls lined with an array of fruits and vegetables\, including certified organic produce\, choice meats\, chicken\, seafood\, wine\, local eggs and honey. Choose from a variety of fresh-baked goods\, plants\, flowers and gifts. Enjoy a picnic from one of our many food stands\, made from market ingredients. \nSee the vendor list here: https://www.davisfarmersmarket.org/our-sellers/ \nFarmers Market Hours  \nCentral Park: Saturdays 8a–1p (year-round)\, and Wednesdays 3p–6p (October through April); 4p–8p (May through September)\nUC Davis – North Quad: Wednesdays 10a–1:30p (fall and spring quarters)\nSutter Davis Hospital: Thursdays 10a–1p (May through September)\nSutter Medical Center\, Sacramento: Thursdays 2:30p–5:30p \n 
URL:https://artsalliancedavis.org/event/picnic-in-the-park-davis-farmers-market-4/
LOCATION:Central Park\, 101 C St\, Davis\, CA\, United States
CATEGORIES:Bring the Kids,Food & Drink,Shopping
ATTACH;FMTTYPE=image/png:https://artsalliancedavis.org/wp-content/uploads/2022/10/davis-farmers-market-logo-KERN-ADJUST2-01-1-e1649900473633-4mwvRA.tmp_.png
ORGANIZER;CN="Davis Farmers Market":MAILTO:dfmpr@dcn.org
END:VEVENT
BEGIN:VEVENT
DTSTART;TZID=America/Los_Angeles:20250530T120000
DTEND;TZID=America/Los_Angeles:20250530T170000
DTSTAMP:20260424T140023
CREATED:20250311T153305Z
LAST-MODIFIED:20250311T153305Z
UID:18128-1748606400-1748624400@artsalliancedavis.org
SUMMARY:Mainstage Customer Appreciation Day
DESCRIPTION:Every last Friday of the month purchase any item in store and enjoy lunch on us! Hefty Gyros will be the featured food truck this month. We will see you there!!
URL:https://artsalliancedavis.org/event/mainstage-customer-appreciation-day-10/
LOCATION:Mainstage Dispensary
CATEGORIES:Shopping
ATTACH;FMTTYPE=image/jpeg:https://artsalliancedavis.org/wp-content/uploads/2018/10/orange-white-aad-logo.jpg
END:VEVENT
BEGIN:VEVENT
DTSTART;TZID=America/Los_Angeles:20250531T080000
DTEND;TZID=America/Los_Angeles:20250531T130000
DTSTAMP:20260424T140023
CREATED:20250311T153308Z
LAST-MODIFIED:20250311T153308Z
UID:18132-1748678400-1748696400@artsalliancedavis.org
SUMMARY:Davis Farmers Market
DESCRIPTION:Year-round at Central Park in downtown Davis\, thousands gather each week to shop for what is grown\, raised\, and made locally at our markets. We are dedicated to bringing farmers right to your table\, so we stay open rain or shine. \nWalk rows of stalls lined with an array of fruits and vegetables\, including certified organic produce\, choice meats\, chicken\, seafood\, wine\, local eggs and honey. Choose from a variety of fresh-baked goods\, plants\, flowers and gifts. Enjoy a picnic from one of our many food stands\, made from market ingredients. \nSee the vendor list here: https://www.davisfarmersmarket.org/our-sellers/ \nFarmers Market Hours  \nCentral Park: Saturdays 8a–1p (year-round)\, and Wednesdays 3p–6p (October through April); 4p–8p (May through September)\nUC Davis – North Quad: Wednesdays 10a–1:30p (fall and spring quarters)\nSutter Davis Hospital: Thursdays 10a–1p (May through September)\nSutter Medical Center\, Sacramento: Thursdays 2:30p–5:30p \n 
URL:https://artsalliancedavis.org/event/davis-farmers-market-274/
LOCATION:Central Park\, 101 C St\, Davis\, CA\, United States
CATEGORIES:Bring the Kids,Food & Drink,Shopping
ATTACH;FMTTYPE=image/png:https://artsalliancedavis.org/wp-content/uploads/2022/10/davis-farmers-market-logo-KERN-ADJUST2-01-1-e1649900473633-4mwvRA.tmp_.png
ORGANIZER;CN="Davis Farmers Market":MAILTO:dfmpr@dcn.org
END:VEVENT
END:VCALENDAR