BEGIN:VCALENDAR
VERSION:2.0
PRODID:-//Arts Alliance Davis - ECPv6.15.20//NONSGML v1.0//EN
CALSCALE:GREGORIAN
METHOD:PUBLISH
X-WR-CALNAME:Arts Alliance Davis
X-ORIGINAL-URL:https://artsalliancedavis.org
X-WR-CALDESC:Events for Arts Alliance Davis
REFRESH-INTERVAL;VALUE=DURATION:PT1H
X-Robots-Tag:noindex
X-PUBLISHED-TTL:PT1H
BEGIN:VTIMEZONE
TZID:America/Los_Angeles
BEGIN:DAYLIGHT
TZOFFSETFROM:-0800
TZOFFSETTO:-0700
TZNAME:PDT
DTSTART:20240310T100000
END:DAYLIGHT
BEGIN:STANDARD
TZOFFSETFROM:-0700
TZOFFSETTO:-0800
TZNAME:PST
DTSTART:20241103T090000
END:STANDARD
BEGIN:DAYLIGHT
TZOFFSETFROM:-0800
TZOFFSETTO:-0700
TZNAME:PDT
DTSTART:20250309T100000
END:DAYLIGHT
BEGIN:STANDARD
TZOFFSETFROM:-0700
TZOFFSETTO:-0800
TZNAME:PST
DTSTART:20251102T090000
END:STANDARD
BEGIN:DAYLIGHT
TZOFFSETFROM:-0800
TZOFFSETTO:-0700
TZNAME:PDT
DTSTART:20260308T100000
END:DAYLIGHT
BEGIN:STANDARD
TZOFFSETFROM:-0700
TZOFFSETTO:-0800
TZNAME:PST
DTSTART:20261101T090000
END:STANDARD
END:VTIMEZONE
BEGIN:VEVENT
DTSTART;TZID=America/Los_Angeles:20250601T100000
DTEND;TZID=America/Los_Angeles:20250601T160000
DTSTAMP:20260424T124740
CREATED:20250311T153333Z
LAST-MODIFIED:20250311T153333Z
UID:18141-1748772000-1748793600@artsalliancedavis.org
SUMMARY:Davis Craft and Vintage Fair
DESCRIPTION:Davis Craft and Vintage Fair began as the Square Tomatoes Craft Fair more than 10 years ago! The event was started by instructors from the UC Davis Craft Center in order to have a monthly craft fair for local artisans and the local community. We embraced local vintage vendors in 2017\, we’ve grown and we are still home to local artists and makers from the Davis and greater Sacramento area. \nWe collaborate with local non-profits starting with Couleurs Vives Art Studio who joined us in 2018! Many of our talented vendors can be found at other festivals like the Davis Phoenix Coalition’s Pride Fest\, the I-House’s International Festival\, and 2nd Friday Art Abouts on E Street Plaza! \nExpect to see friendly vendors with local handmade and original art\, crafts\, quality vintage items\, upcycled treasures\, earth-friendly creations\, good food\, and more! Free live music fills the open space for a lively atmosphere so be sure to stop by and join us!  \n 
URL:https://artsalliancedavis.org/event/davis-craft-and-vintage-fair-47/
LOCATION:Central Park – Davis\, 5th St & B St\,\, Davis\,\, CA\, 95616\, United States
CATEGORIES:Art,Community,Outside,Shopping,Stage & Dance
ATTACH;FMTTYPE=image/png:https://artsalliancedavis.org/wp-content/uploads/2025/01/craft-and-vintage-fair-logo-NgaUZz.tmp_.png
END:VEVENT
BEGIN:VEVENT
DTSTART;TZID=America/Los_Angeles:20250604T160000
DTEND;TZID=America/Los_Angeles:20250604T200000
DTSTAMP:20260424T124740
CREATED:20250426T225813Z
LAST-MODIFIED:20250426T225813Z
UID:19193-1749052800-1749067200@artsalliancedavis.org
SUMMARY:Picnic in the Park! Davis Farmers Market
DESCRIPTION:Year-round at Central Park in downtown Davis\, thousands gather each week to shop for what is grown\, raised\, and made locally at our markets. We are dedicated to bringing farmers right to your table\, so we stay open rain or shine. \nWalk rows of stalls lined with an array of fruits and vegetables\, including certified organic produce\, choice meats\, chicken\, seafood\, wine\, local eggs and honey. Choose from a variety of fresh-baked goods\, plants\, flowers and gifts. Enjoy a picnic from one of our many food stands\, made from market ingredients. \nSee the vendor list here: https://www.davisfarmersmarket.org/our-sellers/ \nFarmers Market Hours  \nCentral Park: Saturdays 8a–1p (year-round)\, and Wednesdays 3p–6p (October through April); 4p–8p (May through September)\nUC Davis – North Quad: Wednesdays 10a–1:30p (fall and spring quarters)\nSutter Davis Hospital: Thursdays 10a–1p (May through September)\nSutter Medical Center\, Sacramento: Thursdays 2:30p–5:30p \n 
URL:https://artsalliancedavis.org/event/picnic-in-the-park-davis-farmers-market-5/
LOCATION:Central Park\, 101 C St\, Davis\, CA\, United States
CATEGORIES:Bring the Kids,Food & Drink,Shopping
ATTACH;FMTTYPE=image/png:https://artsalliancedavis.org/wp-content/uploads/2022/10/davis-farmers-market-logo-KERN-ADJUST2-01-1-e1649900473633-4mwvRA.tmp_.png
ORGANIZER;CN="Davis Farmers Market":MAILTO:dfmpr@dcn.org
END:VEVENT
BEGIN:VEVENT
DTSTART;TZID=America/Los_Angeles:20250607T080000
DTEND;TZID=America/Los_Angeles:20250607T130000
DTSTAMP:20260424T124740
CREATED:20250311T153436Z
LAST-MODIFIED:20250311T153436Z
UID:18169-1749283200-1749301200@artsalliancedavis.org
SUMMARY:Davis Farmers Market
DESCRIPTION:Year-round at Central Park in downtown Davis\, thousands gather each week to shop for what is grown\, raised\, and made locally at our markets. We are dedicated to bringing farmers right to your table\, so we stay open rain or shine. \nWalk rows of stalls lined with an array of fruits and vegetables\, including certified organic produce\, choice meats\, chicken\, seafood\, wine\, local eggs and honey. Choose from a variety of fresh-baked goods\, plants\, flowers and gifts. Enjoy a picnic from one of our many food stands\, made from market ingredients. \nSee the vendor list here: https://www.davisfarmersmarket.org/our-sellers/ \nFarmers Market Hours  \nCentral Park: Saturdays 8a–1p (year-round)\, and Wednesdays 3p–6p (October through April); 4p–8p (May through September)\nUC Davis – North Quad: Wednesdays 10a–1:30p (fall and spring quarters)\nSutter Davis Hospital: Thursdays 10a–1p (May through September)\nSutter Medical Center\, Sacramento: Thursdays 2:30p–5:30p \n 
URL:https://artsalliancedavis.org/event/davis-farmers-market-275/
LOCATION:Central Park\, 101 C St\, Davis\, CA\, United States
CATEGORIES:Bring the Kids,Food & Drink,Shopping
ATTACH;FMTTYPE=image/png:https://artsalliancedavis.org/wp-content/uploads/2022/10/davis-farmers-market-logo-KERN-ADJUST2-01-1-e1649900473633-4mwvRA.tmp_.png
ORGANIZER;CN="Davis Farmers Market":MAILTO:dfmpr@dcn.org
END:VEVENT
BEGIN:VEVENT
DTSTART;TZID=America/Los_Angeles:20250611T160000
DTEND;TZID=America/Los_Angeles:20250611T200000
DTSTAMP:20260424T124740
CREATED:20250426T225928Z
LAST-MODIFIED:20250426T225928Z
UID:19194-1749657600-1749672000@artsalliancedavis.org
SUMMARY:Picnic in the Park! Davis Farmers Market
DESCRIPTION:Year-round at Central Park in downtown Davis\, thousands gather each week to shop for what is grown\, raised\, and made locally at our markets. We are dedicated to bringing farmers right to your table\, so we stay open rain or shine. \nWalk rows of stalls lined with an array of fruits and vegetables\, including certified organic produce\, choice meats\, chicken\, seafood\, wine\, local eggs and honey. Choose from a variety of fresh-baked goods\, plants\, flowers and gifts. Enjoy a picnic from one of our many food stands\, made from market ingredients. \nSee the vendor list here: https://www.davisfarmersmarket.org/our-sellers/ \nFarmers Market Hours  \nCentral Park: Saturdays 8a–1p (year-round)\, and Wednesdays 3p–6p (October through April); 4p–8p (May through September)\nUC Davis – North Quad: Wednesdays 10a–1:30p (fall and spring quarters)\nSutter Davis Hospital: Thursdays 10a–1p (May through September)\nSutter Medical Center\, Sacramento: Thursdays 2:30p–5:30p \n 
URL:https://artsalliancedavis.org/event/picnic-in-the-park-davis-farmers-market-6/
LOCATION:Central Park\, 101 C St\, Davis\, CA\, United States
CATEGORIES:Bring the Kids,Food & Drink,Shopping
ATTACH;FMTTYPE=image/png:https://artsalliancedavis.org/wp-content/uploads/2022/10/davis-farmers-market-logo-KERN-ADJUST2-01-1-e1649900473633-4mwvRA.tmp_.png
ORGANIZER;CN="Davis Farmers Market":MAILTO:dfmpr@dcn.org
END:VEVENT
BEGIN:VEVENT
DTSTART;TZID=America/Los_Angeles:20250614T080000
DTEND;TZID=America/Los_Angeles:20250614T130000
DTSTAMP:20260424T124740
CREATED:20250316T173504Z
LAST-MODIFIED:20250316T173504Z
UID:18304-1749888000-1749906000@artsalliancedavis.org
SUMMARY:Davis Farmers Market
DESCRIPTION:Year-round at Central Park in downtown Davis\, thousands gather each week to shop for what is grown\, raised\, and made locally at our markets. We are dedicated to bringing farmers right to your table\, so we stay open rain or shine. \nWalk rows of stalls lined with an array of fruits and vegetables\, including certified organic produce\, choice meats\, chicken\, seafood\, wine\, local eggs and honey. Choose from a variety of fresh-baked goods\, plants\, flowers and gifts. Enjoy a picnic from one of our many food stands\, made from market ingredients. \nSee the vendor list here: https://www.davisfarmersmarket.org/our-sellers/ \nFarmers Market Hours  \nCentral Park: Saturdays 8a–1p (year-round)\, and Wednesdays 3p–6p (October through April); 4p–8p (May through September)\nUC Davis – North Quad: Wednesdays 10a–1:30p (fall and spring quarters)\nSutter Davis Hospital: Thursdays 10a–1p (May through September)\nSutter Medical Center\, Sacramento: Thursdays 2:30p–5:30p \n 
URL:https://artsalliancedavis.org/event/davis-farmers-market-276/
LOCATION:Central Park\, 101 C St\, Davis\, CA\, United States
CATEGORIES:Bring the Kids,Food & Drink,Shopping
ATTACH;FMTTYPE=image/png:https://artsalliancedavis.org/wp-content/uploads/2022/10/davis-farmers-market-logo-KERN-ADJUST2-01-1-e1649900473633-4mwvRA.tmp_.png
ORGANIZER;CN="Davis Farmers Market":MAILTO:dfmpr@dcn.org
END:VEVENT
BEGIN:VEVENT
DTSTART;TZID=America/Los_Angeles:20250614T113000
DTEND;TZID=America/Los_Angeles:20250618T170000
DTSTAMP:20260424T124740
CREATED:20250508T120836Z
LAST-MODIFIED:20250508T120836Z
UID:19387-1749900600-1750266000@artsalliancedavis.org
SUMMARY:Donation Drop-Off for Pence Gallery Treasure Sale
DESCRIPTION:The Pence Gallery’s annual Treasure Sale is set for June 20 – 23\, 2025! \n  \nWe are accepting donations from June 14 – 18\, 11:30 AM – 5 PM. If you would like to donate jewelry\, vintage clothing\, fine art\, small furniture\, rugs\, antiques and collectibles\, or other miscellaneous items\, we encourage you to bring them by! No need to call before drop-off during the above dates\, and all donations will receive a tax donation form.  \n  \nPlease note that we are NOT accepting: glassware\, pet items\, well-worn clothing\, large frames\, large furniture\, books\, kitchen gadgets\, exercise equipment\, electronics\, or broken items. Thank you! \n  \nLearn more about the Treasure Sale at https://pencegallery.org/events/treasure-sale/.
URL:https://artsalliancedavis.org/event/donation-drop-off-for-pence-gallery-treasure-sale/
LOCATION:Pence Gallery\, 212 D St\, Davis\, CA\, United States
CATEGORIES:Art,Community,Shopping
ATTACH;FMTTYPE=image/png:https://artsalliancedavis.org/wp-content/uploads/2025/05/donation-drop-off-Cc5YE2.tmp_.png
ORGANIZER;CN="Pence Gallery":MAILTO:pencesocialmedia@gmail.com
END:VEVENT
BEGIN:VEVENT
DTSTART;TZID=America/Los_Angeles:20250615T100000
DTEND;TZID=America/Los_Angeles:20250615T160000
DTSTAMP:20260424T124740
CREATED:20250317T174947Z
LAST-MODIFIED:20250317T174947Z
UID:18312-1749981600-1750003200@artsalliancedavis.org
SUMMARY:Davis Craft and Vintage Fair
DESCRIPTION:Davis Craft and Vintage Fair began as the Square Tomatoes Craft Fair more than 10 years ago! The event was started by instructors from the UC Davis Craft Center in order to have a monthly craft fair for local artisans and the local community. We embraced local vintage vendors in 2017\, we’ve grown and we are still home to local artists and makers from the Davis and greater Sacramento area. \nWe collaborate with local non-profits starting with Couleurs Vives Art Studio who joined us in 2018! Many of our talented vendors can be found at other festivals like the Davis Phoenix Coalition’s Pride Fest\, the I-House’s International Festival\, and 2nd Friday Art Abouts on E Street Plaza! \nExpect to see friendly vendors with local handmade and original art\, crafts\, quality vintage items\, upcycled treasures\, earth-friendly creations\, good food\, and more! Free live music fills the open space for a lively atmosphere so be sure to stop by and join us!  \n 
URL:https://artsalliancedavis.org/event/davis-craft-and-vintage-fair-48/
LOCATION:Central Park – Davis\, 5th St & B St\,\, Davis\,\, CA\, 95616\, United States
CATEGORIES:Art,Community,Outside,Shopping,Stage & Dance
ATTACH;FMTTYPE=image/png:https://artsalliancedavis.org/wp-content/uploads/2025/01/craft-and-vintage-fair-logo-NgaUZz.tmp_.png
END:VEVENT
BEGIN:VEVENT
DTSTART;TZID=America/Los_Angeles:20250618T160000
DTEND;TZID=America/Los_Angeles:20250618T200000
DTSTAMP:20260424T124740
CREATED:20250426T230041Z
LAST-MODIFIED:20250426T230041Z
UID:19195-1750262400-1750276800@artsalliancedavis.org
SUMMARY:Picnic in the Park! Davis Farmers Market
DESCRIPTION:Year-round at Central Park in downtown Davis\, thousands gather each week to shop for what is grown\, raised\, and made locally at our markets. We are dedicated to bringing farmers right to your table\, so we stay open rain or shine. \nWalk rows of stalls lined with an array of fruits and vegetables\, including certified organic produce\, choice meats\, chicken\, seafood\, wine\, local eggs and honey. Choose from a variety of fresh-baked goods\, plants\, flowers and gifts. Enjoy a picnic from one of our many food stands\, made from market ingredients. \nSee the vendor list here: https://www.davisfarmersmarket.org/our-sellers/ \nFarmers Market Hours  \nCentral Park: Saturdays 8a–1p (year-round)\, and Wednesdays 3p–6p (October through April); 4p–8p (May through September)\nUC Davis – North Quad: Wednesdays 10a–1:30p (fall and spring quarters)\nSutter Davis Hospital: Thursdays 10a–1p (May through September)\nSutter Medical Center\, Sacramento: Thursdays 2:30p–5:30p \n 
URL:https://artsalliancedavis.org/event/picnic-in-the-park-davis-farmers-market-7/
LOCATION:Central Park\, 101 C St\, Davis\, CA\, United States
CATEGORIES:Bring the Kids,Food & Drink,Shopping
ATTACH;FMTTYPE=image/png:https://artsalliancedavis.org/wp-content/uploads/2022/10/davis-farmers-market-logo-KERN-ADJUST2-01-1-e1649900473633-4mwvRA.tmp_.png
ORGANIZER;CN="Davis Farmers Market":MAILTO:dfmpr@dcn.org
END:VEVENT
BEGIN:VEVENT
DTSTART;TZID=America/Los_Angeles:20250619T160000
DTEND;TZID=America/Los_Angeles:20250619T180000
DTSTAMP:20260424T124740
CREATED:20250508T120942Z
LAST-MODIFIED:20250508T120942Z
UID:19389-1750348800-1750356000@artsalliancedavis.org
SUMMARY:Members Only Preview: Pence Gallery Treasure Sale
DESCRIPTION:Members Only Preview | Thursday\, June 19\, 4 – 6 PM \nOur Treasure Sale is an exciting annual fundraiser that will have jewelry\, vintage clothing\, fine art\, collectibles\, and more for sale. Current Members are invited to join us for special pre-sale shopping hours on June 19! Not a Member? You can join now at https://pencegallery.org/support/membership/ or at the door in order to participate. \n  \nThe Treasure Sale will open to the general public afterwards from June 20 – 23\, 2025. Learn more at https://pencegallery.org/events/treasure-sale/.
URL:https://artsalliancedavis.org/event/members-only-preview-pence-gallery-treasure-sale/
LOCATION:Pence Gallery\, 212 D St\, Davis\, CA\, United States
CATEGORIES:Art,Community,Shopping
ATTACH;FMTTYPE=image/png:https://artsalliancedavis.org/wp-content/uploads/2025/05/members-shopping-Z3vOC5.tmp_.png
ORGANIZER;CN="Pence Gallery":MAILTO:pencesocialmedia@gmail.com
END:VEVENT
BEGIN:VEVENT
DTSTART;TZID=America/Los_Angeles:20250620T113000
DTEND;TZID=America/Los_Angeles:20250620T170000
DTSTAMP:20260424T124740
CREATED:20250508T120947Z
LAST-MODIFIED:20250508T120947Z
UID:19391-1750419000-1750438800@artsalliancedavis.org
SUMMARY:Pence Gallery Treasure Sale
DESCRIPTION:Pence Gallery Treasure Sale \nJune 20 – 23\, 11:30 AM – 5 PM (closes early on June 23) \nOur annual Treasure Sale is a great event for those who are looking to downsize their unwanted family heirlooms\, or for those who are looking to find a few new treasures. All proceeds from this sale\, which takes place at the Gallery\, support the Pence’s exhibits and education programs. \n  \nDonation Drop-Off | June 14 – 18\, 11:30 AM – 5 PM \nIf you would like to donate jewelry\, vintage clothing\, fine art\, small furniture\, rugs\, antiques and collectibles\, or other miscellaneous items\, we encourage you to bring them by! No need to call before drop-off during the above dates\, and all donations will receive a tax donation form. Please note that we are NOT accepting: glassware\, pet items\, well-worn clothing\, large frames\, large furniture\, books\, kitchen gadgets\, exercise equipment\, electronics\, or broken items. Thank you! \n  \nMembers Only Preview | Thursday\, June 19\, 4 – 6 PM \nCurrent Members can join us for special pre-sale shopping hours! Not a Member? You can join at the door in order to participate. \n  \nLast Day Super Sale | Monday\, June 23\, 11:30 AM – 3 PM \nOn the last day of the sale only\, you can bring your own bag and fill it up for $5!
URL:https://artsalliancedavis.org/event/pence-gallery-treasure-sale/
LOCATION:Pence Gallery\, 212 D St\, Davis\, CA\, United States
CATEGORIES:Art,Community,Shopping
ATTACH;FMTTYPE=image/jpeg:https://artsalliancedavis.org/wp-content/uploads/2025/05/TreasureSale-SM-sKiDoy.tmp_.jpg
ORGANIZER;CN="Pence Gallery":MAILTO:pencesocialmedia@gmail.com
END:VEVENT
BEGIN:VEVENT
DTSTART;TZID=America/Los_Angeles:20250621T080000
DTEND;TZID=America/Los_Angeles:20250621T130000
DTSTAMP:20260424T124740
CREATED:20250323T201628Z
LAST-MODIFIED:20250323T201628Z
UID:18373-1750492800-1750510800@artsalliancedavis.org
SUMMARY:Davis Farmers Market
DESCRIPTION:Year-round at Central Park in downtown Davis\, thousands gather each week to shop for what is grown\, raised\, and made locally at our markets. We are dedicated to bringing farmers right to your table\, so we stay open rain or shine. \nWalk rows of stalls lined with an array of fruits and vegetables\, including certified organic produce\, choice meats\, chicken\, seafood\, wine\, local eggs and honey. Choose from a variety of fresh-baked goods\, plants\, flowers and gifts. Enjoy a picnic from one of our many food stands\, made from market ingredients. \nSee the vendor list here: https://www.davisfarmersmarket.org/our-sellers/ \nFarmers Market Hours  \nCentral Park: Saturdays 8a–1p (year-round)\, and Wednesdays 3p–6p (October through April); 4p–8p (May through September)\nUC Davis – North Quad: Wednesdays 10a–1:30p (fall and spring quarters)\nSutter Davis Hospital: Thursdays 10a–1p (May through September)\nSutter Medical Center\, Sacramento: Thursdays 2:30p–5:30p \n 
URL:https://artsalliancedavis.org/event/davis-farmers-market-277/
LOCATION:Central Park\, 101 C St\, Davis\, CA\, United States
CATEGORIES:Bring the Kids,Food & Drink,Shopping
ATTACH;FMTTYPE=image/png:https://artsalliancedavis.org/wp-content/uploads/2022/10/davis-farmers-market-logo-KERN-ADJUST2-01-1-e1649900473633-4mwvRA.tmp_.png
ORGANIZER;CN="Davis Farmers Market":MAILTO:dfmpr@dcn.org
END:VEVENT
BEGIN:VEVENT
DTSTART;TZID=America/Los_Angeles:20250621T113000
DTEND;TZID=America/Los_Angeles:20250621T170000
DTSTAMP:20260424T124740
CREATED:20250508T121020Z
LAST-MODIFIED:20250508T121020Z
UID:19393-1750505400-1750525200@artsalliancedavis.org
SUMMARY:Pence Gallery Treasure Sale
DESCRIPTION:Pence Gallery Treasure Sale \nJune 20 – 23\, 11:30 AM – 5 PM (closes early on June 23) \nOur annual Treasure Sale is a great event for those who are looking to downsize their unwanted family heirlooms\, or for those who are looking to find a few new treasures. All proceeds from this sale\, which takes place at the Gallery\, support the Pence’s exhibits and education programs. \n  \nDonation Drop-Off | June 14 – 18\, 11:30 AM – 5 PM \nIf you would like to donate jewelry\, vintage clothing\, fine art\, small furniture\, rugs\, antiques and collectibles\, or other miscellaneous items\, we encourage you to bring them by! No need to call before drop-off during the above dates\, and all donations will receive a tax donation form. Please note that we are NOT accepting: glassware\, pet items\, well-worn clothing\, large frames\, large furniture\, books\, kitchen gadgets\, exercise equipment\, electronics\, or broken items. Thank you! \n  \nMembers Only Preview | Thursday\, June 19\, 4 – 6 PM \nCurrent Members can join us for special pre-sale shopping hours! Not a Member? You can join at the door in order to participate. \n  \nLast Day Super Sale | Monday\, June 23\, 11:30 AM – 3 PM \nOn the last day of the sale only\, you can bring your own bag and fill it up for $5!
URL:https://artsalliancedavis.org/event/pence-gallery-treasure-sale-2/
LOCATION:Pence Gallery\, 212 D St\, Davis\, CA\, United States
CATEGORIES:Art,Community,Shopping
ATTACH;FMTTYPE=image/jpeg:https://artsalliancedavis.org/wp-content/uploads/2025/05/TreasureSale-SM-sKiDoy.tmp_.jpg
ORGANIZER;CN="Pence Gallery":MAILTO:pencesocialmedia@gmail.com
END:VEVENT
BEGIN:VEVENT
DTSTART;TZID=America/Los_Angeles:20250622T113000
DTEND;TZID=America/Los_Angeles:20250622T170000
DTSTAMP:20260424T124740
CREATED:20250508T121021Z
LAST-MODIFIED:20250508T121021Z
UID:19394-1750591800-1750611600@artsalliancedavis.org
SUMMARY:Pence Gallery Treasure Sale
DESCRIPTION:Pence Gallery Treasure Sale \nJune 20 – 23\, 11:30 AM – 5 PM (closes early on June 23) \nOur annual Treasure Sale is a great event for those who are looking to downsize their unwanted family heirlooms\, or for those who are looking to find a few new treasures. All proceeds from this sale\, which takes place at the Gallery\, support the Pence’s exhibits and education programs. \n  \nDonation Drop-Off | June 14 – 18\, 11:30 AM – 5 PM \nIf you would like to donate jewelry\, vintage clothing\, fine art\, small furniture\, rugs\, antiques and collectibles\, or other miscellaneous items\, we encourage you to bring them by! No need to call before drop-off during the above dates\, and all donations will receive a tax donation form. Please note that we are NOT accepting: glassware\, pet items\, well-worn clothing\, large frames\, large furniture\, books\, kitchen gadgets\, exercise equipment\, electronics\, or broken items. Thank you! \n  \nMembers Only Preview | Thursday\, June 19\, 4 – 6 PM \nCurrent Members can join us for special pre-sale shopping hours! Not a Member? You can join at the door in order to participate. \n  \nLast Day Super Sale | Monday\, June 23\, 11:30 AM – 3 PM \nOn the last day of the sale only\, you can bring your own bag and fill it up for $5!
URL:https://artsalliancedavis.org/event/pence-gallery-treasure-sale-3/
LOCATION:Pence Gallery\, 212 D St\, Davis\, CA\, United States
CATEGORIES:Art,Community,Shopping
ATTACH;FMTTYPE=image/jpeg:https://artsalliancedavis.org/wp-content/uploads/2025/05/TreasureSale-SM-sKiDoy.tmp_.jpg
ORGANIZER;CN="Pence Gallery":MAILTO:pencesocialmedia@gmail.com
END:VEVENT
BEGIN:VEVENT
DTSTART;TZID=America/Los_Angeles:20250623T113000
DTEND;TZID=America/Los_Angeles:20250623T150000
DTSTAMP:20260424T124740
CREATED:20250508T121038Z
LAST-MODIFIED:20250508T121038Z
UID:19395-1750678200-1750690800@artsalliancedavis.org
SUMMARY:Pence Gallery Treasure Sale
DESCRIPTION:Pence Gallery Treasure Sale \nJune 20 – 23\, 11:30 AM – 5 PM (closes early on June 23) \nOur annual Treasure Sale is a great event for those who are looking to downsize their unwanted family heirlooms\, or for those who are looking to find a few new treasures. All proceeds from this sale\, which takes place at the Gallery\, support the Pence’s exhibits and education programs. \n  \nDonation Drop-Off | June 14 – 18\, 11:30 AM – 5 PM \nIf you would like to donate jewelry\, vintage clothing\, fine art\, small furniture\, rugs\, antiques and collectibles\, or other miscellaneous items\, we encourage you to bring them by! No need to call before drop-off during the above dates\, and all donations will receive a tax donation form. Please note that we are NOT accepting: glassware\, pet items\, well-worn clothing\, large frames\, large furniture\, books\, kitchen gadgets\, exercise equipment\, electronics\, or broken items. Thank you! \n  \nMembers Only Preview | Thursday\, June 19\, 4 – 6 PM \nCurrent Members can join us for special pre-sale shopping hours! Not a Member? You can join at the door in order to participate. \n  \nLast Day Super Sale | Monday\, June 23\, 11:30 AM – 3 PM \nOn the last day of the sale only\, you can bring your own bag and fill it up for $5!
URL:https://artsalliancedavis.org/event/pence-gallery-treasure-sale-4/
LOCATION:Pence Gallery\, 212 D St\, Davis\, CA\, United States
CATEGORIES:Art,Community,Shopping
ATTACH;FMTTYPE=image/jpeg:https://artsalliancedavis.org/wp-content/uploads/2025/05/TreasureSale-SM-sKiDoy.tmp_.jpg
ORGANIZER;CN="Pence Gallery":MAILTO:pencesocialmedia@gmail.com
END:VEVENT
BEGIN:VEVENT
DTSTART;TZID=America/Los_Angeles:20250625T160000
DTEND;TZID=America/Los_Angeles:20250625T200000
DTSTAMP:20260424T124740
CREATED:20250426T230154Z
LAST-MODIFIED:20250426T230154Z
UID:19196-1750867200-1750881600@artsalliancedavis.org
SUMMARY:Picnic in the Park! Davis Farmers Market
DESCRIPTION:Year-round at Central Park in downtown Davis\, thousands gather each week to shop for what is grown\, raised\, and made locally at our markets. We are dedicated to bringing farmers right to your table\, so we stay open rain or shine. \nWalk rows of stalls lined with an array of fruits and vegetables\, including certified organic produce\, choice meats\, chicken\, seafood\, wine\, local eggs and honey. Choose from a variety of fresh-baked goods\, plants\, flowers and gifts. Enjoy a picnic from one of our many food stands\, made from market ingredients. \nSee the vendor list here: https://www.davisfarmersmarket.org/our-sellers/ \nFarmers Market Hours  \nCentral Park: Saturdays 8a–1p (year-round)\, and Wednesdays 3p–6p (October through April); 4p–8p (May through September)\nUC Davis – North Quad: Wednesdays 10a–1:30p (fall and spring quarters)\nSutter Davis Hospital: Thursdays 10a–1p (May through September)\nSutter Medical Center\, Sacramento: Thursdays 2:30p–5:30p \n 
URL:https://artsalliancedavis.org/event/picnic-in-the-park-davis-farmers-market-8/
LOCATION:Central Park\, 101 C St\, Davis\, CA\, United States
CATEGORIES:Bring the Kids,Food & Drink,Shopping
ATTACH;FMTTYPE=image/png:https://artsalliancedavis.org/wp-content/uploads/2022/10/davis-farmers-market-logo-KERN-ADJUST2-01-1-e1649900473633-4mwvRA.tmp_.png
ORGANIZER;CN="Davis Farmers Market":MAILTO:dfmpr@dcn.org
END:VEVENT
BEGIN:VEVENT
DTSTART;TZID=America/Los_Angeles:20250627T120000
DTEND;TZID=America/Los_Angeles:20250627T170000
DTSTAMP:20260424T124740
CREATED:20250329T223008Z
LAST-MODIFIED:20250329T223008Z
UID:18660-1751025600-1751043600@artsalliancedavis.org
SUMMARY:Mainstage Customer Appreciation Day
DESCRIPTION:Every last Friday of the month purchase any item in store and enjoy lunch on us! Hefty Gyros will be the featured food truck this month. We will see you there!!
URL:https://artsalliancedavis.org/event/mainstage-customer-appreciation-day-11/
LOCATION:Mainstage Dispensary
CATEGORIES:Shopping
ATTACH;FMTTYPE=image/jpeg:https://artsalliancedavis.org/wp-content/uploads/2018/10/orange-white-aad-logo.jpg
END:VEVENT
BEGIN:VEVENT
DTSTART;TZID=America/Los_Angeles:20250628T080000
DTEND;TZID=America/Los_Angeles:20250628T130000
DTSTAMP:20260424T124740
CREATED:20250330T225900Z
LAST-MODIFIED:20250330T225900Z
UID:18707-1751097600-1751115600@artsalliancedavis.org
SUMMARY:Davis Farmers Market
DESCRIPTION:Year-round at Central Park in downtown Davis\, thousands gather each week to shop for what is grown\, raised\, and made locally at our markets. We are dedicated to bringing farmers right to your table\, so we stay open rain or shine. \nWalk rows of stalls lined with an array of fruits and vegetables\, including certified organic produce\, choice meats\, chicken\, seafood\, wine\, local eggs and honey. Choose from a variety of fresh-baked goods\, plants\, flowers and gifts. Enjoy a picnic from one of our many food stands\, made from market ingredients. \nSee the vendor list here: https://www.davisfarmersmarket.org/our-sellers/ \nFarmers Market Hours  \nCentral Park: Saturdays 8a–1p (year-round)\, and Wednesdays 3p–6p (October through April); 4p–8p (May through September)\nUC Davis – North Quad: Wednesdays 10a–1:30p (fall and spring quarters)\nSutter Davis Hospital: Thursdays 10a–1p (May through September)\nSutter Medical Center\, Sacramento: Thursdays 2:30p–5:30p \n 
URL:https://artsalliancedavis.org/event/davis-farmers-market-278/
LOCATION:Central Park\, 101 C St\, Davis\, CA\, United States
CATEGORIES:Bring the Kids,Food & Drink,Shopping
ATTACH;FMTTYPE=image/png:https://artsalliancedavis.org/wp-content/uploads/2022/10/davis-farmers-market-logo-KERN-ADJUST2-01-1-e1649900473633-4mwvRA.tmp_.png
ORGANIZER;CN="Davis Farmers Market":MAILTO:dfmpr@dcn.org
END:VEVENT
END:VCALENDAR