BEGIN:VCALENDAR
VERSION:2.0
PRODID:-//Arts Alliance Davis - ECPv6.15.20//NONSGML v1.0//EN
CALSCALE:GREGORIAN
METHOD:PUBLISH
X-WR-CALNAME:Arts Alliance Davis
X-ORIGINAL-URL:https://artsalliancedavis.org
X-WR-CALDESC:Events for Arts Alliance Davis
REFRESH-INTERVAL;VALUE=DURATION:PT1H
X-Robots-Tag:noindex
X-PUBLISHED-TTL:PT1H
BEGIN:VTIMEZONE
TZID:America/Los_Angeles
BEGIN:DAYLIGHT
TZOFFSETFROM:-0800
TZOFFSETTO:-0700
TZNAME:PDT
DTSTART:20250309T100000
END:DAYLIGHT
BEGIN:STANDARD
TZOFFSETFROM:-0700
TZOFFSETTO:-0800
TZNAME:PST
DTSTART:20251102T090000
END:STANDARD
BEGIN:DAYLIGHT
TZOFFSETFROM:-0800
TZOFFSETTO:-0700
TZNAME:PDT
DTSTART:20260308T100000
END:DAYLIGHT
BEGIN:STANDARD
TZOFFSETFROM:-0700
TZOFFSETTO:-0800
TZNAME:PST
DTSTART:20261101T090000
END:STANDARD
BEGIN:DAYLIGHT
TZOFFSETFROM:-0800
TZOFFSETTO:-0700
TZNAME:PDT
DTSTART:20270314T100000
END:DAYLIGHT
BEGIN:STANDARD
TZOFFSETFROM:-0700
TZOFFSETTO:-0800
TZNAME:PST
DTSTART:20271107T090000
END:STANDARD
END:VTIMEZONE
BEGIN:VEVENT
DTSTART;TZID=America/Los_Angeles:20260103T080000
DTEND;TZID=America/Los_Angeles:20260103T130000
DTSTAMP:20260424T034057
CREATED:20251022T161108Z
LAST-MODIFIED:20251022T161108Z
UID:21549-1767427200-1767445200@artsalliancedavis.org
SUMMARY:Davis Farmers Market
DESCRIPTION:Year-round at Central Park in downtown Davis\, thousands gather each week to shop for what is grown\, raised\, and made locally at our markets. We are dedicated to bringing farmers right to your table\, so we stay open rain or shine. \nWalk rows of stalls lined with an array of fruits and vegetables\, including certified organic produce\, choice meats\, chicken\, seafood\, wine\, local eggs and honey. Choose from a variety of fresh-baked goods\, plants\, flowers and gifts. Enjoy a picnic from one of our many food stands\, made from market ingredients. \nSee the vendor list here: https://www.davisfarmersmarket.org/our-sellers/ \nFarmers Market Hours  \nCentral Park: Saturdays 8a–1p (year-round)\, and Wednesdays 3p–6p (October through April); 4p–8p (May through September)\nUC Davis – North Quad: Wednesdays 10a–1:30p (fall and spring quarters)\nSutter Davis Hospital: Thursdays 10a–1p (May through September)\nSutter Medical Center\, Sacramento: Thursdays 2:30p–5:30p \n 
URL:https://artsalliancedavis.org/event/davis-farmers-market-316/
LOCATION:Central Park\, 101 C St\, Davis\, CA\, United States
CATEGORIES:Bring the Kids,Food & Drink,Shopping
ATTACH;FMTTYPE=image/png:https://artsalliancedavis.org/wp-content/uploads/2022/10/davis-farmers-market-logo-KERN-ADJUST2-01-1-e1649900473633-4mwvRA.tmp_.png
ORGANIZER;CN="Davis Farmers Market":MAILTO:dfmpr@dcn.org
END:VEVENT
BEGIN:VEVENT
DTSTART;TZID=America/Los_Angeles:20260107T150000
DTEND;TZID=America/Los_Angeles:20260107T180000
DTSTAMP:20260424T034057
CREATED:20251022T161128Z
LAST-MODIFIED:20251022T161128Z
UID:21567-1767798000-1767808800@artsalliancedavis.org
SUMMARY:Davis Farmers Market
DESCRIPTION:Year-round at Central Park in downtown Davis\, thousands gather each week to shop for what is grown\, raised\, and made locally at our markets. We are dedicated to bringing farmers right to your table\, so we stay open rain or shine. \nWalk rows of stalls lined with an array of fruits and vegetables\, including certified organic produce\, choice meats\, chicken\, seafood\, wine\, local eggs and honey. Choose from a variety of fresh-baked goods\, plants\, flowers and gifts. Enjoy a picnic from one of our many food stands\, made from market ingredients. \nSee the vendor list here: https://www.davisfarmersmarket.org/our-sellers/ \nFarmers Market Hours  \nCentral Park: Saturdays 8a–1p (year-round)\, and Wednesdays 3p–6p (October through April); 4p–8p (May through September)\nUC Davis – North Quad: Wednesdays 10a–1:30p (fall and spring quarters)\nSutter Davis Hospital: Thursdays 10a–1p (May through September)\nSutter Medical Center\, Sacramento: Thursdays 2:30p–5:30p \n 
URL:https://artsalliancedavis.org/event/davis-farmers-market-317/
LOCATION:Central Park\, 101 C St\, Davis\, CA\, United States
CATEGORIES:Bring the Kids,Food & Drink,Shopping
ATTACH;FMTTYPE=image/png:https://artsalliancedavis.org/wp-content/uploads/2022/10/davis-farmers-market-logo-KERN-ADJUST2-01-1-e1649900473633-4mwvRA.tmp_.png
ORGANIZER;CN="Davis Farmers Market":MAILTO:dfmpr@dcn.org
END:VEVENT
BEGIN:VEVENT
DTSTART;TZID=America/Los_Angeles:20260109T170000
DTEND;TZID=America/Los_Angeles:20260109T210000
DTSTAMP:20260424T034057
CREATED:20251225T155021Z
LAST-MODIFIED:20251225T155021Z
UID:22943-1767978000-1767992400@artsalliancedavis.org
SUMMARY:2nd Friday ArtAbout
DESCRIPTION:New year\, new art adventure! Check out art receptions\, pop-ups\, open studios\, live music\, and more in Downtown Davis & beyond the evening of January 9. This is a great free event to enjoy with friends and family each month. Participating venues: \nArboretum Art Works\, 17 Arboretum Dr\, Suites G & H | 5:30-7:30 PM\nSit for a portrait by Daniela Lares & visit the artists \nThe Artery\, 207 G St | 6-9 PM\nPerfectly Square group show \nDavis Community Church\, 412 C St | 12-1 PM\nLIVE@DCC: Second Friday Free Noon Concert by TriMusica \nLogos Books\, 513 2nd St | 5-7:30 PM\nHere’s to the Memories from San Miguel de Allende by Lorie Topinka \nThe Paint Chip\, 217 F St | 6-8:30 PM\nAnn Privateer: Beginnings \nPence Gallery\, 212 D St | 6-9 PM\nCharlene Will: Here for a While\nWorn group show\nMaris Kaplan: Amateur\nMaryann Steinert-Foley & Diane Williams: The Realm of Possibility \nThird Space Art Collective\, 17 Arboretum Dr\, Unit C | 5-8 PM\nEl Común group show \n[OFF-MAP EVENT] \nCircle A Studio\, 1930 5th St | 5:30-8 PM\nThe Book as Art group show \n– \nThe ArtAbout is coordinated by the Pence Gallery and sponsored by Signature Sponsor Willowgrove and the Davis Downtown Business Association. To support this free community offering as a sponsor\, please visit https://pencegallery.org/events/artabout/. \nImages:\nJori Jori\, “Scraps” (Pence Gallery)\nPhil Gross\, “Tree” (The Artery)\nTom Corbett\, Untitled (Circle A Studio)\nAmy Teutemacher\, Untitled (Arboretum Art Works)
URL:https://artsalliancedavis.org/event/2nd-friday-artabout-42/
LOCATION:Downtown Davis Various Locations
CATEGORIES:Art,Bring the Kids,Community,Shopping
ATTACH;FMTTYPE=image/png:https://artsalliancedavis.org/wp-content/uploads/2025/12/2nd-Fri-Banners-1-GC9fgc.png
ORGANIZER;CN="Pence Gallery":MAILTO:pencesocialmedia@gmail.com
END:VEVENT
BEGIN:VEVENT
DTSTART;TZID=America/Los_Angeles:20260110T080000
DTEND;TZID=America/Los_Angeles:20260110T130000
DTSTAMP:20260424T034057
CREATED:20251022T161257Z
LAST-MODIFIED:20251022T161257Z
UID:21605-1768032000-1768050000@artsalliancedavis.org
SUMMARY:Davis Farmers Market
DESCRIPTION:Year-round at Central Park in downtown Davis\, thousands gather each week to shop for what is grown\, raised\, and made locally at our markets. We are dedicated to bringing farmers right to your table\, so we stay open rain or shine. \nWalk rows of stalls lined with an array of fruits and vegetables\, including certified organic produce\, choice meats\, chicken\, seafood\, wine\, local eggs and honey. Choose from a variety of fresh-baked goods\, plants\, flowers and gifts. Enjoy a picnic from one of our many food stands\, made from market ingredients. \nSee the vendor list here: https://www.davisfarmersmarket.org/our-sellers/ \nFarmers Market Hours  \nCentral Park: Saturdays 8a–1p (year-round)\, and Wednesdays 3p–6p (October through April); 4p–8p (May through September)\nUC Davis – North Quad: Wednesdays 10a–1:30p (fall and spring quarters)\nSutter Davis Hospital: Thursdays 10a–1p (May through September)\nSutter Medical Center\, Sacramento: Thursdays 2:30p–5:30p \n 
URL:https://artsalliancedavis.org/event/davis-farmers-market-318/
LOCATION:Central Park\, 101 C St\, Davis\, CA\, United States
CATEGORIES:Bring the Kids,Food & Drink,Shopping
ATTACH;FMTTYPE=image/png:https://artsalliancedavis.org/wp-content/uploads/2022/10/davis-farmers-market-logo-KERN-ADJUST2-01-1-e1649900473633-4mwvRA.tmp_.png
ORGANIZER;CN="Davis Farmers Market":MAILTO:dfmpr@dcn.org
END:VEVENT
BEGIN:VEVENT
DTSTART;TZID=America/Los_Angeles:20260114T150000
DTEND;TZID=America/Los_Angeles:20260114T180000
DTSTAMP:20260424T034057
CREATED:20251022T161334Z
LAST-MODIFIED:20251022T161334Z
UID:21624-1768402800-1768413600@artsalliancedavis.org
SUMMARY:Davis Farmers Market
DESCRIPTION:Year-round at Central Park in downtown Davis\, thousands gather each week to shop for what is grown\, raised\, and made locally at our markets. We are dedicated to bringing farmers right to your table\, so we stay open rain or shine. \nWalk rows of stalls lined with an array of fruits and vegetables\, including certified organic produce\, choice meats\, chicken\, seafood\, wine\, local eggs and honey. Choose from a variety of fresh-baked goods\, plants\, flowers and gifts. Enjoy a picnic from one of our many food stands\, made from market ingredients. \nSee the vendor list here: https://www.davisfarmersmarket.org/our-sellers/ \nFarmers Market Hours  \nCentral Park: Saturdays 8a–1p (year-round)\, and Wednesdays 3p–6p (October through April); 4p–8p (May through September)\nUC Davis – North Quad: Wednesdays 10a–1:30p (fall and spring quarters)\nSutter Davis Hospital: Thursdays 10a–1p (May through September)\nSutter Medical Center\, Sacramento: Thursdays 2:30p–5:30p \n 
URL:https://artsalliancedavis.org/event/davis-farmers-market-319/
LOCATION:Central Park\, 101 C St\, Davis\, CA\, United States
CATEGORIES:Bring the Kids,Food & Drink,Shopping
ATTACH;FMTTYPE=image/png:https://artsalliancedavis.org/wp-content/uploads/2022/10/davis-farmers-market-logo-KERN-ADJUST2-01-1-e1649900473633-4mwvRA.tmp_.png
ORGANIZER;CN="Davis Farmers Market":MAILTO:dfmpr@dcn.org
END:VEVENT
BEGIN:VEVENT
DTSTART;TZID=America/Los_Angeles:20260117T080000
DTEND;TZID=America/Los_Angeles:20260117T130000
DTSTAMP:20260424T034057
CREATED:20251022T161451Z
LAST-MODIFIED:20251022T161451Z
UID:21656-1768636800-1768654800@artsalliancedavis.org
SUMMARY:Davis Farmers Market
DESCRIPTION:Year-round at Central Park in downtown Davis\, thousands gather each week to shop for what is grown\, raised\, and made locally at our markets. We are dedicated to bringing farmers right to your table\, so we stay open rain or shine. \nWalk rows of stalls lined with an array of fruits and vegetables\, including certified organic produce\, choice meats\, chicken\, seafood\, wine\, local eggs and honey. Choose from a variety of fresh-baked goods\, plants\, flowers and gifts. Enjoy a picnic from one of our many food stands\, made from market ingredients. \nSee the vendor list here: https://www.davisfarmersmarket.org/our-sellers/ \nFarmers Market Hours  \nCentral Park: Saturdays 8a–1p (year-round)\, and Wednesdays 3p–6p (October through April); 4p–8p (May through September)\nUC Davis – North Quad: Wednesdays 10a–1:30p (fall and spring quarters)\nSutter Davis Hospital: Thursdays 10a–1p (May through September)\nSutter Medical Center\, Sacramento: Thursdays 2:30p–5:30p \n 
URL:https://artsalliancedavis.org/event/davis-farmers-market-320/
LOCATION:Central Park\, 101 C St\, Davis\, CA\, United States
CATEGORIES:Bring the Kids,Food & Drink,Shopping
ATTACH;FMTTYPE=image/png:https://artsalliancedavis.org/wp-content/uploads/2022/10/davis-farmers-market-logo-KERN-ADJUST2-01-1-e1649900473633-4mwvRA.tmp_.png
ORGANIZER;CN="Davis Farmers Market":MAILTO:dfmpr@dcn.org
END:VEVENT
BEGIN:VEVENT
DTSTART;TZID=America/Los_Angeles:20260121T150000
DTEND;TZID=America/Los_Angeles:20260121T180000
DTSTAMP:20260424T034057
CREATED:20251023T163738Z
LAST-MODIFIED:20251023T163738Z
UID:21692-1769007600-1769018400@artsalliancedavis.org
SUMMARY:Davis Farmers Market
DESCRIPTION:Year-round at Central Park in downtown Davis\, thousands gather each week to shop for what is grown\, raised\, and made locally at our markets. We are dedicated to bringing farmers right to your table\, so we stay open rain or shine. \nWalk rows of stalls lined with an array of fruits and vegetables\, including certified organic produce\, choice meats\, chicken\, seafood\, wine\, local eggs and honey. Choose from a variety of fresh-baked goods\, plants\, flowers and gifts. Enjoy a picnic from one of our many food stands\, made from market ingredients. \nSee the vendor list here: https://www.davisfarmersmarket.org/our-sellers/ \nFarmers Market Hours  \nCentral Park: Saturdays 8a–1p (year-round)\, and Wednesdays 3p–6p (October through April); 4p–8p (May through September)\nUC Davis – North Quad: Wednesdays 10a–1:30p (fall and spring quarters)\nSutter Davis Hospital: Thursdays 10a–1p (May through September)\nSutter Medical Center\, Sacramento: Thursdays 2:30p–5:30p \n 
URL:https://artsalliancedavis.org/event/davis-farmers-market-321/
LOCATION:Central Park\, 101 C St\, Davis\, CA\, United States
CATEGORIES:Bring the Kids,Food & Drink,Shopping
ATTACH;FMTTYPE=image/png:https://artsalliancedavis.org/wp-content/uploads/2022/10/davis-farmers-market-logo-KERN-ADJUST2-01-1-e1649900473633-4mwvRA.tmp_.png
ORGANIZER;CN="Davis Farmers Market":MAILTO:dfmpr@dcn.org
END:VEVENT
BEGIN:VEVENT
DTSTART;TZID=America/Los_Angeles:20260124T080000
DTEND;TZID=America/Los_Angeles:20260124T130000
DTSTAMP:20260424T034057
CREATED:20251026T174458Z
LAST-MODIFIED:20251026T174458Z
UID:21840-1769241600-1769259600@artsalliancedavis.org
SUMMARY:Davis Farmers Market
DESCRIPTION:Year-round at Central Park in downtown Davis\, thousands gather each week to shop for what is grown\, raised\, and made locally at our markets. We are dedicated to bringing farmers right to your table\, so we stay open rain or shine. \nWalk rows of stalls lined with an array of fruits and vegetables\, including certified organic produce\, choice meats\, chicken\, seafood\, wine\, local eggs and honey. Choose from a variety of fresh-baked goods\, plants\, flowers and gifts. Enjoy a picnic from one of our many food stands\, made from market ingredients. \nSee the vendor list here: https://www.davisfarmersmarket.org/our-sellers/ \nFarmers Market Hours  \nCentral Park: Saturdays 8a–1p (year-round)\, and Wednesdays 3p–6p (October through April); 4p–8p (May through September)\nUC Davis – North Quad: Wednesdays 10a–1:30p (fall and spring quarters)\nSutter Davis Hospital: Thursdays 10a–1p (May through September)\nSutter Medical Center\, Sacramento: Thursdays 2:30p–5:30p \n 
URL:https://artsalliancedavis.org/event/davis-farmers-market-322/
LOCATION:Central Park\, 101 C St\, Davis\, CA\, United States
CATEGORIES:Bring the Kids,Food & Drink,Shopping
ATTACH;FMTTYPE=image/png:https://artsalliancedavis.org/wp-content/uploads/2022/10/davis-farmers-market-logo-KERN-ADJUST2-01-1-e1649900473633-4mwvRA.tmp_.png
ORGANIZER;CN="Davis Farmers Market":MAILTO:dfmpr@dcn.org
END:VEVENT
BEGIN:VEVENT
DTSTART;TZID=America/Los_Angeles:20260128T150000
DTEND;TZID=America/Los_Angeles:20260128T180000
DTSTAMP:20260424T034057
CREATED:20251030T194154Z
LAST-MODIFIED:20251030T194154Z
UID:21908-1769612400-1769623200@artsalliancedavis.org
SUMMARY:Davis Farmers Market
DESCRIPTION:Year-round at Central Park in downtown Davis\, thousands gather each week to shop for what is grown\, raised\, and made locally at our markets. We are dedicated to bringing farmers right to your table\, so we stay open rain or shine. \nWalk rows of stalls lined with an array of fruits and vegetables\, including certified organic produce\, choice meats\, chicken\, seafood\, wine\, local eggs and honey. Choose from a variety of fresh-baked goods\, plants\, flowers and gifts. Enjoy a picnic from one of our many food stands\, made from market ingredients. \nSee the vendor list here: https://www.davisfarmersmarket.org/our-sellers/ \nFarmers Market Hours  \nCentral Park: Saturdays 8a–1p (year-round)\, and Wednesdays 3p–6p (October through April); 4p–8p (May through September)\nUC Davis – North Quad: Wednesdays 10a–1:30p (fall and spring quarters)\nSutter Davis Hospital: Thursdays 10a–1p (May through September)\nSutter Medical Center\, Sacramento: Thursdays 2:30p–5:30p \n 
URL:https://artsalliancedavis.org/event/davis-farmers-market-323/
LOCATION:Central Park\, 101 C St\, Davis\, CA\, United States
CATEGORIES:Bring the Kids,Food & Drink,Shopping
ATTACH;FMTTYPE=image/png:https://artsalliancedavis.org/wp-content/uploads/2022/10/davis-farmers-market-logo-KERN-ADJUST2-01-1-e1649900473633-4mwvRA.tmp_.png
ORGANIZER;CN="Davis Farmers Market":MAILTO:dfmpr@dcn.org
END:VEVENT
BEGIN:VEVENT
DTSTART;TZID=America/Los_Angeles:20260130T120000
DTEND;TZID=America/Los_Angeles:20260130T170000
DTSTAMP:20260424T034057
CREATED:20251101T204058Z
LAST-MODIFIED:20251101T204058Z
UID:21949-1769774400-1769792400@artsalliancedavis.org
SUMMARY:Mainstage Customer Appreciation Day
DESCRIPTION:Every last Friday of the month purchase any item in store and enjoy lunch on us! Hefty Gyros will be the featured food truck this month. We will see you there!!
URL:https://artsalliancedavis.org/event/mainstage-customer-appreciation-day-18/
LOCATION:Mainstage Dispensary
CATEGORIES:Shopping
ATTACH;FMTTYPE=image/jpeg:https://artsalliancedavis.org/wp-content/uploads/2018/10/orange-white-aad-logo.jpg
END:VEVENT
BEGIN:VEVENT
DTSTART;TZID=America/Los_Angeles:20260131T080000
DTEND;TZID=America/Los_Angeles:20260131T130000
DTSTAMP:20260424T034057
CREATED:20251102T211130Z
LAST-MODIFIED:20251102T211130Z
UID:21961-1769846400-1769864400@artsalliancedavis.org
SUMMARY:Davis Farmers Market
DESCRIPTION:Year-round at Central Park in downtown Davis\, thousands gather each week to shop for what is grown\, raised\, and made locally at our markets. We are dedicated to bringing farmers right to your table\, so we stay open rain or shine. \nWalk rows of stalls lined with an array of fruits and vegetables\, including certified organic produce\, choice meats\, chicken\, seafood\, wine\, local eggs and honey. Choose from a variety of fresh-baked goods\, plants\, flowers and gifts. Enjoy a picnic from one of our many food stands\, made from market ingredients. \nSee the vendor list here: https://www.davisfarmersmarket.org/our-sellers/ \nFarmers Market Hours  \nCentral Park: Saturdays 8a–1p (year-round)\, and Wednesdays 3p–6p (October through April); 4p–8p (May through September)\nUC Davis – North Quad: Wednesdays 10a–1:30p (fall and spring quarters)\nSutter Davis Hospital: Thursdays 10a–1p (May through September)\nSutter Medical Center\, Sacramento: Thursdays 2:30p–5:30p \n 
URL:https://artsalliancedavis.org/event/davis-farmers-market-324/
LOCATION:Central Park\, 101 C St\, Davis\, CA\, United States
CATEGORIES:Bring the Kids,Food & Drink,Shopping
ATTACH;FMTTYPE=image/png:https://artsalliancedavis.org/wp-content/uploads/2022/10/davis-farmers-market-logo-KERN-ADJUST2-01-1-e1649900473633-4mwvRA.tmp_.png
ORGANIZER;CN="Davis Farmers Market":MAILTO:dfmpr@dcn.org
END:VEVENT
END:VCALENDAR