BEGIN:VCALENDAR
VERSION:2.0
PRODID:-//Arts Alliance Davis - ECPv6.15.20//NONSGML v1.0//EN
CALSCALE:GREGORIAN
METHOD:PUBLISH
X-ORIGINAL-URL:https://artsalliancedavis.org
X-WR-CALDESC:Events for Arts Alliance Davis
REFRESH-INTERVAL;VALUE=DURATION:PT1H
X-Robots-Tag:noindex
X-PUBLISHED-TTL:PT1H
BEGIN:VTIMEZONE
TZID:America/Los_Angeles
BEGIN:DAYLIGHT
TZOFFSETFROM:-0800
TZOFFSETTO:-0700
TZNAME:PDT
DTSTART:20240310T100000
END:DAYLIGHT
BEGIN:STANDARD
TZOFFSETFROM:-0700
TZOFFSETTO:-0800
TZNAME:PST
DTSTART:20241103T090000
END:STANDARD
BEGIN:DAYLIGHT
TZOFFSETFROM:-0800
TZOFFSETTO:-0700
TZNAME:PDT
DTSTART:20250309T100000
END:DAYLIGHT
BEGIN:STANDARD
TZOFFSETFROM:-0700
TZOFFSETTO:-0800
TZNAME:PST
DTSTART:20251102T090000
END:STANDARD
BEGIN:DAYLIGHT
TZOFFSETFROM:-0800
TZOFFSETTO:-0700
TZNAME:PDT
DTSTART:20260308T100000
END:DAYLIGHT
BEGIN:STANDARD
TZOFFSETFROM:-0700
TZOFFSETTO:-0800
TZNAME:PST
DTSTART:20261101T090000
END:STANDARD
END:VTIMEZONE
BEGIN:VEVENT
DTSTART;TZID=America/Los_Angeles:20251001T080000
DTEND;TZID=America/Los_Angeles:20251001T120000
DTSTAMP:20260424T060224
CREATED:20250822T144554Z
LAST-MODIFIED:20250822T144554Z
UID:20112-1759305600-1759320000@artsalliancedavis.org
SUMMARY:The Bike Garage Open Hours: Davis Location
DESCRIPTION:Davis location: 1500 Cannery Avenue\n\n\n\n\n\n\nFREE Bike Repair \n\n\nCome to the Bike Garage\, where our volunteer mechanics will repair your bike. We accept cash\, Venmo\, and Paypal donations. \nInterested in becoming a volunteer bike mechanic? No experience is necessary. \n\n\nCONTACT US TO VOLUNTEER \n\n\nQuality Used Bikes for SaleLowest prices on the best used bikes.Our inventory changes every day!   \n\n\nHybrid bikes\, town bikes\, vintage bikes\, road bikes\, mountain bikes\, kids’ bikes\, and more. Visit the Bike Garage in Davis or Woodland to check out our inventory. \n 
URL:https://artsalliancedavis.org/event/the-bike-garage-open-hours-davis-location-177/
LOCATION:Bike Garage Davis\, 1500 Cannery Avenue
ATTACH;FMTTYPE=image/jpeg:https://artsalliancedavis.org/wp-content/uploads/2024/07/unnamed-5wEAlc.tmp_.jpg
END:VEVENT
BEGIN:VEVENT
DTSTART;TZID=America/Los_Angeles:20251001T100000
DTEND;TZID=America/Los_Angeles:20251001T113000
DTSTAMP:20260424T060224
CREATED:20250822T144555Z
LAST-MODIFIED:20250822T144555Z
UID:20113-1759312800-1759318200@artsalliancedavis.org
SUMMARY:Free Youth Art Studio: Mini Open Studio
DESCRIPTION:Weekly on Wednesdays\n10:00am – 11:30am | 12:30pm – 2:00pm* \nBring your under 5 little ones to explore their artistic side and get messy at the Barn Studio! Every Wednesday\, arts activity stations will be available for you and your mini to discover together that encourage materials exploration and develop motor skills. \nCome explore\, play\, and create together! \nAdvance registration encouraged. Materials are provided. Dress for mess. \n*beginning June 1st
URL:https://artsalliancedavis.org/event/free-youth-art-studio-mini-open-studio-27/
LOCATION:512 gibson road\, 512 Gibson Road\, Woodland\, C\, 95695\, United States
CATEGORIES:Art,Bring the Kids,Community
ATTACH;FMTTYPE=image/png:https://artsalliancedavis.org/wp-content/uploads/2024/12/Screen-Shot-2024-12-16-at-1.20.58-PM-gfvX26.tmp_.png
ORGANIZER;CN="YoloArts":MAILTO:jpurnell@yoloarts.org
END:VEVENT
BEGIN:VEVENT
DTSTART;TZID=America/Los_Angeles:20251001T130000
DTEND;TZID=America/Los_Angeles:20251001T153000
DTSTAMP:20260424T060224
CREATED:20250822T144555Z
LAST-MODIFIED:20250822T144555Z
UID:20114-1759323600-1759332600@artsalliancedavis.org
SUMMARY:Davis Genealogy Club Library Hours
DESCRIPTION:Library Hours: Wednesdays\, 1 – 3:30 p.m. (excluding holidays) \nThis group assists and maintains the Senior Center’s extensive Genealogy Library\, and in addition\, hosts monthly lectures and meetings. During library hours\, members are available to assist you with accessing research materials. Computer access is also available in the library for research purposes.
URL:https://artsalliancedavis.org/event/davis-genealogy-club-library-hours-78/
LOCATION:Davis Senior Center\, 646 A St\, Davis\, CA\, 95616\, United States
ATTACH;FMTTYPE=image/jpeg:https://artsalliancedavis.org/wp-content/uploads/2018/10/orange-white-aad-logo.jpg
END:VEVENT
BEGIN:VEVENT
DTSTART;TZID=America/Los_Angeles:20251001T163000
DTEND;TZID=America/Los_Angeles:20251001T180000
DTSTAMP:20260424T060224
CREATED:20250822T144556Z
LAST-MODIFIED:20250822T144556Z
UID:20116-1759336200-1759341600@artsalliancedavis.org
SUMMARY:Artist Talk: Josh Faught
DESCRIPTION:Josh Faught — a fiber artist whose work uses traditional textile techniques including loom-weaving\, knitting\, and crocheting — will give a talk as part of The California Studio: Manetti Shrem Artist Residencies in the Maria Manetti Shrem Art Studio Program at UC Davis on Oct. 1. Faught\, a Sacramento-based fiber artist\, creates sculptures that use traditional textile and homespun techniques\, such as loom-weaving\, knitting\, and crocheting\, to explore craft traditions\, queer culture\, and personal history. In 2025\, Faught received the Guggenheim Fellowship. Recent solo exhibitions include Josh Faught\, Henry Art Gallery\, Seattle (2025) and Look Across the Water into the Darkness\, Look for the Fog\, Wattis Institute\, San Francisco (2022).
URL:https://artsalliancedavis.org/event/artist-talk-josh-faught/
LOCATION:Main Theatre\, UC Davis\, 1 Hutchinson Dr.\, Davis\, C\, 95616\, United States
CATEGORIES:Art
ATTACH;FMTTYPE=image/jpeg:https://artsalliancedavis.org/wp-content/uploads/2025/08/JF_01-o8FlQo.jpg
END:VEVENT
BEGIN:VEVENT
DTSTART;TZID=America/Los_Angeles:20251001T180000
DTEND;TZID=America/Los_Angeles:20251001T193000
DTSTAMP:20260424T060224
CREATED:20250822T144558Z
LAST-MODIFIED:20250822T144558Z
UID:20119-1759341600-1759347000@artsalliancedavis.org
SUMMARY:Mantra Meditation
DESCRIPTION:Let your worries melt away. Mantras are ancient healing sounds that takes the mind off of the stress of modern day life\, and gives us real rest. \n  \nWe will practice 3 simple techniques that you can continue to practice at home on your own. This includes deep breathing\, a technique using beads (Japa meditation)\, and music (Kirtan). \n  \nWe will be in the Fireside Room (C Street entrance). Free/ Donations accepted. \n 
URL:https://artsalliancedavis.org/event/mantra-meditation-67/
LOCATION:Davis Community Church (DCC)\, 412 C Street\, Davis\, CA\, 95616\, United States
ATTACH;FMTTYPE=image/webp:https://artsalliancedavis.org/wp-content/uploads/2024/06/4c1e67_b52b51d2c74246ee99581c470bbd84cemv2-VUdb0h.tmp_.webp
END:VEVENT
BEGIN:VEVENT
DTSTART;TZID=America/Los_Angeles:20251001T180000
DTEND;TZID=America/Los_Angeles:20251001T200000
DTSTAMP:20260424T060224
CREATED:20250822T144558Z
LAST-MODIFIED:20250822T144558Z
UID:20118-1759341600-1759348800@artsalliancedavis.org
SUMMARY:Magic the Gathering Weekly Tournament!
DESCRIPTION:Come and join us for our fun weekly Modern Tournaments. \nBring you deck. Bring your friends and have a wonderful time.
URL:https://artsalliancedavis.org/event/magic-the-gathering-weekly-tournament-65/
LOCATION:Davis Cards & Games\, 1790 East 8th Street\, Davis\, CA\, 95616\, United States
CATEGORIES:Games
ATTACH;FMTTYPE=image/jpeg:https://artsalliancedavis.org/wp-content/uploads/2018/10/orange-white-aad-logo.jpg
ORGANIZER;CN="Davis Cards &amp%3B Games":MAILTO:info@daviscardsandgames.com
END:VEVENT
BEGIN:VEVENT
DTSTART;TZID=America/Los_Angeles:20251001T183000
DTEND;TZID=America/Los_Angeles:20251001T193000
DTSTAMP:20260424T060224
CREATED:20250826T154238Z
LAST-MODIFIED:20250826T154238Z
UID:20769-1759343400-1759347000@artsalliancedavis.org
SUMMARY:Universal Justice Speaker Series
DESCRIPTION:The Davis Odd Fellows are hosting a “Universal Justice Speaker Series” where organizations present A) What they do\, B) How it promotes Justice\, and C) How members of the community can help. Our first presentation will be by Natalie Dillon\, Child Support Director\, of the Colusa Sutter Yolo Regional Child Support Agency. This event is FREE and open to everyone. The presentation will happen from 6:30-7:30 p.m. on Wednesday\, October 1st at the Odd Fellows Hall\, 415 2nd St.\, in Davis.
URL:https://artsalliancedavis.org/event/universal-justice-speaker-series/
LOCATION:Davis Odd Fellows
CATEGORIES:Community
ATTACH;FMTTYPE=image/jpeg:https://artsalliancedavis.org/wp-content/uploads/2018/10/orange-white-aad-logo.jpg
ORGANIZER;CN="Davis Odd Fellows":MAILTO:davislodge@sbcglobal.net
END:VEVENT
BEGIN:VEVENT
DTSTART;TZID=America/Los_Angeles:20251001T190000
DTEND;TZID=America/Los_Angeles:20251001T210000
DTSTAMP:20260424T060224
CREATED:20250822T144558Z
LAST-MODIFIED:20250822T144558Z
UID:20120-1759345200-1759352400@artsalliancedavis.org
SUMMARY:Pub Quiz (Trivia) hosted by Dr. Andy
DESCRIPTION:Sudwerk Trivia is a free\, first come-first serve\, all-ages event. \nJoin us for a fun-filled evening of brain-teasing questions and friendly competition at Sudwerk’s Pub Quiz every Wednesday from 7-9pm! Put your knowledge to the test and gather your friends for a night of laughter and excitement. \nLocation: 2001 2nd Street\, Davis\, CA 95618 \nYou do not have to be 21+ to participate in trivia. There is no drink minimum. \n 
URL:https://artsalliancedavis.org/event/pub-quiz-trivia-hosted-by-dr-andy-57/
LOCATION:Sudwerk Brewing Co.\, 2001 2nd St\, Davis\, CA\, 95618\, United States
CATEGORIES:Featured
ATTACH;FMTTYPE=image/png:https://artsalliancedavis.org/wp-content/uploads/2024/08/Screen-Shot-2024-08-22-at-11.50.58-PM-thSPQq.tmp_.png
END:VEVENT
BEGIN:VEVENT
DTSTART;TZID=America/Los_Angeles:20251002T080000
DTEND;TZID=America/Los_Angeles:20251002T170000
DTSTAMP:20260424T060224
CREATED:20250822T144612Z
LAST-MODIFIED:20250822T144612Z
UID:20121-1759392000-1759424400@artsalliancedavis.org
SUMMARY:Blue Barn Thrift Store
DESCRIPTION:YOLO COUNTY LANDFILL. Save money while helping our environment. The Blue Barn has gently used items for sale including furniture\, housewares\, tools\, sporting goods\, electronics\, gardening equipment\, toys\, and books. Sales Thursdays & the 3rd Saturday of the month\, where all items are half priced. 9a—3p.
URL:https://artsalliancedavis.org/event/blue-barn-thrift-store-42/
LOCATION:Blue Barn Thirft Store
ATTACH;FMTTYPE=image/jpeg:https://artsalliancedavis.org/wp-content/uploads/2018/10/orange-white-aad-logo.jpg
END:VEVENT
BEGIN:VEVENT
DTSTART;TZID=America/Los_Angeles:20251002T093000
DTEND;TZID=America/Los_Angeles:20251002T113000
DTSTAMP:20260424T060224
CREATED:20250822T144612Z
LAST-MODIFIED:20250822T144612Z
UID:20122-1759397400-1759404600@artsalliancedavis.org
SUMMARY:Davis Makerspace & Clothing Repair Cafe
DESCRIPTION:Davis Makerspace is a community workspace for makers and builders\, designers and inventors. A small assortment of tools will be available for use and staff or volunteers will be on hand to provide some assistance. Supervised children are welcome. Participants must provide a signed liability waiver (available on site). Mondays & Tuesdays\, 6p—8p; Thursdays\, 9:30a—11:30a.
URL:https://artsalliancedavis.org/event/davis-makerspace-clothing-repair-cafe-144/
LOCATION:Mary L. Stephens Davis Branch Library\, 315 East 14th Street
ATTACH;FMTTYPE=image/jpeg:https://artsalliancedavis.org/wp-content/uploads/2018/10/orange-white-aad-logo.jpg
END:VEVENT
BEGIN:VEVENT
DTSTART;TZID=America/Los_Angeles:20251002T133000
DTEND;TZID=America/Los_Angeles:20251002T150000
DTSTAMP:20260424T060224
CREATED:20250822T144612Z
LAST-MODIFIED:20250822T144612Z
UID:20123-1759411800-1759417200@artsalliancedavis.org
SUMMARY:English Conversation Group
DESCRIPTION:Join our adult Conversation Group to practice your English in a fun and relaxed way with help from group facilitator. Drop in visitors welcome! \nNo reservation required. You may request reasonable accommodations 5 days in advance by calling (530) 666-8005. Connect with us on Facebook at www.facebook.com/yolocountylibrary.org. \n 
URL:https://artsalliancedavis.org/event/english-conversation-group-170/
LOCATION:Mary L. Stephens Davis Branch Library\, 315 East 14th Street
ATTACH;FMTTYPE=image/jpeg:https://artsalliancedavis.org/wp-content/uploads/2018/10/orange-white-aad-logo.jpg
END:VEVENT
BEGIN:VEVENT
DTSTART;TZID=America/Los_Angeles:20251002T150000
DTEND;TZID=America/Los_Angeles:20251002T163000
DTSTAMP:20260424T060224
CREATED:20250826T154239Z
LAST-MODIFIED:20250826T154239Z
UID:20770-1759417200-1759422600@artsalliancedavis.org
SUMMARY:Line Dance Class at Davis Odd Fellows
DESCRIPTION:Absolute beginner to high beginner dances on Thursdays. Free & open to the public. Donations accepted.
URL:https://artsalliancedavis.org/event/line-dance-class-at-davis-odd-fellows-7/
LOCATION:Davis Odd Fellows
CATEGORIES:Music,Stage & Dance
ATTACH;FMTTYPE=image/jpeg:https://artsalliancedavis.org/wp-content/uploads/2025/08/Davis-ODD-FELLOWS-Line-Dance-Flyer-FALL-2025-scaled-Zu2MhH.jpg
ORGANIZER;CN="Davis Line Dance":MAILTO:davislinedance@gmail.com
END:VEVENT
BEGIN:VEVENT
DTSTART;TZID=America/Los_Angeles:20251002T173000
DTEND;TZID=America/Los_Angeles:20251002T200000
DTSTAMP:20260424T060224
CREATED:20250822T144613Z
LAST-MODIFIED:20250822T144613Z
UID:20124-1759426200-1759435200@artsalliancedavis.org
SUMMARY:Mediterranean Cooking Class & Wine
DESCRIPTION:🌿 Mediterranean Cooking Class 🌿 \nJoin us for a flavorful journey through the Mediterranean!\nIn this hands-on class\, you’ll not only master basic knife skills\, but also gain essential cooking knowledge inspired by the region’s rich culinary traditions and nutritional benefits. \nWhat you’ll learn:\n✅ How to make hummus\, beet hummus\, and baba ganoush from scratch\n✅ The secret to creating perfectly sweet and vibrant beet hummus\n✅ How to prepare crispy\, delicious falafel\n✅ Tips on using olive oil and regional ingredients for authentic flavor \nEverything will be served with fresh vegetables\, locally made olive oil\, and warm pita bread.\nStarter: Marinated olives\nDessert: Sweet\, plump dates \n\n🍽️ Menu: \n\nOlives (starter)\nHummus\nBeet Hummus\nBaba Ghanoush\nFalafel\nFresh vegetables (carrots\, cucumber\, tomatoes\, lettuce)\nPita bread\nDates (dessert)\n\nTicket includes: Class\, ingredients & equipment \nJoin us for an elegant culinary experience at our winery\, where plant-based cuisine meets fine wine. In this hands-on class\, you’ll cook alongside Chef Maggie—a ServSafe Certified Vegan Chef and Wellness Coach—learning to prepare vibrant\, seasonal vegan dishes from scratch. \nYour experience includes:– A 2-hour interactive vegan cooking class led by Chef Maggie– All ingredients and equipment provided– Beautifully printed recipe cards to recreate the dishes at home
URL:https://artsalliancedavis.org/event/mediterranean-cooking-class-wine/
LOCATION:Great Bear Vineyards (Great Bear)\, 24800 County Rd 101A
CATEGORIES:Food & Drink
ATTACH;FMTTYPE=image/png:https://artsalliancedavis.org/wp-content/uploads/2025/08/Cooking-Class-Thumbnail-sxZC6J.png
ORGANIZER;CN="Great Bear Vineyards":MAILTO:greatbearvineyards@gmail.com
END:VEVENT
BEGIN:VEVENT
DTSTART;TZID=America/Los_Angeles:20251002T183000
DTEND;TZID=America/Los_Angeles:20251002T193000
DTSTAMP:20260424T060224
CREATED:20250822T144620Z
LAST-MODIFIED:20250822T144620Z
UID:20126-1759429800-1759433400@artsalliancedavis.org
SUMMARY:No Brain Drain Trivia
DESCRIPTION:Hosted by Preacher. \nTrivia+Comedy+Game Show = A Real Good Time
URL:https://artsalliancedavis.org/event/no-brain-drain-trivia-288/
LOCATION:1260 Lake Blvd\, Ste 121\, Davis\, CA 95616\, 1260 Lake Blvd\, Ste 121\, davis\, CA\, 95616\, United States
CATEGORIES:Food & Drink,Games
ATTACH;FMTTYPE=image/jpeg:https://artsalliancedavis.org/wp-content/uploads/2018/10/orange-white-aad-logo.jpg
ORGANIZER;CN="Super Owl Brewing":MAILTO:vida@superowlbrewing.com
END:VEVENT
BEGIN:VEVENT
DTSTART;TZID=America/Los_Angeles:20251002T183000
DTEND;TZID=America/Los_Angeles:20251002T193000
DTSTAMP:20260424T060224
CREATED:20250822T144621Z
LAST-MODIFIED:20250822T144621Z
UID:20127-1759429800-1759433400@artsalliancedavis.org
SUMMARY:No Brain Drain Trivia
DESCRIPTION:Hosted by Preacher. \nTrivia+Comedy+Game Show = A Real Good Time
URL:https://artsalliancedavis.org/event/no-brain-drain-trivia-289/
LOCATION:1260 Lake Blvd\, Ste 121\, Davis\, CA 95616\, 1260 Lake Blvd\, Ste 121\, davis\, CA\, 95616\, United States
CATEGORIES:Food & Drink,Games
ATTACH;FMTTYPE=image/jpeg:https://artsalliancedavis.org/wp-content/uploads/2018/10/orange-white-aad-logo.jpg
ORGANIZER;CN="Super Owl Brewing":MAILTO:vida@superowlbrewing.com
END:VEVENT
BEGIN:VEVENT
DTSTART;TZID=America/Los_Angeles:20251002T183000
DTEND;TZID=America/Los_Angeles:20251002T193000
DTSTAMP:20260424T060224
CREATED:20250822T144621Z
LAST-MODIFIED:20250822T144621Z
UID:20128-1759429800-1759433400@artsalliancedavis.org
SUMMARY:No Brain Drain Trivia
DESCRIPTION:Hosted by Preacher. \nTrivia+Comedy+Game Show = A Real Good Time
URL:https://artsalliancedavis.org/event/no-brain-drain-trivia-290/
LOCATION:1260 Lake Blvd\, Ste 121\, Davis\, CA 95616\, 1260 Lake Blvd\, Ste 121\, davis\, CA\, 95616\, United States
CATEGORIES:Food & Drink,Games
ATTACH;FMTTYPE=image/jpeg:https://artsalliancedavis.org/wp-content/uploads/2018/10/orange-white-aad-logo.jpg
ORGANIZER;CN="Super Owl Brewing":MAILTO:vida@superowlbrewing.com
END:VEVENT
BEGIN:VEVENT
DTSTART;TZID=America/Los_Angeles:20251002T183000
DTEND;TZID=America/Los_Angeles:20251002T193000
DTSTAMP:20260424T060224
CREATED:20250822T144622Z
LAST-MODIFIED:20250822T144622Z
UID:20129-1759429800-1759433400@artsalliancedavis.org
SUMMARY:No Brain Drain Trivia
DESCRIPTION:Hosted by Preacher. \nTrivia+Comedy+Game Show = A Real Good Time
URL:https://artsalliancedavis.org/event/no-brain-drain-trivia-291/
LOCATION:1260 Lake Blvd\, Ste 121\, Davis\, CA 95616\, 1260 Lake Blvd\, Ste 121\, davis\, CA\, 95616\, United States
CATEGORIES:Food & Drink,Games
ATTACH;FMTTYPE=image/jpeg:https://artsalliancedavis.org/wp-content/uploads/2018/10/orange-white-aad-logo.jpg
ORGANIZER;CN="Super Owl Brewing":MAILTO:vida@superowlbrewing.com
END:VEVENT
BEGIN:VEVENT
DTSTART;TZID=America/Los_Angeles:20251002T183000
DTEND;TZID=America/Los_Angeles:20251002T193000
DTSTAMP:20260424T060224
CREATED:20250822T144622Z
LAST-MODIFIED:20250822T144622Z
UID:20130-1759429800-1759433400@artsalliancedavis.org
SUMMARY:No Brain Drain Trivia
DESCRIPTION:Hosted by Preacher. \nTrivia+Comedy+Game Show = A Real Good Time
URL:https://artsalliancedavis.org/event/no-brain-drain-trivia-292/
LOCATION:1260 Lake Blvd\, Ste 121\, Davis\, CA 95616\, 1260 Lake Blvd\, Ste 121\, davis\, CA\, 95616\, United States
CATEGORIES:Food & Drink,Games
ATTACH;FMTTYPE=image/jpeg:https://artsalliancedavis.org/wp-content/uploads/2018/10/orange-white-aad-logo.jpg
ORGANIZER;CN="Super Owl Brewing":MAILTO:vida@superowlbrewing.com
END:VEVENT
BEGIN:VEVENT
DTSTART;TZID=America/Los_Angeles:20251002T183000
DTEND;TZID=America/Los_Angeles:20251002T193000
DTSTAMP:20260424T060224
CREATED:20250822T144623Z
LAST-MODIFIED:20250822T144623Z
UID:20131-1759429800-1759433400@artsalliancedavis.org
SUMMARY:No Brain Drain Trivia
DESCRIPTION:Hosted by Preacher. \nTrivia+Comedy+Game Show = A Real Good Time
URL:https://artsalliancedavis.org/event/no-brain-drain-trivia-293/
LOCATION:1260 Lake Blvd\, Ste 121\, Davis\, CA 95616\, 1260 Lake Blvd\, Ste 121\, davis\, CA\, 95616\, United States
CATEGORIES:Food & Drink,Games
ATTACH;FMTTYPE=image/jpeg:https://artsalliancedavis.org/wp-content/uploads/2018/10/orange-white-aad-logo.jpg
ORGANIZER;CN="Super Owl Brewing":MAILTO:vida@superowlbrewing.com
END:VEVENT
BEGIN:VEVENT
DTSTART;TZID=America/Los_Angeles:20251002T183000
DTEND;TZID=America/Los_Angeles:20251002T193000
DTSTAMP:20260424T060224
CREATED:20250822T144636Z
LAST-MODIFIED:20250822T144636Z
UID:20132-1759429800-1759433400@artsalliancedavis.org
SUMMARY:No Brain Drain Trivia
DESCRIPTION:Hosted by Preacher. \nTrivia+Comedy+Game Show = A Real Good Time
URL:https://artsalliancedavis.org/event/no-brain-drain-trivia-294/
LOCATION:1260 Lake Blvd\, Ste 121\, Davis\, CA 95616\, 1260 Lake Blvd\, Ste 121\, davis\, CA\, 95616\, United States
CATEGORIES:Food & Drink,Games
ATTACH;FMTTYPE=image/jpeg:https://artsalliancedavis.org/wp-content/uploads/2018/10/orange-white-aad-logo.jpg
ORGANIZER;CN="Super Owl Brewing":MAILTO:vida@superowlbrewing.com
END:VEVENT
BEGIN:VEVENT
DTSTART;TZID=America/Los_Angeles:20251002T183000
DTEND;TZID=America/Los_Angeles:20251002T193000
DTSTAMP:20260424T060224
CREATED:20250822T144637Z
LAST-MODIFIED:20250822T144637Z
UID:20133-1759429800-1759433400@artsalliancedavis.org
SUMMARY:No Brain Drain Trivia
DESCRIPTION:Hosted by Preacher. \nTrivia+Comedy+Game Show = A Real Good Time
URL:https://artsalliancedavis.org/event/no-brain-drain-trivia-295/
LOCATION:1260 Lake Blvd\, Ste 121\, Davis\, CA 95616\, 1260 Lake Blvd\, Ste 121\, davis\, CA\, 95616\, United States
CATEGORIES:Food & Drink,Games
ATTACH;FMTTYPE=image/jpeg:https://artsalliancedavis.org/wp-content/uploads/2018/10/orange-white-aad-logo.jpg
ORGANIZER;CN="Super Owl Brewing":MAILTO:vida@superowlbrewing.com
END:VEVENT
BEGIN:VEVENT
DTSTART;TZID=America/Los_Angeles:20251002T183000
DTEND;TZID=America/Los_Angeles:20251002T193000
DTSTAMP:20260424T060224
CREATED:20250822T144637Z
LAST-MODIFIED:20250822T144637Z
UID:20134-1759429800-1759433400@artsalliancedavis.org
SUMMARY:No Brain Drain Trivia
DESCRIPTION:Hosted by Preacher. \nTrivia+Comedy+Game Show = A Real Good Time
URL:https://artsalliancedavis.org/event/no-brain-drain-trivia-296/
LOCATION:1260 Lake Blvd\, Ste 121\, Davis\, CA 95616\, 1260 Lake Blvd\, Ste 121\, davis\, CA\, 95616\, United States
CATEGORIES:Food & Drink,Games
ATTACH;FMTTYPE=image/jpeg:https://artsalliancedavis.org/wp-content/uploads/2018/10/orange-white-aad-logo.jpg
ORGANIZER;CN="Super Owl Brewing":MAILTO:vida@superowlbrewing.com
END:VEVENT
BEGIN:VEVENT
DTSTART;TZID=America/Los_Angeles:20251002T183000
DTEND;TZID=America/Los_Angeles:20251002T193000
DTSTAMP:20260424T060224
CREATED:20250822T144638Z
LAST-MODIFIED:20250822T144638Z
UID:20135-1759429800-1759433400@artsalliancedavis.org
SUMMARY:No Brain Drain Trivia
DESCRIPTION:Hosted by Preacher. \nTrivia+Comedy+Game Show = A Real Good Time
URL:https://artsalliancedavis.org/event/no-brain-drain-trivia-297/
LOCATION:1260 Lake Blvd\, Ste 121\, Davis\, CA 95616\, 1260 Lake Blvd\, Ste 121\, davis\, CA\, 95616\, United States
CATEGORIES:Food & Drink,Games
ATTACH;FMTTYPE=image/jpeg:https://artsalliancedavis.org/wp-content/uploads/2018/10/orange-white-aad-logo.jpg
ORGANIZER;CN="Super Owl Brewing":MAILTO:vida@superowlbrewing.com
END:VEVENT
BEGIN:VEVENT
DTSTART;TZID=America/Los_Angeles:20251002T183000
DTEND;TZID=America/Los_Angeles:20251002T193000
DTSTAMP:20260424T060224
CREATED:20250822T144638Z
LAST-MODIFIED:20250822T144638Z
UID:20136-1759429800-1759433400@artsalliancedavis.org
SUMMARY:No Brain Drain Trivia
DESCRIPTION:Hosted by Preacher. \nTrivia+Comedy+Game Show = A Real Good Time
URL:https://artsalliancedavis.org/event/no-brain-drain-trivia-298/
LOCATION:1260 Lake Blvd\, Ste 121\, Davis\, CA 95616\, 1260 Lake Blvd\, Ste 121\, davis\, CA\, 95616\, United States
CATEGORIES:Food & Drink,Games
ATTACH;FMTTYPE=image/jpeg:https://artsalliancedavis.org/wp-content/uploads/2018/10/orange-white-aad-logo.jpg
ORGANIZER;CN="Super Owl Brewing":MAILTO:vida@superowlbrewing.com
END:VEVENT
BEGIN:VEVENT
DTSTART;TZID=America/Los_Angeles:20251002T183000
DTEND;TZID=America/Los_Angeles:20251002T193000
DTSTAMP:20260424T060224
CREATED:20250822T144639Z
LAST-MODIFIED:20250822T144639Z
UID:20137-1759429800-1759433400@artsalliancedavis.org
SUMMARY:No Brain Drain Trivia
DESCRIPTION:Hosted by Preacher. \nTrivia+Comedy+Game Show = A Real Good Time
URL:https://artsalliancedavis.org/event/no-brain-drain-trivia-299/
LOCATION:1260 Lake Blvd\, Ste 121\, Davis\, CA 95616\, 1260 Lake Blvd\, Ste 121\, davis\, CA\, 95616\, United States
CATEGORIES:Food & Drink,Games
ATTACH;FMTTYPE=image/jpeg:https://artsalliancedavis.org/wp-content/uploads/2018/10/orange-white-aad-logo.jpg
ORGANIZER;CN="Super Owl Brewing":MAILTO:vida@superowlbrewing.com
END:VEVENT
BEGIN:VEVENT
DTSTART;TZID=America/Los_Angeles:20251002T183000
DTEND;TZID=America/Los_Angeles:20251002T193000
DTSTAMP:20260424T060224
CREATED:20250822T144639Z
LAST-MODIFIED:20250822T144639Z
UID:20138-1759429800-1759433400@artsalliancedavis.org
SUMMARY:No Brain Drain Trivia
DESCRIPTION:Hosted by Preacher. \nTrivia+Comedy+Game Show = A Real Good Time
URL:https://artsalliancedavis.org/event/no-brain-drain-trivia-300/
LOCATION:1260 Lake Blvd\, Ste 121\, Davis\, CA 95616\, 1260 Lake Blvd\, Ste 121\, davis\, CA\, 95616\, United States
CATEGORIES:Food & Drink,Games
ATTACH;FMTTYPE=image/jpeg:https://artsalliancedavis.org/wp-content/uploads/2018/10/orange-white-aad-logo.jpg
ORGANIZER;CN="Super Owl Brewing":MAILTO:vida@superowlbrewing.com
END:VEVENT
BEGIN:VEVENT
DTSTART;TZID=America/Los_Angeles:20251002T183000
DTEND;TZID=America/Los_Angeles:20251002T193000
DTSTAMP:20260424T060224
CREATED:20250822T144640Z
LAST-MODIFIED:20250822T144640Z
UID:20139-1759429800-1759433400@artsalliancedavis.org
SUMMARY:No Brain Drain Trivia
DESCRIPTION:Hosted by Preacher. \nTrivia+Comedy+Game Show = A Real Good Time
URL:https://artsalliancedavis.org/event/no-brain-drain-trivia-301/
LOCATION:1260 Lake Blvd\, Ste 121\, Davis\, CA 95616\, 1260 Lake Blvd\, Ste 121\, davis\, CA\, 95616\, United States
CATEGORIES:Food & Drink,Games
ATTACH;FMTTYPE=image/jpeg:https://artsalliancedavis.org/wp-content/uploads/2018/10/orange-white-aad-logo.jpg
ORGANIZER;CN="Super Owl Brewing":MAILTO:vida@superowlbrewing.com
END:VEVENT
BEGIN:VEVENT
DTSTART;TZID=America/Los_Angeles:20251002T183000
DTEND;TZID=America/Los_Angeles:20251002T193000
DTSTAMP:20260424T060224
CREATED:20250822T144640Z
LAST-MODIFIED:20250822T144640Z
UID:20140-1759429800-1759433400@artsalliancedavis.org
SUMMARY:No Brain Drain Trivia
DESCRIPTION:Hosted by Preacher. \nTrivia+Comedy+Game Show = A Real Good Time
URL:https://artsalliancedavis.org/event/no-brain-drain-trivia-302/
LOCATION:1260 Lake Blvd\, Ste 121\, Davis\, CA 95616\, 1260 Lake Blvd\, Ste 121\, davis\, CA\, 95616\, United States
CATEGORIES:Food & Drink,Games
ATTACH;FMTTYPE=image/jpeg:https://artsalliancedavis.org/wp-content/uploads/2018/10/orange-white-aad-logo.jpg
ORGANIZER;CN="Super Owl Brewing":MAILTO:vida@superowlbrewing.com
END:VEVENT
BEGIN:VEVENT
DTSTART;TZID=America/Los_Angeles:20251002T183000
DTEND;TZID=America/Los_Angeles:20251002T193000
DTSTAMP:20260424T060224
CREATED:20250822T144641Z
LAST-MODIFIED:20250822T144641Z
UID:20141-1759429800-1759433400@artsalliancedavis.org
SUMMARY:No Brain Drain Trivia
DESCRIPTION:Hosted by Preacher. \nTrivia+Comedy+Game Show = A Real Good Time
URL:https://artsalliancedavis.org/event/no-brain-drain-trivia-303/
LOCATION:1260 Lake Blvd\, Ste 121\, Davis\, CA 95616\, 1260 Lake Blvd\, Ste 121\, davis\, CA\, 95616\, United States
CATEGORIES:Food & Drink,Games
ATTACH;FMTTYPE=image/jpeg:https://artsalliancedavis.org/wp-content/uploads/2018/10/orange-white-aad-logo.jpg
ORGANIZER;CN="Super Owl Brewing":MAILTO:vida@superowlbrewing.com
END:VEVENT
BEGIN:VEVENT
DTSTART;TZID=America/Los_Angeles:20251002T183000
DTEND;TZID=America/Los_Angeles:20251002T193000
DTSTAMP:20260424T060224
CREATED:20250822T144655Z
LAST-MODIFIED:20250822T144655Z
UID:20142-1759429800-1759433400@artsalliancedavis.org
SUMMARY:No Brain Drain Trivia
DESCRIPTION:Hosted by Preacher. \nTrivia+Comedy+Game Show = A Real Good Time
URL:https://artsalliancedavis.org/event/no-brain-drain-trivia-304/
LOCATION:1260 Lake Blvd\, Ste 121\, Davis\, CA 95616\, 1260 Lake Blvd\, Ste 121\, davis\, CA\, 95616\, United States
CATEGORIES:Food & Drink,Games
ATTACH;FMTTYPE=image/jpeg:https://artsalliancedavis.org/wp-content/uploads/2018/10/orange-white-aad-logo.jpg
ORGANIZER;CN="Super Owl Brewing":MAILTO:vida@superowlbrewing.com
END:VEVENT
END:VCALENDAR