BEGIN:VCALENDAR
VERSION:2.0
PRODID:-//Arts Alliance Davis - ECPv6.15.20//NONSGML v1.0//EN
CALSCALE:GREGORIAN
METHOD:PUBLISH
X-WR-CALNAME:Arts Alliance Davis
X-ORIGINAL-URL:https://artsalliancedavis.org
X-WR-CALDESC:Events for Arts Alliance Davis
REFRESH-INTERVAL;VALUE=DURATION:PT1H
X-Robots-Tag:noindex
X-PUBLISHED-TTL:PT1H
BEGIN:VTIMEZONE
TZID:America/Los_Angeles
BEGIN:DAYLIGHT
TZOFFSETFROM:-0800
TZOFFSETTO:-0700
TZNAME:PDT
DTSTART:20240310T100000
END:DAYLIGHT
BEGIN:STANDARD
TZOFFSETFROM:-0700
TZOFFSETTO:-0800
TZNAME:PST
DTSTART:20241103T090000
END:STANDARD
BEGIN:DAYLIGHT
TZOFFSETFROM:-0800
TZOFFSETTO:-0700
TZNAME:PDT
DTSTART:20250309T100000
END:DAYLIGHT
BEGIN:STANDARD
TZOFFSETFROM:-0700
TZOFFSETTO:-0800
TZNAME:PST
DTSTART:20251102T090000
END:STANDARD
BEGIN:DAYLIGHT
TZOFFSETFROM:-0800
TZOFFSETTO:-0700
TZNAME:PDT
DTSTART:20260308T100000
END:DAYLIGHT
BEGIN:STANDARD
TZOFFSETFROM:-0700
TZOFFSETTO:-0800
TZNAME:PST
DTSTART:20261101T090000
END:STANDARD
END:VTIMEZONE
BEGIN:VEVENT
DTSTART;TZID=America/Los_Angeles:20250411T180000
DTEND;TZID=America/Los_Angeles:20250411T203000
DTSTAMP:20260424T121351
CREATED:20250327T212346Z
LAST-MODIFIED:20250327T212346Z
UID:18551-1744394400-1744403400@artsalliancedavis.org
SUMMARY:2nd Friday Art About Artist Reception at The Paint Chip
DESCRIPTION:THE PAINT CHIP. Come meet & be inspired by the AP Art students from Pioneer High School\, Woodland.  Exhibition dates 04/01/25-04/30/25 at The Paint Chip. 6p – 8:30p. Free.
URL:https://artsalliancedavis.org/event/2nd-friday-art-about-artist-reception-at-the-paint-chip/
LOCATION:The Paint Chip\, 217 F Street\, Davis\, CA\, 95616\, United States
CATEGORIES:Art,Bring the Kids,Community,Shopping
ATTACH;FMTTYPE=image/jpeg:https://artsalliancedavis.org/wp-content/uploads/2018/10/orange-white-aad-logo.jpg
ORGANIZER;CN="Pence Gallery":MAILTO:pencesocialmedia@gmail.com
END:VEVENT
BEGIN:VEVENT
DTSTART;TZID=America/Los_Angeles:20250411T180000
DTEND;TZID=America/Los_Angeles:20250411T203000
DTSTAMP:20260424T121351
CREATED:20250327T212346Z
LAST-MODIFIED:20250327T212346Z
UID:18552-1744394400-1744403400@artsalliancedavis.org
SUMMARY:2nd Friday ArtAbout Artist Reception at The Paint Chip
DESCRIPTION:THE PAINT CHIP. Come meet & be inspired by the AP Art students from Pioneer High School\, Woodland.  Exhibition dates 04/01/25-04/30/25 at The Paint Chip. 6p – 8:30p. Free.
URL:https://artsalliancedavis.org/event/2nd-friday-artabout-artist-reception-at-the-paint-chip/
LOCATION:The Paint Chip\, 217 F Street\, Davis\, CA\, 95616\, United States
CATEGORIES:Art,Bring the Kids,Community,Shopping
ATTACH;FMTTYPE=image/jpeg:https://artsalliancedavis.org/wp-content/uploads/2018/10/orange-white-aad-logo.jpg
ORGANIZER;CN="Pence Gallery":MAILTO:pencesocialmedia@gmail.com
END:VEVENT
END:VCALENDAR