BEGIN:VCALENDAR
VERSION:2.0
PRODID:-//Arts Alliance Davis - ECPv6.15.20//NONSGML v1.0//EN
CALSCALE:GREGORIAN
METHOD:PUBLISH
X-WR-CALNAME:Arts Alliance Davis
X-ORIGINAL-URL:https://artsalliancedavis.org
X-WR-CALDESC:Events for Arts Alliance Davis
REFRESH-INTERVAL;VALUE=DURATION:PT1H
X-Robots-Tag:noindex
X-PUBLISHED-TTL:PT1H
BEGIN:VTIMEZONE
TZID:America/Los_Angeles
BEGIN:DAYLIGHT
TZOFFSETFROM:-0800
TZOFFSETTO:-0700
TZNAME:PDT
DTSTART:20240310T100000
END:DAYLIGHT
BEGIN:STANDARD
TZOFFSETFROM:-0700
TZOFFSETTO:-0800
TZNAME:PST
DTSTART:20241103T090000
END:STANDARD
BEGIN:DAYLIGHT
TZOFFSETFROM:-0800
TZOFFSETTO:-0700
TZNAME:PDT
DTSTART:20250309T100000
END:DAYLIGHT
BEGIN:STANDARD
TZOFFSETFROM:-0700
TZOFFSETTO:-0800
TZNAME:PST
DTSTART:20251102T090000
END:STANDARD
BEGIN:DAYLIGHT
TZOFFSETFROM:-0800
TZOFFSETTO:-0700
TZNAME:PDT
DTSTART:20260308T100000
END:DAYLIGHT
BEGIN:STANDARD
TZOFFSETFROM:-0700
TZOFFSETTO:-0800
TZNAME:PST
DTSTART:20261101T090000
END:STANDARD
END:VTIMEZONE
BEGIN:VEVENT
DTSTART;TZID=America/Los_Angeles:20250505T100000
DTEND;TZID=America/Los_Angeles:20250505T111500
DTSTAMP:20260424T112004
CREATED:20250209T201154Z
LAST-MODIFIED:20250209T201154Z
UID:17664-1746439200-1746443700@artsalliancedavis.org
SUMMARY:Death Cafe
DESCRIPTION:First Monday of each month \n10-11:15 a.m. \nFireside Room\, 412 C Street \nJoin the conversation!  We gather monthly to increase awareness of death with a view toward helping people make the most of life. The gathering is a simple time of conversation – no agenda\, just a relaxed place to speak about death. \nFree of charge. No registration required. \n(This is NOT a grief support group.) \nWe DO provide tea and cake! Bring your own mug and go green…or use one of ours! \n 
URL:https://artsalliancedavis.org/event/death-cafe-5/
LOCATION:Davis Community Church (DCC)\, 412 C Street\, Davis\, CA\, 95616\, United States
CATEGORIES:Books & Talks,Community
ATTACH;FMTTYPE=image/png:https://artsalliancedavis.org/wp-content/uploads/2024/12/Tea-Cake-Death-Join-the-Conversation-2-FOeVVM.tmp_.png
ORGANIZER;CN="Integrated Spirituality":MAILTO:elizabethafulmer@gmail.com
END:VEVENT
BEGIN:VEVENT
DTSTART;TZID=America/Los_Angeles:20250517T080000
DTEND;TZID=America/Los_Angeles:20250517T120000
DTSTAMP:20260424T112004
CREATED:20250311T153004Z
LAST-MODIFIED:20250311T153004Z
UID:18051-1747468800-1747483200@artsalliancedavis.org
SUMMARY:YOLO Run
DESCRIPTION:UC DAVIS HEALTH STADIUM. You Only Live Once\, so join us for the YOLO Run for a morning of sunshine that benefits children and families. UC Davis Children’s Hospital & the NEC Society are teaming up on May 17th because it’s Necrotizing Enterocolitis (NEC) Awareness Day. Choose your distance and get ready to start and finish your race in the Stadium at the first-ever YOLO Run\, presented by the NEC Society and UC Davis Children’s Hospital. 8a – 12p.
URL:https://artsalliancedavis.org/event/yolo-run/
LOCATION:UC Davis Health Stadium
CATEGORIES:Bring the Kids,Community,Fitness,Outside
ATTACH;FMTTYPE=image/jpeg:https://artsalliancedavis.org/wp-content/uploads/2025/03/YOLO-save-the-date-LSZXlI.tmp_.jpg
ORGANIZER;CN="A Change of Pace Foundation":MAILTO:acopfoundation@gmail.com
END:VEVENT
END:VCALENDAR