BEGIN:VCALENDAR
VERSION:2.0
PRODID:-//Arts Alliance Davis - ECPv6.15.20//NONSGML v1.0//EN
CALSCALE:GREGORIAN
METHOD:PUBLISH
X-ORIGINAL-URL:https://artsalliancedavis.org
X-WR-CALDESC:Events for Arts Alliance Davis
REFRESH-INTERVAL;VALUE=DURATION:PT1H
X-Robots-Tag:noindex
X-PUBLISHED-TTL:PT1H
BEGIN:VTIMEZONE
TZID:America/Los_Angeles
BEGIN:DAYLIGHT
TZOFFSETFROM:-0800
TZOFFSETTO:-0700
TZNAME:PDT
DTSTART:20240310T100000
END:DAYLIGHT
BEGIN:STANDARD
TZOFFSETFROM:-0700
TZOFFSETTO:-0800
TZNAME:PST
DTSTART:20241103T090000
END:STANDARD
BEGIN:DAYLIGHT
TZOFFSETFROM:-0800
TZOFFSETTO:-0700
TZNAME:PDT
DTSTART:20250309T100000
END:DAYLIGHT
BEGIN:STANDARD
TZOFFSETFROM:-0700
TZOFFSETTO:-0800
TZNAME:PST
DTSTART:20251102T090000
END:STANDARD
BEGIN:DAYLIGHT
TZOFFSETFROM:-0800
TZOFFSETTO:-0700
TZNAME:PDT
DTSTART:20260308T100000
END:DAYLIGHT
BEGIN:STANDARD
TZOFFSETFROM:-0700
TZOFFSETTO:-0800
TZNAME:PST
DTSTART:20261101T090000
END:STANDARD
END:VTIMEZONE
BEGIN:VEVENT
DTSTART;TZID=America/Los_Angeles:20251108T100000
DTEND;TZID=America/Los_Angeles:20251109T160000
DTSTAMP:20260423T231113
CREATED:20250825T152451Z
LAST-MODIFIED:20250825T152451Z
UID:20610-1762596000-1762704000@artsalliancedavis.org
SUMMARY:Abstract Mixed Media & Drawing Workshop with Sara Post
DESCRIPTION:Abstract Mixed Media & Drawing Workshop with Sara Post \nSaturday & Sunday\, November 8-9\, 10 AM – 4 PM \n$360 Members | $380 Non-Members (Materials not included) \n  \nUnder the guidance of artist Sara Post\, students will work with base layers\, drawings\, gel prints and other paper sources—either as themselves or as part of a collage. While building layers\, participants will add other media including paint\, crayons\, colored pencil and/or Art Graf. To promote experimentation\, students may work with a variety of materials—oil paint mixed with cold wax medium or with acrylic paints. During the workshop\, emphasis will be placed on intuitive processes and techniques that can yield surprising and exciting results. This workshop is open to artists of all levels who want to create abstract paintings using a mixed media approach. \n  \nRegister here: https://pencegallery.org/education/programs/workshops-and-classes/ \n  \nAny questions? Email pencegallery@gmail.com.
URL:https://artsalliancedavis.org/event/abstract-mixed-media-drawing-workshop-with-sara-post/
LOCATION:Pence Gallery\, 212 D St\, Davis\, CA\, United States
CATEGORIES:Art
ATTACH;FMTTYPE=image/jpeg:https://artsalliancedavis.org/wp-content/uploads/2025/08/Sara-Post-Cold-Canyon-2-scaled-G0yPZ0.jpg
ORGANIZER;CN="Pence Gallery":MAILTO:pencesocialmedia@gmail.com
END:VEVENT
END:VCALENDAR