BEGIN:VCALENDAR
VERSION:2.0
PRODID:-//Arts Alliance Davis - ECPv6.15.20//NONSGML v1.0//EN
CALSCALE:GREGORIAN
METHOD:PUBLISH
X-ORIGINAL-URL:https://artsalliancedavis.org
X-WR-CALDESC:Events for Arts Alliance Davis
REFRESH-INTERVAL;VALUE=DURATION:PT1H
X-Robots-Tag:noindex
X-PUBLISHED-TTL:PT1H
BEGIN:VTIMEZONE
TZID:America/Los_Angeles
BEGIN:DAYLIGHT
TZOFFSETFROM:-0800
TZOFFSETTO:-0700
TZNAME:PDT
DTSTART:20240310T100000
END:DAYLIGHT
BEGIN:STANDARD
TZOFFSETFROM:-0700
TZOFFSETTO:-0800
TZNAME:PST
DTSTART:20241103T090000
END:STANDARD
BEGIN:DAYLIGHT
TZOFFSETFROM:-0800
TZOFFSETTO:-0700
TZNAME:PDT
DTSTART:20250309T100000
END:DAYLIGHT
BEGIN:STANDARD
TZOFFSETFROM:-0700
TZOFFSETTO:-0800
TZNAME:PST
DTSTART:20251102T090000
END:STANDARD
BEGIN:DAYLIGHT
TZOFFSETFROM:-0800
TZOFFSETTO:-0700
TZNAME:PDT
DTSTART:20260308T100000
END:DAYLIGHT
BEGIN:STANDARD
TZOFFSETFROM:-0700
TZOFFSETTO:-0800
TZNAME:PST
DTSTART:20261101T090000
END:STANDARD
END:VTIMEZONE
BEGIN:VEVENT
DTSTART;TZID=America/Los_Angeles:20250103T190000
DTEND;TZID=America/Los_Angeles:20250103T210000
DTSTAMP:20260424T185736
CREATED:20241222T173841Z
LAST-MODIFIED:20241222T173841Z
UID:16661-1735930800-1735938000@artsalliancedavis.org
SUMMARY:Acme Theatre Company Presents: The Curious Incident of the Dog in the Night-Time
DESCRIPTION:Come join Acme Theatre Company for their production of The Curious Incident of the Dog in the Night-Time \nThis play is based on the novel by Mark Haddon\, and was adapted by Simon Stephens \nShow Description:  \nChristopher is an exceptionally intelligent\, neurodivergent 15-year-old boy. When the story begins\, it is seven minutes after midnight and Christopher is under suspicion of killing his neighbor’s dog\, Wellington\, with a garden fork. Determined to find the true culprit\, Christopher carefully records each fact of the crime. Ultimately\, his detective work takes him on a deeply personal quest that upturns his world.  \nDates and Times \nFri\, Jan 3 @ 7pm \nSat\, Jan 4 @ 7pm \nSun\, Jan 5 @ 2pm* \nFri\, Jan 10 @ 7pm \nSat\, Jan 11 @ 7pm \nSun\, Jan 12 @ 2pm* \nImportant Show Information: \n\n\nAll show performances are pay-what-you-can-pay with a suggested donation amount of $15 for students/seniors\, and $20 for general admission. \n\n\nThis play is not recommended for anyone below the age of 12. This play depicts domestic violence\, general violence\, and autistic distress. This play also mentions death\, animal abuse\, and contains profanity. We encourage audience members to consider their mental well-being before attending this show. \n\n\nThe second weekend of shows (January 10th-12th) will be sensory friendly performances. Sensory friendly performances entail accessible lighting\, seating\, and sound\, and a longer intermission.  \n\n\nSunday matinee performances will be followed by a post-show panel with autistic youth in the Yolo arts community. \n\n\nMasks are REQUIRED for Sunday matinee performances.
URL:https://artsalliancedavis.org/event/acme-theatre-company-presents-the-curious-incident-of-the-dog-in-the-night-time/
LOCATION:Davis Veterans Memorial Theatre\, 203 E. 14th Street\, Davis\, CA\, 95616\, United States
CATEGORIES:Art,Community,Featured,Stage & Dance
ATTACH;FMTTYPE=image/jpeg:https://artsalliancedavis.org/wp-content/uploads/2024/12/Curious-Incident-Poster-for-DD-SSCFEe.tmp_.jpg
ORGANIZER;CN="Acme Theatre Company":MAILTO:jwilliamson3560@gmail.com
END:VEVENT
BEGIN:VEVENT
DTSTART;TZID=America/Los_Angeles:20250104T190000
DTEND;TZID=America/Los_Angeles:20250104T210000
DTSTAMP:20260424T185736
CREATED:20241222T173915Z
LAST-MODIFIED:20241222T173915Z
UID:16664-1736017200-1736024400@artsalliancedavis.org
SUMMARY:Acme Theatre Company Presents: The Curious Incident of the Dog in the Night-Time
DESCRIPTION:Come join Acme Theatre Company for their production of The Curious Incident of the Dog in the Night-Time \nThis play is based on the novel by Mark Haddon\, and was adapted by Simon Stephens \nShow Description:  \nChristopher is an exceptionally intelligent\, neurodivergent 15-year-old boy. When the story begins\, it is seven minutes after midnight and Christopher is under suspicion of killing his neighbor’s dog\, Wellington\, with a garden fork. Determined to find the true culprit\, Christopher carefully records each fact of the crime. Ultimately\, his detective work takes him on a deeply personal quest that upturns his world.  \nDates and Times \nFri\, Jan 3 @ 7pm \nSat\, Jan 4 @ 7pm \nSun\, Jan 5 @ 2pm* \nFri\, Jan 10 @ 7pm \nSat\, Jan 11 @ 7pm \nSun\, Jan 12 @ 2pm* \nImportant Show Information: \n\n\nAll show performances are pay-what-you-can-pay with a suggested donation amount of $15 for students/seniors\, and $20 for general admission. \n\n\nThis play is not recommended for anyone below the age of 12. This play depicts domestic violence\, general violence\, and autistic distress. This play also mentions death\, animal abuse\, and contains profanity. We encourage audience members to consider their mental well-being before attending this show. \n\n\nThe second weekend of shows (January 10th-12th) will be sensory friendly performances. Sensory friendly performances entail accessible lighting\, seating\, and sound\, and a longer intermission.  \n\n\nSunday matinee performances will be followed by a post-show panel with autistic youth in the Yolo arts community. \n\n\nMasks are REQUIRED for Sunday matinee performances.
URL:https://artsalliancedavis.org/event/acme-theatre-company-presents-the-curious-incident-of-the-dog-in-the-night-time-2/
LOCATION:Davis Veterans Memorial Theatre\, 203 E. 14th Street\, Davis\, CA\, 95616\, United States
CATEGORIES:Art,Community,Featured,Stage & Dance
ATTACH;FMTTYPE=image/jpeg:https://artsalliancedavis.org/wp-content/uploads/2024/12/Curious-Incident-Poster-for-DD-SSCFEe.tmp_.jpg
ORGANIZER;CN="Acme Theatre Company":MAILTO:jwilliamson3560@gmail.com
END:VEVENT
BEGIN:VEVENT
DTSTART;TZID=America/Los_Angeles:20250105T140000
DTEND;TZID=America/Los_Angeles:20250105T160000
DTSTAMP:20260424T185736
CREATED:20241223T181442Z
LAST-MODIFIED:20241223T181442Z
UID:16764-1736085600-1736092800@artsalliancedavis.org
SUMMARY:Acme Theatre Company Presents: The Curious Incident of the Dog in the Night-Time
DESCRIPTION:Come join Acme Theatre Company for their production of The Curious Incident of the Dog in the Night-Time \nThis play is based on the novel by Mark Haddon\, and was adapted by Simon Stephens \nShow Description:  \nChristopher is an exceptionally intelligent\, neurodivergent 15-year-old boy. When the story begins\, it is seven minutes after midnight and Christopher is under suspicion of killing his neighbor’s dog\, Wellington\, with a garden fork. Determined to find the true culprit\, Christopher carefully records each fact of the crime. Ultimately\, his detective work takes him on a deeply personal quest that upturns his world.  \nDates and Times \nFri\, Jan 3 @ 7pm \nSat\, Jan 4 @ 7pm \nSun\, Jan 5 @ 2pm* \nFri\, Jan 10 @ 7pm \nSat\, Jan 11 @ 7pm \nSun\, Jan 12 @ 2pm* \nImportant Show Information: \n\n\nAll show performances are pay-what-you-can-pay with a suggested donation amount of $15 for students/seniors\, and $20 for general admission. \n\n\nThis play is not recommended for anyone below the age of 12. This play depicts domestic violence\, general violence\, and autistic distress. This play also mentions death\, animal abuse\, and contains profanity. We encourage audience members to consider their mental well-being before attending this show. \n\n\nThe second weekend of shows (January 10th-12th) will be sensory friendly performances. Sensory friendly performances entail accessible lighting\, seating\, and sound\, and a longer intermission.  \n\n\nSunday matinee performances will be followed by a post-show panel with autistic youth in the Yolo arts community. \n\n\nMasks are REQUIRED for Sunday matinee performances.
URL:https://artsalliancedavis.org/event/acme-theatre-company-presents-the-curious-incident-of-the-dog-in-the-night-time-5/
LOCATION:Davis Veterans Memorial Theatre\, 203 E. 14th Street\, Davis\, CA\, 95616\, United States
CATEGORIES:Art,Community,Featured,Stage & Dance
ATTACH;FMTTYPE=image/jpeg:https://artsalliancedavis.org/wp-content/uploads/2024/12/Curious-Incident-Poster-for-DD-SSCFEe.tmp_.jpg
ORGANIZER;CN="Acme Theatre Company":MAILTO:jwilliamson3560@gmail.com
END:VEVENT
BEGIN:VEVENT
DTSTART;TZID=America/Los_Angeles:20250110T190000
DTEND;TZID=America/Los_Angeles:20250110T210000
DTSTAMP:20260424T185736
CREATED:20241222T174100Z
LAST-MODIFIED:20241222T174100Z
UID:16679-1736535600-1736542800@artsalliancedavis.org
SUMMARY:Acme Theatre Company Presents: The Curious Incident of the Dog in the Night-Time
DESCRIPTION:Come join Acme Theatre Company for their production of The Curious Incident of the Dog in the Night-Time \nThis play is based on the novel by Mark Haddon\, and was adapted by Simon Stephens \nShow Description:  \nChristopher is an exceptionally intelligent\, neurodivergent 15-year-old boy. When the story begins\, it is seven minutes after midnight and Christopher is under suspicion of killing his neighbor’s dog\, Wellington\, with a garden fork. Determined to find the true culprit\, Christopher carefully records each fact of the crime. Ultimately\, his detective work takes him on a deeply personal quest that upturns his world.  \nDates and Times \nFri\, Jan 3 @ 7pm \nSat\, Jan 4 @ 7pm \nSun\, Jan 5 @ 2pm* \nFri\, Jan 10 @ 7pm \nSat\, Jan 11 @ 7pm \nSun\, Jan 12 @ 2pm* \nImportant Show Information: \n\n\nAll show performances are pay-what-you-can-pay with a suggested donation amount of $15 for students/seniors\, and $20 for general admission. \n\n\nThis play is not recommended for anyone below the age of 12. This play depicts domestic violence\, general violence\, and autistic distress. This play also mentions death\, animal abuse\, and contains profanity. We encourage audience members to consider their mental well-being before attending this show. \n\n\nThe second weekend of shows (January 10th-12th) will be sensory friendly performances. Sensory friendly performances entail accessible lighting\, seating\, and sound\, and a longer intermission.  \n\n\nSunday matinee performances will be followed by a post-show panel with autistic youth in the Yolo arts community. \n\n\nMasks are REQUIRED for Sunday matinee performances.
URL:https://artsalliancedavis.org/event/acme-theatre-company-presents-the-curious-incident-of-the-dog-in-the-night-time-3/
LOCATION:Davis Veterans Memorial Theatre\, 203 E. 14th Street\, Davis\, CA\, 95616\, United States
CATEGORIES:Art,Community,Featured,Stage & Dance
ATTACH;FMTTYPE=image/jpeg:https://artsalliancedavis.org/wp-content/uploads/2024/12/Curious-Incident-Poster-for-DD-SSCFEe.tmp_.jpg
ORGANIZER;CN="Acme Theatre Company":MAILTO:jwilliamson3560@gmail.com
END:VEVENT
BEGIN:VEVENT
DTSTART;TZID=America/Los_Angeles:20250111T190000
DTEND;TZID=America/Los_Angeles:20250111T210000
DTSTAMP:20260424T185736
CREATED:20241222T174115Z
LAST-MODIFIED:20241222T174115Z
UID:16680-1736622000-1736629200@artsalliancedavis.org
SUMMARY:Acme Theatre Company Presents: The Curious Incident of the Dog in the Night-Time
DESCRIPTION:Come join Acme Theatre Company for their production of The Curious Incident of the Dog in the Night-Time \nThis play is based on the novel by Mark Haddon\, and was adapted by Simon Stephens \nShow Description:  \nChristopher is an exceptionally intelligent\, neurodivergent 15-year-old boy. When the story begins\, it is seven minutes after midnight and Christopher is under suspicion of killing his neighbor’s dog\, Wellington\, with a garden fork. Determined to find the true culprit\, Christopher carefully records each fact of the crime. Ultimately\, his detective work takes him on a deeply personal quest that upturns his world.  \nDates and Times \nFri\, Jan 3 @ 7pm \nSat\, Jan 4 @ 7pm \nSun\, Jan 5 @ 2pm* \nFri\, Jan 10 @ 7pm \nSat\, Jan 11 @ 7pm \nSun\, Jan 12 @ 2pm* \nImportant Show Information: \n\n\nAll show performances are pay-what-you-can-pay with a suggested donation amount of $15 for students/seniors\, and $20 for general admission. \n\n\nThis play is not recommended for anyone below the age of 12. This play depicts domestic violence\, general violence\, and autistic distress. This play also mentions death\, animal abuse\, and contains profanity. We encourage audience members to consider their mental well-being before attending this show. \n\n\nThe second weekend of shows (January 10th-12th) will be sensory friendly performances. Sensory friendly performances entail accessible lighting\, seating\, and sound\, and a longer intermission.  \n\n\nSunday matinee performances will be followed by a post-show panel with autistic youth in the Yolo arts community. \n\n\nMasks are REQUIRED for Sunday matinee performances.
URL:https://artsalliancedavis.org/event/acme-theatre-company-presents-the-curious-incident-of-the-dog-in-the-night-time-4/
LOCATION:Davis Veterans Memorial Theatre\, 203 E. 14th Street\, Davis\, CA\, 95616\, United States
CATEGORIES:Art,Community,Featured,Stage & Dance
ATTACH;FMTTYPE=image/jpeg:https://artsalliancedavis.org/wp-content/uploads/2024/12/Curious-Incident-Poster-for-DD-SSCFEe.tmp_.jpg
ORGANIZER;CN="Acme Theatre Company":MAILTO:jwilliamson3560@gmail.com
END:VEVENT
BEGIN:VEVENT
DTSTART;TZID=America/Los_Angeles:20250112T140000
DTEND;TZID=America/Los_Angeles:20250112T160000
DTSTAMP:20260424T185736
CREATED:20241223T181558Z
LAST-MODIFIED:20241223T181558Z
UID:16765-1736690400-1736697600@artsalliancedavis.org
SUMMARY:Acme Theatre Company Presents: The Curious Incident of the Dog in the Night-Time
DESCRIPTION:Come join Acme Theatre Company for their production of The Curious Incident of the Dog in the Night-Time \nThis play is based on the novel by Mark Haddon\, and was adapted by Simon Stephens \nShow Description:  \nChristopher is an exceptionally intelligent\, neurodivergent 15-year-old boy. When the story begins\, it is seven minutes after midnight and Christopher is under suspicion of killing his neighbor’s dog\, Wellington\, with a garden fork. Determined to find the true culprit\, Christopher carefully records each fact of the crime. Ultimately\, his detective work takes him on a deeply personal quest that upturns his world.  \nDates and Times \nFri\, Jan 3 @ 7pm \nSat\, Jan 4 @ 7pm \nSun\, Jan 5 @ 2pm* \nFri\, Jan 10 @ 7pm \nSat\, Jan 11 @ 7pm \nSun\, Jan 12 @ 2pm* \nImportant Show Information: \n\n\nAll show performances are pay-what-you-can-pay with a suggested donation amount of $15 for students/seniors\, and $20 for general admission. \n\n\nThis play is not recommended for anyone below the age of 12. This play depicts domestic violence\, general violence\, and autistic distress. This play also mentions death\, animal abuse\, and contains profanity. We encourage audience members to consider their mental well-being before attending this show. \n\n\nThe second weekend of shows (January 10th-12th) will be sensory friendly performances. Sensory friendly performances entail accessible lighting\, seating\, and sound\, and a longer intermission.  \n\n\nSunday matinee performances will be followed by a post-show panel with autistic youth in the Yolo arts community. \n\n\nMasks are REQUIRED for Sunday matinee performances.
URL:https://artsalliancedavis.org/event/acme-theatre-company-presents-the-curious-incident-of-the-dog-in-the-night-time-6/
LOCATION:Davis Veterans Memorial Theatre\, 203 E. 14th Street\, Davis\, CA\, 95616\, United States
CATEGORIES:Art,Community,Featured,Stage & Dance
ATTACH;FMTTYPE=image/jpeg:https://artsalliancedavis.org/wp-content/uploads/2024/12/Curious-Incident-Poster-for-DD-SSCFEe.tmp_.jpg
ORGANIZER;CN="Acme Theatre Company":MAILTO:jwilliamson3560@gmail.com
END:VEVENT
END:VCALENDAR