BEGIN:VCALENDAR
VERSION:2.0
PRODID:-//Arts Alliance Davis - ECPv6.15.20//NONSGML v1.0//EN
CALSCALE:GREGORIAN
METHOD:PUBLISH
X-WR-CALNAME:Arts Alliance Davis
X-ORIGINAL-URL:https://artsalliancedavis.org
X-WR-CALDESC:Events for Arts Alliance Davis
REFRESH-INTERVAL;VALUE=DURATION:PT1H
X-Robots-Tag:noindex
X-PUBLISHED-TTL:PT1H
BEGIN:VTIMEZONE
TZID:America/Los_Angeles
BEGIN:DAYLIGHT
TZOFFSETFROM:-0800
TZOFFSETTO:-0700
TZNAME:PDT
DTSTART:20250309T100000
END:DAYLIGHT
BEGIN:STANDARD
TZOFFSETFROM:-0700
TZOFFSETTO:-0800
TZNAME:PST
DTSTART:20251102T090000
END:STANDARD
BEGIN:DAYLIGHT
TZOFFSETFROM:-0800
TZOFFSETTO:-0700
TZNAME:PDT
DTSTART:20260308T100000
END:DAYLIGHT
BEGIN:STANDARD
TZOFFSETFROM:-0700
TZOFFSETTO:-0800
TZNAME:PST
DTSTART:20261101T090000
END:STANDARD
BEGIN:DAYLIGHT
TZOFFSETFROM:-0800
TZOFFSETTO:-0700
TZNAME:PDT
DTSTART:20270314T100000
END:DAYLIGHT
BEGIN:STANDARD
TZOFFSETFROM:-0700
TZOFFSETTO:-0800
TZNAME:PST
DTSTART:20271107T090000
END:STANDARD
END:VTIMEZONE
BEGIN:VEVENT
DTSTART;TZID=America/Los_Angeles:20260522T190000
DTEND;TZID=America/Los_Angeles:20260522T210000
DTSTAMP:20260423T175039
CREATED:20260406T175943Z
LAST-MODIFIED:20260406T175943Z
UID:24628-1779476400-1779483600@artsalliancedavis.org
SUMMARY:Acme Theatre Company Presents The Importance of Being Earnest
DESCRIPTION:Everyone is in love with Earnest\, the irresistible bad boy of London society. The trouble is\, Earnest doesn’t exist! A wildly entertaining “trivial comedy for serious people\,” that sparkles with dazzling wordplay and hilariously unlikely situations\, Oscar Wilde’s most popular play has entertained theatre-goers for over a century! \nAcme Theatre Company will be putting on its production of The Importance of Being Earnest at the Davis Community Church lawn from May 22-25 (Friday\, Saturday\, Sunday\, and Monday) \n 
URL:https://artsalliancedavis.org/event/acme-theatre-company-presents-the-importance-of-being-earnest/
LOCATION:Davis Community Church (DCC)\, 412 C Street\, Davis\, CA\, 95616\, United States
ATTACH;FMTTYPE=image/jpeg:https://artsalliancedavis.org/wp-content/uploads/2026/04/Acme-Theatre-Companys-Importance-of-Being-Earnest-y8MW7r.jpg
ORGANIZER;CN="Acme Theatre Company":MAILTO:jwilliamson3560@gmail.com
END:VEVENT
BEGIN:VEVENT
DTSTART;TZID=America/Los_Angeles:20260523T190000
DTEND;TZID=America/Los_Angeles:20260523T210000
DTSTAMP:20260423T175039
CREATED:20260406T180004Z
LAST-MODIFIED:20260406T180004Z
UID:24630-1779562800-1779570000@artsalliancedavis.org
SUMMARY:Acme Theatre Company Presents The Importance of Being Earnest
DESCRIPTION:Everyone is in love with Earnest\, the irresistible bad boy of London society. The trouble is\, Earnest doesn’t exist! A wildly entertaining “trivial comedy for serious people\,” that sparkles with dazzling wordplay and hilariously unlikely situations\, Oscar Wilde’s most popular play has entertained theatre-goers for over a century! \nAcme Theatre Company will be putting on its production of The Importance of Being Earnest at the Davis Community Church lawn from May 22-25 (Friday\, Saturday\, Sunday\, and Monday) \n 
URL:https://artsalliancedavis.org/event/acme-theatre-company-presents-the-importance-of-being-earnest-2/
LOCATION:Davis Community Church (DCC)\, 412 C Street\, Davis\, CA\, 95616\, United States
ATTACH;FMTTYPE=image/jpeg:https://artsalliancedavis.org/wp-content/uploads/2026/04/Acme-Theatre-Companys-Importance-of-Being-Earnest-y8MW7r.jpg
ORGANIZER;CN="Acme Theatre Company":MAILTO:jwilliamson3560@gmail.com
END:VEVENT
BEGIN:VEVENT
DTSTART;TZID=America/Los_Angeles:20260524T190000
DTEND;TZID=America/Los_Angeles:20260524T210000
DTSTAMP:20260423T175039
CREATED:20260406T180021Z
LAST-MODIFIED:20260406T180021Z
UID:24631-1779649200-1779656400@artsalliancedavis.org
SUMMARY:Acme Theatre Company Presents The Importance of Being Earnest
DESCRIPTION:Everyone is in love with Earnest\, the irresistible bad boy of London society. The trouble is\, Earnest doesn’t exist! A wildly entertaining “trivial comedy for serious people\,” that sparkles with dazzling wordplay and hilariously unlikely situations\, Oscar Wilde’s most popular play has entertained theatre-goers for over a century! \nAcme Theatre Company will be putting on its production of The Importance of Being Earnest at the Davis Community Church lawn from May 22-25 (Friday\, Saturday\, Sunday\, and Monday) \n 
URL:https://artsalliancedavis.org/event/acme-theatre-company-presents-the-importance-of-being-earnest-3/
LOCATION:Davis Community Church (DCC)\, 412 C Street\, Davis\, CA\, 95616\, United States
ATTACH;FMTTYPE=image/jpeg:https://artsalliancedavis.org/wp-content/uploads/2026/04/Acme-Theatre-Companys-Importance-of-Being-Earnest-y8MW7r.jpg
ORGANIZER;CN="Acme Theatre Company":MAILTO:jwilliamson3560@gmail.com
END:VEVENT
END:VCALENDAR