BEGIN:VCALENDAR
VERSION:2.0
PRODID:-//Arts Alliance Davis - ECPv6.15.20//NONSGML v1.0//EN
CALSCALE:GREGORIAN
METHOD:PUBLISH
X-ORIGINAL-URL:https://artsalliancedavis.org
X-WR-CALDESC:Events for Arts Alliance Davis
REFRESH-INTERVAL;VALUE=DURATION:PT1H
X-Robots-Tag:noindex
X-PUBLISHED-TTL:PT1H
BEGIN:VTIMEZONE
TZID:America/Los_Angeles
BEGIN:DAYLIGHT
TZOFFSETFROM:-0800
TZOFFSETTO:-0700
TZNAME:PDT
DTSTART:20240310T100000
END:DAYLIGHT
BEGIN:STANDARD
TZOFFSETFROM:-0700
TZOFFSETTO:-0800
TZNAME:PST
DTSTART:20241103T090000
END:STANDARD
BEGIN:DAYLIGHT
TZOFFSETFROM:-0800
TZOFFSETTO:-0700
TZNAME:PDT
DTSTART:20250309T100000
END:DAYLIGHT
BEGIN:STANDARD
TZOFFSETFROM:-0700
TZOFFSETTO:-0800
TZNAME:PST
DTSTART:20251102T090000
END:STANDARD
BEGIN:DAYLIGHT
TZOFFSETFROM:-0800
TZOFFSETTO:-0700
TZNAME:PDT
DTSTART:20260308T100000
END:DAYLIGHT
BEGIN:STANDARD
TZOFFSETFROM:-0700
TZOFFSETTO:-0800
TZNAME:PST
DTSTART:20261101T090000
END:STANDARD
END:VTIMEZONE
BEGIN:VEVENT
DTSTART;TZID=America/Los_Angeles:20250103T180000
DTEND;TZID=America/Los_Angeles:20250103T210000
DTSTAMP:20260424T111957
CREATED:20241222T173839Z
LAST-MODIFIED:20241222T173839Z
UID:16659-1735927200-1735938000@artsalliancedavis.org
SUMMARY:Carte Blanche
DESCRIPTION:The parkside sports bar and grill \n\nG street Davis CA\nDavis\, CA 95616
URL:https://artsalliancedavis.org/event/carte-blanche/
LOCATION:Parkside Bar\, 330 G St.
CATEGORIES:Music
ATTACH;FMTTYPE=image/jpeg:https://artsalliancedavis.org/wp-content/uploads/2024/12/CB-blue-rose-band-pic-large-JSQ7Qj.tmp_.jpg
ORGANIZER;CN="Carte Blanche":MAILTO:p.summers9@gmail.com
END:VEVENT
BEGIN:VEVENT
DTSTART;TZID=America/Los_Angeles:20250130T120500
DTEND;TZID=America/Los_Angeles:20250130T130000
DTSTAMP:20260424T111957
CREATED:20241101T143528Z
LAST-MODIFIED:20241101T143528Z
UID:15945-1738238700-1738242000@artsalliancedavis.org
SUMMARY:Andy McKee\, solo guitar
DESCRIPTION:Andy McKee is among the world’s finest acoustic guitarists. His youthful energy and attention to song structure and melodic content elevates him above the rest. He entertains both the eye and the ear as he magically transforms the steel string guitar into a full orchestra via his use of altered tunings\, tapping\, partial capos\, percussive hits and a signature two-handed technique. \nFree \na Shinkoskey Noon Concert \n 
URL:https://artsalliancedavis.org/event/andy-mckee-solo-guitar/
LOCATION:Recital Hall\, Ann E. Pitzer Center\, Hutchison Dr. & Cushing Way\, Davis\, CA\, 95616\, United States
CATEGORIES:Music
ATTACH;FMTTYPE=image/jpeg:https://artsalliancedavis.org/wp-content/uploads/2024/11/andy3-1-zf3McO.tmp_.jpg
END:VEVENT
END:VCALENDAR