BEGIN:VCALENDAR
VERSION:2.0
PRODID:-//Arts Alliance Davis - ECPv6.15.20//NONSGML v1.0//EN
CALSCALE:GREGORIAN
METHOD:PUBLISH
X-ORIGINAL-URL:https://artsalliancedavis.org
X-WR-CALDESC:Events for Arts Alliance Davis
REFRESH-INTERVAL;VALUE=DURATION:PT1H
X-Robots-Tag:noindex
X-PUBLISHED-TTL:PT1H
BEGIN:VTIMEZONE
TZID:America/Los_Angeles
BEGIN:DAYLIGHT
TZOFFSETFROM:-0800
TZOFFSETTO:-0700
TZNAME:PDT
DTSTART:20240310T100000
END:DAYLIGHT
BEGIN:STANDARD
TZOFFSETFROM:-0700
TZOFFSETTO:-0800
TZNAME:PST
DTSTART:20241103T090000
END:STANDARD
BEGIN:DAYLIGHT
TZOFFSETFROM:-0800
TZOFFSETTO:-0700
TZNAME:PDT
DTSTART:20250309T100000
END:DAYLIGHT
BEGIN:STANDARD
TZOFFSETFROM:-0700
TZOFFSETTO:-0800
TZNAME:PST
DTSTART:20251102T090000
END:STANDARD
BEGIN:DAYLIGHT
TZOFFSETFROM:-0800
TZOFFSETTO:-0700
TZNAME:PDT
DTSTART:20260308T100000
END:DAYLIGHT
BEGIN:STANDARD
TZOFFSETFROM:-0700
TZOFFSETTO:-0800
TZNAME:PST
DTSTART:20261101T090000
END:STANDARD
END:VTIMEZONE
BEGIN:VEVENT
DTSTART;TZID=America/Los_Angeles:20250225T190000
DTEND;TZID=America/Los_Angeles:20250225T210000
DTSTAMP:20260424T095505
CREATED:20250217T233235Z
LAST-MODIFIED:20250217T233235Z
UID:17834-1740510000-1740517200@artsalliancedavis.org
SUMMARY:Village Homes Performers Circle: Chris Pilon
DESCRIPTION:Chris Pilon featured at February 25th Performers’ Circle \nDavis-based folksinger and songwriter Chris Pilon will play a solo show as the featured performer at the Village Homes Performers Circle\, Tuesday February 25\, 7 PM at the Odd Fellows Hall in Davis. \nChris is celebrating his recent release\, “A Family Album\,” engineered and co-produced by Steve O’Neill at internationally renowned Foxtail Sound in Dixon: https://chrispilon.hearnow.com/a-family-album. Set to wide-ranging musical styles\, Chris’ lyrics explore the joys and sorrows of family life with energy\, humor and poignancy. \nChris loves the support and enthusiasm that characterizes each and every Village Homes Performer’s Circle\, and is looking forward to showcasing a few tunes from the album along with some classic folk songs (in the key of H for Hootenanny!) because he believes that communal singing heals and inspires us. \nThe Village Homes Performers’ Circle is a free event that welcomes performers of all levels as well as audience members who simply come to enjoy the performances. No tickets or reservations are required. It is held the fourth Tuesday of each month\, except December. \nThe event begins with an open mike from 7:00 to 8:15 pm and concludes with the featured performance from 8:30 to 9 pm. Signups begin at 6:45 for the short performances (less than 5 minutes per act). The emcee this month will be George Haver. The event will be held at the Odd Fellows Hall\, 415 2nd Street\, Davis. Masks welcome.  For information visit https://www.facebook.com/villagehomesperformers/ \n 
URL:https://artsalliancedavis.org/event/village-homes-performers-circle-chris-pilon/
LOCATION:Odd Fellows Hall (Odd Fellows)\, 415 2nd St.\, Davis\, CA\, 95616\, United States
CATEGORIES:Music
ATTACH;FMTTYPE=image/jpeg:https://artsalliancedavis.org/wp-content/uploads/2025/02/chrispilon_high-res-ieJBLx.tmp_.jpg
END:VEVENT
END:VCALENDAR