BEGIN:VCALENDAR
VERSION:2.0
PRODID:-//Arts Alliance Davis - ECPv6.15.20//NONSGML v1.0//EN
CALSCALE:GREGORIAN
METHOD:PUBLISH
X-ORIGINAL-URL:https://artsalliancedavis.org
X-WR-CALDESC:Events for Arts Alliance Davis
REFRESH-INTERVAL;VALUE=DURATION:PT1H
X-Robots-Tag:noindex
X-PUBLISHED-TTL:PT1H
BEGIN:VTIMEZONE
TZID:America/Los_Angeles
BEGIN:DAYLIGHT
TZOFFSETFROM:-0800
TZOFFSETTO:-0700
TZNAME:PDT
DTSTART:20240310T100000
END:DAYLIGHT
BEGIN:STANDARD
TZOFFSETFROM:-0700
TZOFFSETTO:-0800
TZNAME:PST
DTSTART:20241103T090000
END:STANDARD
BEGIN:DAYLIGHT
TZOFFSETFROM:-0800
TZOFFSETTO:-0700
TZNAME:PDT
DTSTART:20250309T100000
END:DAYLIGHT
BEGIN:STANDARD
TZOFFSETFROM:-0700
TZOFFSETTO:-0800
TZNAME:PST
DTSTART:20251102T090000
END:STANDARD
BEGIN:DAYLIGHT
TZOFFSETFROM:-0800
TZOFFSETTO:-0700
TZNAME:PDT
DTSTART:20260308T100000
END:DAYLIGHT
BEGIN:STANDARD
TZOFFSETFROM:-0700
TZOFFSETTO:-0800
TZNAME:PST
DTSTART:20261101T090000
END:STANDARD
END:VTIMEZONE
BEGIN:VEVENT
DTSTART;TZID=America/Los_Angeles:20250119T170000
DTEND;TZID=America/Los_Angeles:20250119T190000
DTSTAMP:20260424T212523
CREATED:20241229T203223Z
LAST-MODIFIED:20241229T203223Z
UID:16928-1737306000-1737313200@artsalliancedavis.org
SUMMARY:Drum Circle Celebration of Dr. Martin Luther King Jr. with Mamadou Traore and Guests
DESCRIPTION:Join West African drumming master Mamadou Traore and friends for a performance and drum circle in honor of Dr. Martin Luther King Jr.’s legacy. We will honor the pursuit of justice with the beat of the djembe! A limited number of drums will be available\, so bring your own if you have one. We will also have a display of West African art curated by Traore\, and light refreshments to share. In the spirit of community\, you’re invited to bring snacks or drinks to share.  \nProceeds will benefit International House Davis\, the musicians\, and drum-making communities in Ivory Coast\, West Africa. \n 
URL:https://artsalliancedavis.org/event/drum-circle-celebration-of-dr-martin-luther-king-jr-with-mamadou-traore-and-guests/
LOCATION:International House (I-House)\, 10 College Pk.
CATEGORIES:Music
ATTACH;FMTTYPE=image/jpeg:https://artsalliancedavis.org/wp-content/uploads/2024/12/iHouse-Davis-1.14.24-Drum-Circle-and-MLK-Celebration-114-scaled-rK3awj.tmp_.jpg
ORGANIZER;CN="International House Davis":MAILTO:shahzana@ihousedavis.org
END:VEVENT
END:VCALENDAR