BEGIN:VCALENDAR
VERSION:2.0
PRODID:-//Arts Alliance Davis - ECPv6.15.20//NONSGML v1.0//EN
CALSCALE:GREGORIAN
METHOD:PUBLISH
X-WR-CALNAME:Arts Alliance Davis
X-ORIGINAL-URL:https://artsalliancedavis.org
X-WR-CALDESC:Events for Arts Alliance Davis
REFRESH-INTERVAL;VALUE=DURATION:PT1H
X-Robots-Tag:noindex
X-PUBLISHED-TTL:PT1H
BEGIN:VTIMEZONE
TZID:America/Los_Angeles
BEGIN:DAYLIGHT
TZOFFSETFROM:-0800
TZOFFSETTO:-0700
TZNAME:PDT
DTSTART:20240310T100000
END:DAYLIGHT
BEGIN:STANDARD
TZOFFSETFROM:-0700
TZOFFSETTO:-0800
TZNAME:PST
DTSTART:20241103T090000
END:STANDARD
BEGIN:DAYLIGHT
TZOFFSETFROM:-0800
TZOFFSETTO:-0700
TZNAME:PDT
DTSTART:20250309T100000
END:DAYLIGHT
BEGIN:STANDARD
TZOFFSETFROM:-0700
TZOFFSETTO:-0800
TZNAME:PST
DTSTART:20251102T090000
END:STANDARD
BEGIN:DAYLIGHT
TZOFFSETFROM:-0800
TZOFFSETTO:-0700
TZNAME:PDT
DTSTART:20260308T100000
END:DAYLIGHT
BEGIN:STANDARD
TZOFFSETFROM:-0700
TZOFFSETTO:-0800
TZNAME:PST
DTSTART:20261101T090000
END:STANDARD
END:VTIMEZONE
BEGIN:VEVENT
DTSTART;TZID=America/Los_Angeles:20250222T190000
DTEND;TZID=America/Los_Angeles:20250222T220000
DTSTAMP:20260424T201049
CREATED:20241227T195752Z
LAST-MODIFIED:20241227T195752Z
UID:16864-1740250800-1740261600@artsalliancedavis.org
SUMMARY:Rainbow City Park | EP Release Show | Presented by DLMC
DESCRIPTION:Sudwerk is excited to have Rainbow City Park in Davis\, CA for an epic EP Release Show!\n\n\n\n\nJoin us on Sat. 2/22/2025 to catch Rainbow City Park perform songs off of their debut EP\, “Fruitless”. Opening acts include Pure Hex\, Valley Taylor\, and Bloodsugar.\n\nDon’t miss out! Tickets are only $10 presale\, and $15 at the door.\n\n\n\n\n\nConcert is all ages on Sat. 2/22/2025 at 7pm at Sudwerk Brewing Co.\n2001 2nd Street\, Davis\, CA 95618\n\n\nAbout Rainbow City Park\nRainbow City Park is an indie-rock/dream pop band from Northern California. The group draws inspiration from the 90s alt-rock scene and modern artists such as Phoebe Bridgers\, Diiv\, and Pinegrove. RCP is known for their tight and energetic live shows.
URL:https://artsalliancedavis.org/event/rainbow-city-park-ep-release-show-presented-by-dlmc/
LOCATION:Sudwerk Brewing Co.\, 2001 2nd St\, Davis\, CA\, 95618\, United States
CATEGORIES:Music
ATTACH;FMTTYPE=image/jpeg:https://artsalliancedavis.org/wp-content/uploads/2024/12/Rainbow-City-Park-2-eVARM6.tmp_.jpg
END:VEVENT
END:VCALENDAR