BEGIN:VCALENDAR
VERSION:2.0
PRODID:-//Arts Alliance Davis - ECPv6.15.20//NONSGML v1.0//EN
CALSCALE:GREGORIAN
METHOD:PUBLISH
X-WR-CALNAME:Arts Alliance Davis
X-ORIGINAL-URL:https://artsalliancedavis.org
X-WR-CALDESC:Events for Arts Alliance Davis
REFRESH-INTERVAL;VALUE=DURATION:PT1H
X-Robots-Tag:noindex
X-PUBLISHED-TTL:PT1H
BEGIN:VTIMEZONE
TZID:America/Los_Angeles
BEGIN:DAYLIGHT
TZOFFSETFROM:-0800
TZOFFSETTO:-0700
TZNAME:PDT
DTSTART:20250309T100000
END:DAYLIGHT
BEGIN:STANDARD
TZOFFSETFROM:-0700
TZOFFSETTO:-0800
TZNAME:PST
DTSTART:20251102T090000
END:STANDARD
BEGIN:DAYLIGHT
TZOFFSETFROM:-0800
TZOFFSETTO:-0700
TZNAME:PDT
DTSTART:20260308T100000
END:DAYLIGHT
BEGIN:STANDARD
TZOFFSETFROM:-0700
TZOFFSETTO:-0800
TZNAME:PST
DTSTART:20261101T090000
END:STANDARD
BEGIN:DAYLIGHT
TZOFFSETFROM:-0800
TZOFFSETTO:-0700
TZNAME:PDT
DTSTART:20270314T100000
END:DAYLIGHT
BEGIN:STANDARD
TZOFFSETFROM:-0700
TZOFFSETTO:-0800
TZNAME:PST
DTSTART:20271107T090000
END:STANDARD
END:VTIMEZONE
BEGIN:VEVENT
DTSTART;TZID=America/Los_Angeles:20260205T193000
DTEND;TZID=America/Los_Angeles:20260205T210000
DTSTAMP:20260423T151313
CREATED:20260124T232212Z
LAST-MODIFIED:20260124T232212Z
UID:23408-1770319800-1770325200@artsalliancedavis.org
SUMMARY:Davis Odd Fellows Thursday Live!
DESCRIPTION:The Davis Odd Fellows Hall is located at 415 2nd St. in downtown Davis. Doors open at 7PM. The show starts at 7:30PM. Our shows are donation only with all donations going to the musicians. Please donate generously. \nBroken Compass Bluegrass emerged in 2021 and quickly gained recognition for their tight arrangements\, tasteful picking\, and standout songwriting. Hailing from Northern California\, the band features Kyle Ledson\, Django Ruckrich\, Mei Lin Heirendt\, and Sam Jacobs. Though young in years\, each member is a seasoned performer\, accomplished multi-instrumentalist\, and prolific songwriter. Together\, they’ve established themselves as one of California’s most exciting and fast-rising string bands. \nIn just a few years\, they’ve graced the stages of premier festivals such as High Sierra Music Festival\, Strawberry Music Festival\, WinterWonderGrass\, and Bluegrass in La Roche (France)\, among many others. \nBroken Compass Bluegrass is leading the way in the contemporary bluegrass revival\, combining tradition with innovation in a way that appeals to both longtime fans and new listeners alike. Their live performances are characterized by tight harmonies\, truly impressive solos\, and an undeniable joy that permeates with every note they play. The band’s repertoire includes numerous original compositions as well as fresh takes on timeless classics\, all delivered with their own distinctive style. Whether you’re a die-hard bluegrass aficionado or just looking for some foot-stomping fun\, Broken Compass Bluegrass is sure to leave you spellbound and inspired. \nOur bar will be open selling beer\, wine\, and other beverages.
URL:https://artsalliancedavis.org/event/davis-odd-fellows-thursday-live-11/
LOCATION:Davis Odd Fellows
CATEGORIES:Music
ATTACH;FMTTYPE=image/jpeg:https://artsalliancedavis.org/wp-content/uploads/2026/01/BCB-poster-1-CRybZU.jpg
ORGANIZER;CN="Davis Odd Fellows":MAILTO:davislodge@sbcglobal.net
END:VEVENT
END:VCALENDAR