BEGIN:VCALENDAR
VERSION:2.0
PRODID:-//Arts Alliance Davis - ECPv6.15.20//NONSGML v1.0//EN
CALSCALE:GREGORIAN
METHOD:PUBLISH
X-ORIGINAL-URL:https://artsalliancedavis.org
X-WR-CALDESC:Events for Arts Alliance Davis
REFRESH-INTERVAL;VALUE=DURATION:PT1H
X-Robots-Tag:noindex
X-PUBLISHED-TTL:PT1H
BEGIN:VTIMEZONE
TZID:America/Los_Angeles
BEGIN:DAYLIGHT
TZOFFSETFROM:-0800
TZOFFSETTO:-0700
TZNAME:PDT
DTSTART:20250309T100000
END:DAYLIGHT
BEGIN:STANDARD
TZOFFSETFROM:-0700
TZOFFSETTO:-0800
TZNAME:PST
DTSTART:20251102T090000
END:STANDARD
BEGIN:DAYLIGHT
TZOFFSETFROM:-0800
TZOFFSETTO:-0700
TZNAME:PDT
DTSTART:20260308T100000
END:DAYLIGHT
BEGIN:STANDARD
TZOFFSETFROM:-0700
TZOFFSETTO:-0800
TZNAME:PST
DTSTART:20261101T090000
END:STANDARD
BEGIN:DAYLIGHT
TZOFFSETFROM:-0800
TZOFFSETTO:-0700
TZNAME:PDT
DTSTART:20270314T100000
END:DAYLIGHT
BEGIN:STANDARD
TZOFFSETFROM:-0700
TZOFFSETTO:-0800
TZNAME:PST
DTSTART:20271107T090000
END:STANDARD
END:VTIMEZONE
BEGIN:VEVENT
DTSTART;TZID=America/Los_Angeles:20260529T193000
DTEND;TZID=America/Los_Angeles:20260529T220000
DTSTAMP:20260423T112024
CREATED:20260403T171319Z
LAST-MODIFIED:20260403T171319Z
UID:24593-1780083000-1780092000@artsalliancedavis.org
SUMMARY:Laura Benitez & The Heartache Live @ The Melon Ball
DESCRIPTION:Laura Benitez and the Heartache use the three chord tools of country music to tell the simple\, unvarnished truth about love\, too much whiskey\, and the call of the road. Their new album\, “California Centuries\,” finds the band delving deep into themes of collective denial (“Bad Things”)\, gaslighting (“Invisible” and “Gaslight”) and romantic lessons learned (“I’m the One” and “Are You Using Your Heart”). Their twangy honesty shines through in straightforward arrangements\, crystalline harmonies\, and spare instrumentation. Beware their catchy hooks and sweet melodies – these stray puppy tunes will follow you home and become your most steadfast companions. \nPresented by Left of the Dial and KDRT
URL:https://artsalliancedavis.org/event/laura-benitez-the-heartache-live-the-melon-ball/
LOCATION:Melon Ball – Watermelon Music\, 1970 Lake Blvd\, Suite #1\, Davis\, California\, 95616\, United States
CATEGORIES:Music
ATTACH;FMTTYPE=image/jpeg:https://artsalliancedavis.org/wp-content/uploads/2026/04/LauraBenitez-CsYcSz.jpg
ORGANIZER;CN="Watermelon Music":MAILTO:watermelonmusicdavis@gmail.com
END:VEVENT
END:VCALENDAR