BEGIN:VCALENDAR
VERSION:2.0
PRODID:-//Arts Alliance Davis - ECPv6.15.20//NONSGML v1.0//EN
CALSCALE:GREGORIAN
METHOD:PUBLISH
X-WR-CALNAME:Arts Alliance Davis
X-ORIGINAL-URL:https://artsalliancedavis.org
X-WR-CALDESC:Events for Arts Alliance Davis
REFRESH-INTERVAL;VALUE=DURATION:PT1H
X-Robots-Tag:noindex
X-PUBLISHED-TTL:PT1H
BEGIN:VTIMEZONE
TZID:America/Los_Angeles
BEGIN:DAYLIGHT
TZOFFSETFROM:-0800
TZOFFSETTO:-0700
TZNAME:PDT
DTSTART:20240310T100000
END:DAYLIGHT
BEGIN:STANDARD
TZOFFSETFROM:-0700
TZOFFSETTO:-0800
TZNAME:PST
DTSTART:20241103T090000
END:STANDARD
BEGIN:DAYLIGHT
TZOFFSETFROM:-0800
TZOFFSETTO:-0700
TZNAME:PDT
DTSTART:20250309T100000
END:DAYLIGHT
BEGIN:STANDARD
TZOFFSETFROM:-0700
TZOFFSETTO:-0800
TZNAME:PST
DTSTART:20251102T090000
END:STANDARD
BEGIN:DAYLIGHT
TZOFFSETFROM:-0800
TZOFFSETTO:-0700
TZNAME:PDT
DTSTART:20260308T100000
END:DAYLIGHT
BEGIN:STANDARD
TZOFFSETFROM:-0700
TZOFFSETTO:-0800
TZNAME:PST
DTSTART:20261101T090000
END:STANDARD
END:VTIMEZONE
BEGIN:VEVENT
DTSTART;TZID=America/Los_Angeles:20250906T090000
DTEND;TZID=America/Los_Angeles:20250906T123000
DTSTAMP:20260424T143746
CREATED:20250821T142454Z
LAST-MODIFIED:20250821T142454Z
UID:19769-1757149200-1757161800@artsalliancedavis.org
SUMMARY:Pet First Aid & CPR Training: Fundraiser for Animal Rescue in Uman\, Ukraine
DESCRIPTION:Davis Sunset Rotary is sponsoring a Pet First Aid and CPR Training to benefit animal rescue efforts in Uman\, Davis’ sister city in Ukraine.
URL:https://artsalliancedavis.org/event/pet-first-aid-cpr-training-fundraiser-for-animal-rescue-in-uman-ukraine/
LOCATION:Redwood Building\, 1001 Anderson Road\, Davis\, C\, 95616\, United States
CATEGORIES:Community
ATTACH;FMTTYPE=image/jpeg:https://artsalliancedavis.org/wp-content/uploads/2025/08/Animal-fundraiser-nRZt0N.jpg
ORGANIZER;CN="Sunset Rotary Club of Davis":MAILTO:info@sunsetrotary.org
END:VEVENT
END:VCALENDAR