BEGIN:VCALENDAR
VERSION:2.0
PRODID:-//Arts Alliance Davis - ECPv6.15.20//NONSGML v1.0//EN
CALSCALE:GREGORIAN
METHOD:PUBLISH
X-ORIGINAL-URL:https://artsalliancedavis.org
X-WR-CALDESC:Events for Arts Alliance Davis
REFRESH-INTERVAL;VALUE=DURATION:PT1H
X-Robots-Tag:noindex
X-PUBLISHED-TTL:PT1H
BEGIN:VTIMEZONE
TZID:America/Los_Angeles
BEGIN:DAYLIGHT
TZOFFSETFROM:-0800
TZOFFSETTO:-0700
TZNAME:PDT
DTSTART:20240310T100000
END:DAYLIGHT
BEGIN:STANDARD
TZOFFSETFROM:-0700
TZOFFSETTO:-0800
TZNAME:PST
DTSTART:20241103T090000
END:STANDARD
BEGIN:DAYLIGHT
TZOFFSETFROM:-0800
TZOFFSETTO:-0700
TZNAME:PDT
DTSTART:20250309T100000
END:DAYLIGHT
BEGIN:STANDARD
TZOFFSETFROM:-0700
TZOFFSETTO:-0800
TZNAME:PST
DTSTART:20251102T090000
END:STANDARD
BEGIN:DAYLIGHT
TZOFFSETFROM:-0800
TZOFFSETTO:-0700
TZNAME:PDT
DTSTART:20260308T100000
END:DAYLIGHT
BEGIN:STANDARD
TZOFFSETFROM:-0700
TZOFFSETTO:-0800
TZNAME:PST
DTSTART:20261101T090000
END:STANDARD
END:VTIMEZONE
BEGIN:VEVENT
DTSTART;TZID=America/Los_Angeles:20251025T140000
DTEND;TZID=America/Los_Angeles:20251025T180000
DTSTAMP:20260424T030300
CREATED:20251017T185132Z
LAST-MODIFIED:20251017T185132Z
UID:20938-1761400800-1761415200@artsalliancedavis.org
SUMMARY:Art Farm 2025
DESCRIPTION:On Saturday\, October 25\, 2025 from 2-6pm\, YoloArts will be hosting Art Farm\, a fun art fest celebration\, on the grounds of the Gibson House. We welcome you to support the creative expressions of local artists and delight in exhibitions\, demonstrations\, live music from Roadhouse 5 and an artisan market. Also enjoy gourmet food tastings from notable local farms and restaurants\, along with the best of Yolo County wine\, beer\, and spirits. \nThe YoloArts’ Art Farm event supports the Art & Ag Project\, exhibiting artists\, and program partner the Yolo Land Trust. We are excited to creatively connect artists\, farmers\, and the community to celebrate local arts and farmland in Yolo County. \nYou can enjoy Art Farm in different ways: \nSelect one farmland inspired original work of art from the Art Harvest exhibition by purchasing a Shovel Ticket\, which also includes food and drink tastings for 4. \nSavor local food and drink in the olive orchard by purchasing a Premium Ticket. \nSample for free the exhibitions\, bid on the silent auction\, stroll the artisan market\, and listen to the music of Roadhouse 5. \nTo purchase Shovel and Premium tickets and register to bid on silent auction artwork\, please visit: https://events.handbid.com/auctions/art-farm-2025 \nTo learn more about Art Farm\, please visit: https://yoloarts.org/art-farm/ \nWe hope to see you at Art Farm this year!
URL:https://artsalliancedavis.org/event/art-farm-2025/
LOCATION:The Barn Gallery\, 512 Gibson Road\, Woodland\, CA\, United States
CATEGORIES:Art,Community,Food & Drink,Music,Outside
ATTACH;FMTTYPE=image/jpeg:https://artsalliancedavis.org/wp-content/uploads/2025/10/Art-Farm-2025-XKFO1J.jpg
ORGANIZER;CN="YoloArts":MAILTO:jpurnell@yoloarts.org
END:VEVENT
END:VCALENDAR