BEGIN:VCALENDAR
VERSION:2.0
PRODID:-//Arts Alliance Davis - ECPv6.15.20//NONSGML v1.0//EN
CALSCALE:GREGORIAN
METHOD:PUBLISH
X-WR-CALNAME:Arts Alliance Davis
X-ORIGINAL-URL:https://artsalliancedavis.org
X-WR-CALDESC:Events for Arts Alliance Davis
REFRESH-INTERVAL;VALUE=DURATION:PT1H
X-Robots-Tag:noindex
X-PUBLISHED-TTL:PT1H
BEGIN:VTIMEZONE
TZID:America/Los_Angeles
BEGIN:DAYLIGHT
TZOFFSETFROM:-0800
TZOFFSETTO:-0700
TZNAME:PDT
DTSTART:20240310T100000
END:DAYLIGHT
BEGIN:STANDARD
TZOFFSETFROM:-0700
TZOFFSETTO:-0800
TZNAME:PST
DTSTART:20241103T090000
END:STANDARD
BEGIN:DAYLIGHT
TZOFFSETFROM:-0800
TZOFFSETTO:-0700
TZNAME:PDT
DTSTART:20250309T100000
END:DAYLIGHT
BEGIN:STANDARD
TZOFFSETFROM:-0700
TZOFFSETTO:-0800
TZNAME:PST
DTSTART:20251102T090000
END:STANDARD
BEGIN:DAYLIGHT
TZOFFSETFROM:-0800
TZOFFSETTO:-0700
TZNAME:PDT
DTSTART:20260308T100000
END:DAYLIGHT
BEGIN:STANDARD
TZOFFSETFROM:-0700
TZOFFSETTO:-0800
TZNAME:PST
DTSTART:20261101T090000
END:STANDARD
END:VTIMEZONE
BEGIN:VEVENT
DTSTART;TZID=America/Los_Angeles:20251028T180000
DTEND;TZID=America/Los_Angeles:20251028T193000
DTSTAMP:20260424T113717
CREATED:20251021T153423Z
LAST-MODIFIED:20251021T153423Z
UID:20980-1761674400-1761679800@artsalliancedavis.org
SUMMARY:I-House Book Club: Solito
DESCRIPTION:Join us for the I-House Book Club with groups in English and Spanish\, featuring Solito: A Memoir by Javier Zamora. Facilitated by volunteers\, this gathering offers an evening of meaningful connection\, engaging discussion\, and shared perspectives in great company. \nJoin us HERE! \nKick-Off Event: \nOctober 28 | 6–7:30 PM \nMonthly Meetings: \nFirst Tuesday of the month\, November – February | 6–7:30 PM \nWho Can Join: \nAnyone interested in a friendly discussion! \nLearning Members: Free\nGuests: $10 per session\nWhat to Know / Additional Details: \nLight refreshments provided\nBringing a snack to share is encouraged\nOpen\, informal\, warm environment\nThemes include curiosity\, wonder\, and exploring the essence of belonging
URL:https://artsalliancedavis.org/event/i-house-book-club-solito/
LOCATION:International House (I-House)\, 10 College Pk.
CATEGORIES:Books & Talks,Community
ATTACH;FMTTYPE=image/png:https://artsalliancedavis.org/wp-content/uploads/2025/10/Bok-Club-Solito-Flyer-final-nYLymy.png
ORGANIZER;CN="International House Davis":MAILTO:shahzana@ihousedavis.org
END:VEVENT
END:VCALENDAR