BEGIN:VCALENDAR
VERSION:2.0
PRODID:-//Arts Alliance Davis - ECPv6.15.20//NONSGML v1.0//EN
CALSCALE:GREGORIAN
METHOD:PUBLISH
X-ORIGINAL-URL:https://artsalliancedavis.org
X-WR-CALDESC:Events for Arts Alliance Davis
REFRESH-INTERVAL;VALUE=DURATION:PT1H
X-Robots-Tag:noindex
X-PUBLISHED-TTL:PT1H
BEGIN:VTIMEZONE
TZID:America/Los_Angeles
BEGIN:DAYLIGHT
TZOFFSETFROM:-0800
TZOFFSETTO:-0700
TZNAME:PDT
DTSTART:20240310T100000
END:DAYLIGHT
BEGIN:STANDARD
TZOFFSETFROM:-0700
TZOFFSETTO:-0800
TZNAME:PST
DTSTART:20241103T090000
END:STANDARD
BEGIN:DAYLIGHT
TZOFFSETFROM:-0800
TZOFFSETTO:-0700
TZNAME:PDT
DTSTART:20250309T100000
END:DAYLIGHT
BEGIN:STANDARD
TZOFFSETFROM:-0700
TZOFFSETTO:-0800
TZNAME:PST
DTSTART:20251102T090000
END:STANDARD
BEGIN:DAYLIGHT
TZOFFSETFROM:-0800
TZOFFSETTO:-0700
TZNAME:PDT
DTSTART:20260308T100000
END:DAYLIGHT
BEGIN:STANDARD
TZOFFSETFROM:-0700
TZOFFSETTO:-0800
TZNAME:PST
DTSTART:20261101T090000
END:STANDARD
END:VTIMEZONE
BEGIN:VEVENT
DTSTART;TZID=America/Los_Angeles:20250130T180000
DTEND;TZID=America/Los_Angeles:20250130T193000
DTSTAMP:20260424T082636
CREATED:20250106T231300Z
LAST-MODIFIED:20250106T231300Z
UID:16991-1738260000-1738265400@artsalliancedavis.org
SUMMARY:Book Launch for Local Author Lisa Montnaro
DESCRIPTION:Join Local Author Lisa Montanaro for her Book Launch Event at the Avid Reader!\nLocal author Lisa Montanaro is thrilled to announce that the book launch event for her debut novel\, Everything We Thought Was True\, will be held at the Avid Reader in Davis\, CA on January 30\, 2025 at 6:00 PM Pacific. Come join Lisa for an author chat\, book reading\, and celebration as she launches her debut novel into the world. \n 
URL:https://artsalliancedavis.org/event/book-launch-for-local-author-lisa-montnaro/
LOCATION:Avid & Co.\, 605 2nd St\, Davis\, CA\, 95616\, United States
CATEGORIES:Books & Talks
ATTACH;FMTTYPE=image/jpeg:https://artsalliancedavis.org/wp-content/uploads/2025/01/lisa-montanaro-6yPmV0.tmp_.jpg
ORGANIZER;CN="Avid &amp%3B Co.":MAILTO:avidandco@gmail.com
END:VEVENT
END:VCALENDAR