BEGIN:VCALENDAR
VERSION:2.0
PRODID:-//Arts Alliance Davis - ECPv6.15.20//NONSGML v1.0//EN
CALSCALE:GREGORIAN
METHOD:PUBLISH
X-ORIGINAL-URL:https://artsalliancedavis.org
X-WR-CALDESC:Events for Arts Alliance Davis
REFRESH-INTERVAL;VALUE=DURATION:PT1H
X-Robots-Tag:noindex
X-PUBLISHED-TTL:PT1H
BEGIN:VTIMEZONE
TZID:America/Los_Angeles
BEGIN:DAYLIGHT
TZOFFSETFROM:-0800
TZOFFSETTO:-0700
TZNAME:PDT
DTSTART:20250309T100000
END:DAYLIGHT
BEGIN:STANDARD
TZOFFSETFROM:-0700
TZOFFSETTO:-0800
TZNAME:PST
DTSTART:20251102T090000
END:STANDARD
BEGIN:DAYLIGHT
TZOFFSETFROM:-0800
TZOFFSETTO:-0700
TZNAME:PDT
DTSTART:20260308T100000
END:DAYLIGHT
BEGIN:STANDARD
TZOFFSETFROM:-0700
TZOFFSETTO:-0800
TZNAME:PST
DTSTART:20261101T090000
END:STANDARD
BEGIN:DAYLIGHT
TZOFFSETFROM:-0800
TZOFFSETTO:-0700
TZNAME:PDT
DTSTART:20270314T100000
END:DAYLIGHT
BEGIN:STANDARD
TZOFFSETFROM:-0700
TZOFFSETTO:-0800
TZNAME:PST
DTSTART:20271107T090000
END:STANDARD
END:VTIMEZONE
BEGIN:VEVENT
DTSTART;TZID=America/Los_Angeles:20260703T170000
DTEND;TZID=America/Los_Angeles:20260703T200000
DTSTAMP:20260423T173455
CREATED:20260414T204920Z
LAST-MODIFIED:20260414T204920Z
UID:24835-1783098000-1783108800@artsalliancedavis.org
SUMMARY:Adding Stones to Rise A Group Exhibition of Sacramento-Based Artists
DESCRIPTION:Adding Stones to Rise\nA Group Exhibition of Sacramento-Based Artists\nArtist and Curator: Adero Willard \nMay 1 – May 29\, 2026\nSecond Saturday Reception: Saturday\, May 9\, 5–8 PM \nAdding Stones to Rise is a curated group exhibition bringing together Sacramento-based artists working across multiple media\, including painting\, printmaking\, ceramics\, sculpture\, and new media. The title was developed in response to the work and writings of the artists in the exhibition and to the regional presence of rivers that move through and around Sacramento. Water becomes a point of connection—flowing\, sustaining\, eroding\, nurturing\, and reshaping. It can lift\, carry\, overwhelm\, or renew. The flow of a river may also be understood simply as the movement of material through the earth. In this context\, adding stones may suggest burden\, accumulation\, protection\, labor\, or foundation; rising may evoke resistance\, healing\, survival\, visibility\, or change. \nArtists were selected to create a diversity of voice\, perspective\, process\, medium\, and identity\, speaking to the expansiveness of Blackness and representing a collective of varying experiences. Each point is distinct\, yet inseparable from the whole—reflecting how identity\, particularly Blackness\, can be understood as fluid\, relational\, and non-monolithic. \nAdding Stones to Rise centers the work of Black women and nonbinary artists—new to the region\, rooted here\, or returning. Together\, these artists offer a collective meditation on movement\, care\, resistance\, and transformation. This exhibition is one moment in an ongoing story. It is not the first of its kind\, and it will not be the last. \nCuratorial Note: As a curatorial framework\, stones\, water\, and rivers function as metaphors for ideas brought together in this space and may not reflect the specific themes or content of each artist’s work. \nParticipating Artists\nDebra Pitman\, Laurelin Gilmore\, Amari More\, Victoria Kinyanjui\, Khalia Morris\, Tasha Green\, Delgreta Brown\, Alex Lowe\, Sabrina Clark\, Tasha Nicole \nPress Contact\n[Adero Willard] [potterybyadero@gmail.com |
URL:https://artsalliancedavis.org/event/adding-stones-to-rise-a-group-exhibition-of-sacramento-based-artists-25/
LOCATION:Axis Gallery\, 625 S St\, Sacramento\, 95811\, United States
CATEGORIES:Art
ATTACH;FMTTYPE=image/jpeg:https://artsalliancedavis.org/wp-content/uploads/2026/04/Adding-Stones-iT1pCg.jpg
ORGANIZER;CN="Axis Gallery":MAILTO:info@axisgallery.org
END:VEVENT
BEGIN:VEVENT
DTSTART;TZID=America/Los_Angeles:20260704T170000
DTEND;TZID=America/Los_Angeles:20260704T200000
DTSTAMP:20260423T173455
CREATED:20260414T204936Z
LAST-MODIFIED:20260414T204936Z
UID:24837-1783184400-1783195200@artsalliancedavis.org
SUMMARY:Adding Stones to Rise A Group Exhibition of Sacramento-Based Artists
DESCRIPTION:Adding Stones to Rise\nA Group Exhibition of Sacramento-Based Artists\nArtist and Curator: Adero Willard \nMay 1 – May 29\, 2026\nSecond Saturday Reception: Saturday\, May 9\, 5–8 PM \nAdding Stones to Rise is a curated group exhibition bringing together Sacramento-based artists working across multiple media\, including painting\, printmaking\, ceramics\, sculpture\, and new media. The title was developed in response to the work and writings of the artists in the exhibition and to the regional presence of rivers that move through and around Sacramento. Water becomes a point of connection—flowing\, sustaining\, eroding\, nurturing\, and reshaping. It can lift\, carry\, overwhelm\, or renew. The flow of a river may also be understood simply as the movement of material through the earth. In this context\, adding stones may suggest burden\, accumulation\, protection\, labor\, or foundation; rising may evoke resistance\, healing\, survival\, visibility\, or change. \nArtists were selected to create a diversity of voice\, perspective\, process\, medium\, and identity\, speaking to the expansiveness of Blackness and representing a collective of varying experiences. Each point is distinct\, yet inseparable from the whole—reflecting how identity\, particularly Blackness\, can be understood as fluid\, relational\, and non-monolithic. \nAdding Stones to Rise centers the work of Black women and nonbinary artists—new to the region\, rooted here\, or returning. Together\, these artists offer a collective meditation on movement\, care\, resistance\, and transformation. This exhibition is one moment in an ongoing story. It is not the first of its kind\, and it will not be the last. \nCuratorial Note: As a curatorial framework\, stones\, water\, and rivers function as metaphors for ideas brought together in this space and may not reflect the specific themes or content of each artist’s work. \nParticipating Artists\nDebra Pitman\, Laurelin Gilmore\, Amari More\, Victoria Kinyanjui\, Khalia Morris\, Tasha Green\, Delgreta Brown\, Alex Lowe\, Sabrina Clark\, Tasha Nicole \nPress Contact\n[Adero Willard] [potterybyadero@gmail.com |
URL:https://artsalliancedavis.org/event/adding-stones-to-rise-a-group-exhibition-of-sacramento-based-artists-26/
LOCATION:Axis Gallery\, 625 S St\, Sacramento\, 95811\, United States
CATEGORIES:Art
ATTACH;FMTTYPE=image/jpeg:https://artsalliancedavis.org/wp-content/uploads/2026/04/Adding-Stones-iT1pCg.jpg
ORGANIZER;CN="Axis Gallery":MAILTO:info@axisgallery.org
END:VEVENT
BEGIN:VEVENT
DTSTART;TZID=America/Los_Angeles:20260705T170000
DTEND;TZID=America/Los_Angeles:20260705T200000
DTSTAMP:20260423T173455
CREATED:20260414T204938Z
LAST-MODIFIED:20260414T204938Z
UID:24838-1783270800-1783281600@artsalliancedavis.org
SUMMARY:Adding Stones to Rise A Group Exhibition of Sacramento-Based Artists
DESCRIPTION:Adding Stones to Rise\nA Group Exhibition of Sacramento-Based Artists\nArtist and Curator: Adero Willard \nMay 1 – May 29\, 2026\nSecond Saturday Reception: Saturday\, May 9\, 5–8 PM \nAdding Stones to Rise is a curated group exhibition bringing together Sacramento-based artists working across multiple media\, including painting\, printmaking\, ceramics\, sculpture\, and new media. The title was developed in response to the work and writings of the artists in the exhibition and to the regional presence of rivers that move through and around Sacramento. Water becomes a point of connection—flowing\, sustaining\, eroding\, nurturing\, and reshaping. It can lift\, carry\, overwhelm\, or renew. The flow of a river may also be understood simply as the movement of material through the earth. In this context\, adding stones may suggest burden\, accumulation\, protection\, labor\, or foundation; rising may evoke resistance\, healing\, survival\, visibility\, or change. \nArtists were selected to create a diversity of voice\, perspective\, process\, medium\, and identity\, speaking to the expansiveness of Blackness and representing a collective of varying experiences. Each point is distinct\, yet inseparable from the whole—reflecting how identity\, particularly Blackness\, can be understood as fluid\, relational\, and non-monolithic. \nAdding Stones to Rise centers the work of Black women and nonbinary artists—new to the region\, rooted here\, or returning. Together\, these artists offer a collective meditation on movement\, care\, resistance\, and transformation. This exhibition is one moment in an ongoing story. It is not the first of its kind\, and it will not be the last. \nCuratorial Note: As a curatorial framework\, stones\, water\, and rivers function as metaphors for ideas brought together in this space and may not reflect the specific themes or content of each artist’s work. \nParticipating Artists\nDebra Pitman\, Laurelin Gilmore\, Amari More\, Victoria Kinyanjui\, Khalia Morris\, Tasha Green\, Delgreta Brown\, Alex Lowe\, Sabrina Clark\, Tasha Nicole \nPress Contact\n[Adero Willard] [potterybyadero@gmail.com |
URL:https://artsalliancedavis.org/event/adding-stones-to-rise-a-group-exhibition-of-sacramento-based-artists-27/
LOCATION:Axis Gallery\, 625 S St\, Sacramento\, 95811\, United States
CATEGORIES:Art
ATTACH;FMTTYPE=image/jpeg:https://artsalliancedavis.org/wp-content/uploads/2026/04/Adding-Stones-iT1pCg.jpg
ORGANIZER;CN="Axis Gallery":MAILTO:info@axisgallery.org
END:VEVENT
BEGIN:VEVENT
DTSTART;TZID=America/Los_Angeles:20260710T170000
DTEND;TZID=America/Los_Angeles:20260710T200000
DTSTAMP:20260423T173455
CREATED:20260414T205024Z
LAST-MODIFIED:20260414T205024Z
UID:24841-1783702800-1783713600@artsalliancedavis.org
SUMMARY:Adding Stones to Rise A Group Exhibition of Sacramento-Based Artists
DESCRIPTION:Adding Stones to Rise\nA Group Exhibition of Sacramento-Based Artists\nArtist and Curator: Adero Willard \nMay 1 – May 29\, 2026\nSecond Saturday Reception: Saturday\, May 9\, 5–8 PM \nAdding Stones to Rise is a curated group exhibition bringing together Sacramento-based artists working across multiple media\, including painting\, printmaking\, ceramics\, sculpture\, and new media. The title was developed in response to the work and writings of the artists in the exhibition and to the regional presence of rivers that move through and around Sacramento. Water becomes a point of connection—flowing\, sustaining\, eroding\, nurturing\, and reshaping. It can lift\, carry\, overwhelm\, or renew. The flow of a river may also be understood simply as the movement of material through the earth. In this context\, adding stones may suggest burden\, accumulation\, protection\, labor\, or foundation; rising may evoke resistance\, healing\, survival\, visibility\, or change. \nArtists were selected to create a diversity of voice\, perspective\, process\, medium\, and identity\, speaking to the expansiveness of Blackness and representing a collective of varying experiences. Each point is distinct\, yet inseparable from the whole—reflecting how identity\, particularly Blackness\, can be understood as fluid\, relational\, and non-monolithic. \nAdding Stones to Rise centers the work of Black women and nonbinary artists—new to the region\, rooted here\, or returning. Together\, these artists offer a collective meditation on movement\, care\, resistance\, and transformation. This exhibition is one moment in an ongoing story. It is not the first of its kind\, and it will not be the last. \nCuratorial Note: As a curatorial framework\, stones\, water\, and rivers function as metaphors for ideas brought together in this space and may not reflect the specific themes or content of each artist’s work. \nParticipating Artists\nDebra Pitman\, Laurelin Gilmore\, Amari More\, Victoria Kinyanjui\, Khalia Morris\, Tasha Green\, Delgreta Brown\, Alex Lowe\, Sabrina Clark\, Tasha Nicole \nPress Contact\n[Adero Willard] [potterybyadero@gmail.com |
URL:https://artsalliancedavis.org/event/adding-stones-to-rise-a-group-exhibition-of-sacramento-based-artists-28/
LOCATION:Axis Gallery\, 625 S St\, Sacramento\, 95811\, United States
CATEGORIES:Art
ATTACH;FMTTYPE=image/jpeg:https://artsalliancedavis.org/wp-content/uploads/2026/04/Adding-Stones-iT1pCg.jpg
ORGANIZER;CN="Axis Gallery":MAILTO:info@axisgallery.org
END:VEVENT
BEGIN:VEVENT
DTSTART;TZID=America/Los_Angeles:20260711T170000
DTEND;TZID=America/Los_Angeles:20260711T200000
DTSTAMP:20260423T173455
CREATED:20260414T205028Z
LAST-MODIFIED:20260414T205028Z
UID:24842-1783789200-1783800000@artsalliancedavis.org
SUMMARY:Adding Stones to Rise A Group Exhibition of Sacramento-Based Artists
DESCRIPTION:Adding Stones to Rise\nA Group Exhibition of Sacramento-Based Artists\nArtist and Curator: Adero Willard \nMay 1 – May 29\, 2026\nSecond Saturday Reception: Saturday\, May 9\, 5–8 PM \nAdding Stones to Rise is a curated group exhibition bringing together Sacramento-based artists working across multiple media\, including painting\, printmaking\, ceramics\, sculpture\, and new media. The title was developed in response to the work and writings of the artists in the exhibition and to the regional presence of rivers that move through and around Sacramento. Water becomes a point of connection—flowing\, sustaining\, eroding\, nurturing\, and reshaping. It can lift\, carry\, overwhelm\, or renew. The flow of a river may also be understood simply as the movement of material through the earth. In this context\, adding stones may suggest burden\, accumulation\, protection\, labor\, or foundation; rising may evoke resistance\, healing\, survival\, visibility\, or change. \nArtists were selected to create a diversity of voice\, perspective\, process\, medium\, and identity\, speaking to the expansiveness of Blackness and representing a collective of varying experiences. Each point is distinct\, yet inseparable from the whole—reflecting how identity\, particularly Blackness\, can be understood as fluid\, relational\, and non-monolithic. \nAdding Stones to Rise centers the work of Black women and nonbinary artists—new to the region\, rooted here\, or returning. Together\, these artists offer a collective meditation on movement\, care\, resistance\, and transformation. This exhibition is one moment in an ongoing story. It is not the first of its kind\, and it will not be the last. \nCuratorial Note: As a curatorial framework\, stones\, water\, and rivers function as metaphors for ideas brought together in this space and may not reflect the specific themes or content of each artist’s work. \nParticipating Artists\nDebra Pitman\, Laurelin Gilmore\, Amari More\, Victoria Kinyanjui\, Khalia Morris\, Tasha Green\, Delgreta Brown\, Alex Lowe\, Sabrina Clark\, Tasha Nicole \nPress Contact\n[Adero Willard] [potterybyadero@gmail.com |
URL:https://artsalliancedavis.org/event/adding-stones-to-rise-a-group-exhibition-of-sacramento-based-artists-29/
LOCATION:Axis Gallery\, 625 S St\, Sacramento\, 95811\, United States
CATEGORIES:Art
ATTACH;FMTTYPE=image/jpeg:https://artsalliancedavis.org/wp-content/uploads/2026/04/Adding-Stones-iT1pCg.jpg
ORGANIZER;CN="Axis Gallery":MAILTO:info@axisgallery.org
END:VEVENT
BEGIN:VEVENT
DTSTART;TZID=America/Los_Angeles:20260712T170000
DTEND;TZID=America/Los_Angeles:20260712T200000
DTSTAMP:20260423T173455
CREATED:20260414T205045Z
LAST-MODIFIED:20260414T205045Z
UID:24843-1783875600-1783886400@artsalliancedavis.org
SUMMARY:Adding Stones to Rise A Group Exhibition of Sacramento-Based Artists
DESCRIPTION:Adding Stones to Rise\nA Group Exhibition of Sacramento-Based Artists\nArtist and Curator: Adero Willard \nMay 1 – May 29\, 2026\nSecond Saturday Reception: Saturday\, May 9\, 5–8 PM \nAdding Stones to Rise is a curated group exhibition bringing together Sacramento-based artists working across multiple media\, including painting\, printmaking\, ceramics\, sculpture\, and new media. The title was developed in response to the work and writings of the artists in the exhibition and to the regional presence of rivers that move through and around Sacramento. Water becomes a point of connection—flowing\, sustaining\, eroding\, nurturing\, and reshaping. It can lift\, carry\, overwhelm\, or renew. The flow of a river may also be understood simply as the movement of material through the earth. In this context\, adding stones may suggest burden\, accumulation\, protection\, labor\, or foundation; rising may evoke resistance\, healing\, survival\, visibility\, or change. \nArtists were selected to create a diversity of voice\, perspective\, process\, medium\, and identity\, speaking to the expansiveness of Blackness and representing a collective of varying experiences. Each point is distinct\, yet inseparable from the whole—reflecting how identity\, particularly Blackness\, can be understood as fluid\, relational\, and non-monolithic. \nAdding Stones to Rise centers the work of Black women and nonbinary artists—new to the region\, rooted here\, or returning. Together\, these artists offer a collective meditation on movement\, care\, resistance\, and transformation. This exhibition is one moment in an ongoing story. It is not the first of its kind\, and it will not be the last. \nCuratorial Note: As a curatorial framework\, stones\, water\, and rivers function as metaphors for ideas brought together in this space and may not reflect the specific themes or content of each artist’s work. \nParticipating Artists\nDebra Pitman\, Laurelin Gilmore\, Amari More\, Victoria Kinyanjui\, Khalia Morris\, Tasha Green\, Delgreta Brown\, Alex Lowe\, Sabrina Clark\, Tasha Nicole \nPress Contact\n[Adero Willard] [potterybyadero@gmail.com |
URL:https://artsalliancedavis.org/event/adding-stones-to-rise-a-group-exhibition-of-sacramento-based-artists-30/
LOCATION:Axis Gallery\, 625 S St\, Sacramento\, 95811\, United States
CATEGORIES:Art
ATTACH;FMTTYPE=image/jpeg:https://artsalliancedavis.org/wp-content/uploads/2026/04/Adding-Stones-iT1pCg.jpg
ORGANIZER;CN="Axis Gallery":MAILTO:info@axisgallery.org
END:VEVENT
BEGIN:VEVENT
DTSTART;TZID=America/Los_Angeles:20260717T170000
DTEND;TZID=America/Los_Angeles:20260717T200000
DTSTAMP:20260423T173455
CREATED:20260418T221803Z
LAST-MODIFIED:20260418T221803Z
UID:24883-1784307600-1784318400@artsalliancedavis.org
SUMMARY:Adding Stones to Rise A Group Exhibition of Sacramento-Based Artists
DESCRIPTION:Adding Stones to Rise\nA Group Exhibition of Sacramento-Based Artists\nArtist and Curator: Adero Willard \nMay 1 – May 29\, 2026\nSecond Saturday Reception: Saturday\, May 9\, 5–8 PM \nAdding Stones to Rise is a curated group exhibition bringing together Sacramento-based artists working across multiple media\, including painting\, printmaking\, ceramics\, sculpture\, and new media. The title was developed in response to the work and writings of the artists in the exhibition and to the regional presence of rivers that move through and around Sacramento. Water becomes a point of connection—flowing\, sustaining\, eroding\, nurturing\, and reshaping. It can lift\, carry\, overwhelm\, or renew. The flow of a river may also be understood simply as the movement of material through the earth. In this context\, adding stones may suggest burden\, accumulation\, protection\, labor\, or foundation; rising may evoke resistance\, healing\, survival\, visibility\, or change. \nArtists were selected to create a diversity of voice\, perspective\, process\, medium\, and identity\, speaking to the expansiveness of Blackness and representing a collective of varying experiences. Each point is distinct\, yet inseparable from the whole—reflecting how identity\, particularly Blackness\, can be understood as fluid\, relational\, and non-monolithic. \nAdding Stones to Rise centers the work of Black women and nonbinary artists—new to the region\, rooted here\, or returning. Together\, these artists offer a collective meditation on movement\, care\, resistance\, and transformation. This exhibition is one moment in an ongoing story. It is not the first of its kind\, and it will not be the last. \nCuratorial Note: As a curatorial framework\, stones\, water\, and rivers function as metaphors for ideas brought together in this space and may not reflect the specific themes or content of each artist’s work. \nParticipating Artists\nDebra Pitman\, Laurelin Gilmore\, Amari More\, Victoria Kinyanjui\, Khalia Morris\, Tasha Green\, Delgreta Brown\, Alex Lowe\, Sabrina Clark\, Tasha Nicole \nPress Contact\n[Adero Willard] [potterybyadero@gmail.com |
URL:https://artsalliancedavis.org/event/adding-stones-to-rise-a-group-exhibition-of-sacramento-based-artists-31/
LOCATION:Axis Gallery\, 625 S St\, Sacramento\, 95811\, United States
CATEGORIES:Art
ATTACH;FMTTYPE=image/jpeg:https://artsalliancedavis.org/wp-content/uploads/2026/04/Adding-Stones-iT1pCg.jpg
ORGANIZER;CN="Axis Gallery":MAILTO:info@axisgallery.org
END:VEVENT
BEGIN:VEVENT
DTSTART;TZID=America/Los_Angeles:20260718T170000
DTEND;TZID=America/Los_Angeles:20260718T200000
DTSTAMP:20260423T173455
CREATED:20260419T223205Z
LAST-MODIFIED:20260419T223205Z
UID:24930-1784394000-1784404800@artsalliancedavis.org
SUMMARY:Adding Stones to Rise A Group Exhibition of Sacramento-Based Artists
DESCRIPTION:Adding Stones to Rise\nA Group Exhibition of Sacramento-Based Artists\nArtist and Curator: Adero Willard \nMay 1 – May 29\, 2026\nSecond Saturday Reception: Saturday\, May 9\, 5–8 PM \nAdding Stones to Rise is a curated group exhibition bringing together Sacramento-based artists working across multiple media\, including painting\, printmaking\, ceramics\, sculpture\, and new media. The title was developed in response to the work and writings of the artists in the exhibition and to the regional presence of rivers that move through and around Sacramento. Water becomes a point of connection—flowing\, sustaining\, eroding\, nurturing\, and reshaping. It can lift\, carry\, overwhelm\, or renew. The flow of a river may also be understood simply as the movement of material through the earth. In this context\, adding stones may suggest burden\, accumulation\, protection\, labor\, or foundation; rising may evoke resistance\, healing\, survival\, visibility\, or change. \nArtists were selected to create a diversity of voice\, perspective\, process\, medium\, and identity\, speaking to the expansiveness of Blackness and representing a collective of varying experiences. Each point is distinct\, yet inseparable from the whole—reflecting how identity\, particularly Blackness\, can be understood as fluid\, relational\, and non-monolithic. \nAdding Stones to Rise centers the work of Black women and nonbinary artists—new to the region\, rooted here\, or returning. Together\, these artists offer a collective meditation on movement\, care\, resistance\, and transformation. This exhibition is one moment in an ongoing story. It is not the first of its kind\, and it will not be the last. \nCuratorial Note: As a curatorial framework\, stones\, water\, and rivers function as metaphors for ideas brought together in this space and may not reflect the specific themes or content of each artist’s work. \nParticipating Artists\nDebra Pitman\, Laurelin Gilmore\, Amari More\, Victoria Kinyanjui\, Khalia Morris\, Tasha Green\, Delgreta Brown\, Alex Lowe\, Sabrina Clark\, Tasha Nicole \nPress Contact\n[Adero Willard] [potterybyadero@gmail.com |
URL:https://artsalliancedavis.org/event/adding-stones-to-rise-a-group-exhibition-of-sacramento-based-artists-32/
LOCATION:Axis Gallery\, 625 S St\, Sacramento\, 95811\, United States
CATEGORIES:Art
ATTACH;FMTTYPE=image/jpeg:https://artsalliancedavis.org/wp-content/uploads/2026/04/Adding-Stones-iT1pCg.jpg
ORGANIZER;CN="Axis Gallery":MAILTO:info@axisgallery.org
END:VEVENT
BEGIN:VEVENT
DTSTART;TZID=America/Los_Angeles:20260719T170000
DTEND;TZID=America/Los_Angeles:20260719T200000
DTSTAMP:20260423T173455
CREATED:20260420T230203Z
LAST-MODIFIED:20260420T230203Z
UID:24937-1784480400-1784491200@artsalliancedavis.org
SUMMARY:Adding Stones to Rise A Group Exhibition of Sacramento-Based Artists
DESCRIPTION:Adding Stones to Rise\nA Group Exhibition of Sacramento-Based Artists\nArtist and Curator: Adero Willard \nMay 1 – May 29\, 2026\nSecond Saturday Reception: Saturday\, May 9\, 5–8 PM \nAdding Stones to Rise is a curated group exhibition bringing together Sacramento-based artists working across multiple media\, including painting\, printmaking\, ceramics\, sculpture\, and new media. The title was developed in response to the work and writings of the artists in the exhibition and to the regional presence of rivers that move through and around Sacramento. Water becomes a point of connection—flowing\, sustaining\, eroding\, nurturing\, and reshaping. It can lift\, carry\, overwhelm\, or renew. The flow of a river may also be understood simply as the movement of material through the earth. In this context\, adding stones may suggest burden\, accumulation\, protection\, labor\, or foundation; rising may evoke resistance\, healing\, survival\, visibility\, or change. \nArtists were selected to create a diversity of voice\, perspective\, process\, medium\, and identity\, speaking to the expansiveness of Blackness and representing a collective of varying experiences. Each point is distinct\, yet inseparable from the whole—reflecting how identity\, particularly Blackness\, can be understood as fluid\, relational\, and non-monolithic. \nAdding Stones to Rise centers the work of Black women and nonbinary artists—new to the region\, rooted here\, or returning. Together\, these artists offer a collective meditation on movement\, care\, resistance\, and transformation. This exhibition is one moment in an ongoing story. It is not the first of its kind\, and it will not be the last. \nCuratorial Note: As a curatorial framework\, stones\, water\, and rivers function as metaphors for ideas brought together in this space and may not reflect the specific themes or content of each artist’s work. \nParticipating Artists\nDebra Pitman\, Laurelin Gilmore\, Amari More\, Victoria Kinyanjui\, Khalia Morris\, Tasha Green\, Delgreta Brown\, Alex Lowe\, Sabrina Clark\, Tasha Nicole \nPress Contact\n[Adero Willard] [potterybyadero@gmail.com |
URL:https://artsalliancedavis.org/event/adding-stones-to-rise-a-group-exhibition-of-sacramento-based-artists-33/
LOCATION:Axis Gallery\, 625 S St\, Sacramento\, 95811\, United States
CATEGORIES:Art
ATTACH;FMTTYPE=image/jpeg:https://artsalliancedavis.org/wp-content/uploads/2026/04/Adding-Stones-iT1pCg.jpg
ORGANIZER;CN="Axis Gallery":MAILTO:info@axisgallery.org
END:VEVENT
END:VCALENDAR