BEGIN:VCALENDAR
VERSION:2.0
PRODID:-//Arts Alliance Davis - ECPv6.15.20//NONSGML v1.0//EN
CALSCALE:GREGORIAN
METHOD:PUBLISH
X-WR-CALNAME:Arts Alliance Davis
X-ORIGINAL-URL:https://artsalliancedavis.org
X-WR-CALDESC:Events for Arts Alliance Davis
REFRESH-INTERVAL;VALUE=DURATION:PT1H
X-Robots-Tag:noindex
X-PUBLISHED-TTL:PT1H
BEGIN:VTIMEZONE
TZID:America/Los_Angeles
BEGIN:DAYLIGHT
TZOFFSETFROM:-0800
TZOFFSETTO:-0700
TZNAME:PDT
DTSTART:20230312T100000
END:DAYLIGHT
BEGIN:STANDARD
TZOFFSETFROM:-0700
TZOFFSETTO:-0800
TZNAME:PST
DTSTART:20231105T090000
END:STANDARD
BEGIN:DAYLIGHT
TZOFFSETFROM:-0800
TZOFFSETTO:-0700
TZNAME:PDT
DTSTART:20240310T100000
END:DAYLIGHT
BEGIN:STANDARD
TZOFFSETFROM:-0700
TZOFFSETTO:-0800
TZNAME:PST
DTSTART:20241103T090000
END:STANDARD
BEGIN:DAYLIGHT
TZOFFSETFROM:-0800
TZOFFSETTO:-0700
TZNAME:PDT
DTSTART:20250309T100000
END:DAYLIGHT
BEGIN:STANDARD
TZOFFSETFROM:-0700
TZOFFSETTO:-0800
TZNAME:PST
DTSTART:20251102T090000
END:STANDARD
END:VTIMEZONE
BEGIN:VEVENT
DTSTART;TZID=America/Los_Angeles:20241003T183000
DTEND;TZID=America/Los_Angeles:20241003T193000
DTSTAMP:20260424T152249
CREATED:20240921T232703Z
LAST-MODIFIED:20240921T232703Z
UID:14767-1727980200-1727983800@artsalliancedavis.org
SUMMARY:Author Talk: Sasha Abramsky
DESCRIPTION:Join us in celebrating the release of local author\, Sasha Abramsky’s latest book: Chaos Comes Calling on Thursday\, October 3rd at 6:30 PM. \nAbout the Author \nSasha Abramsky is a long-time political journalist and author who spent the last thirty years exploring the American political and social justice landscape. CHAOS COMES CALLING is a harrowing tale of how political polarization threatens America’s social fabric\, told through the differing fates of two communities in the throes of ideological and partisan battle. \nAbout the Book \nDonald Trump’s November 2016 electoral victory presaged four years of demagogy\, presidential name-calling\, and – ten months into a pandemic – an incitement to violence that led a mob of thousands to descend on the Capitol in Washington\, DC. Fueled by suspicion\, conspiracy\, and bigotry\, a faction of Americans with extreme beliefs fought to seize control. But the biggest effect of this right-wing wave may not have been on our national politics\, but on the local governments of communities around the country. \nIn CHAOS COMES CALLING\, Abramsky tells the parallel stories of two communities: Shasta County\, CA\, and Sequim\, WA\, where toxic alliances of QAnoners\, anti-vaxxers\, Christian nationalists\, militia supporters\, and other denizens of the far-right have worked to take control of the levers of power. While Sequim ultimately recalibrated in 2021\, returning to a more rational\, less violent baseline\, Shasta County has descended further into a climate of intolerance and toxic divisiveness. \nBy illuminating how the polarization of national politics has seeped into local affairs\, Abramsky vividly captures how extremism upended life in these communities and transformed the country’s politics. He also provides a sobering glimpse of what America’s future may hold if the extremist spiral is not kept in check.
URL:https://artsalliancedavis.org/event/author-talk-sasha-abramsky/
LOCATION:The Avid Reader\, 617 2nd St.
CATEGORIES:Books & Talks
ATTACH;FMTTYPE=image/png:https://artsalliancedavis.org/wp-content/uploads/2024/09/sasha-abramsky-rorNVx.tmp_.png
ORGANIZER;CN="The Avid Reader":MAILTO:avidreaderbooks@gmail.com
END:VEVENT
BEGIN:VEVENT
DTSTART;TZID=America/Los_Angeles:20241005T183000
DTEND;TZID=America/Los_Angeles:20241005T193000
DTSTAMP:20260424T152249
CREATED:20240921T232759Z
LAST-MODIFIED:20240921T232759Z
UID:14774-1728153000-1728156600@artsalliancedavis.org
SUMMARY:Author Event: RD Pires
DESCRIPTION:Avid Reader is thrilled to host UC Davis alumnus\, R.D. Pires to celebrate the release of his latest book\, Design of Darkness on October 5th at 6:30 PM. \nAbout the Author \nRD Pires has found there’s always a story to tell\, and so he spends his time writing them down. A project is always on his mind\, even when there aren’t enough hours in a day to work on them. His blend of literary writing with genre elements is influenced by his favorite authors\, such as David Mitchell\, Brandon Sanderson\, Madeline Miller\, and Stephen King. His works include Design of Darkness\, the first book in the ongoing The Tides That Reign series\, A Vast\, Untethered Ocean\, the novella In Death Do Flowers Grow\, and the collection of short fiction A Sky Littered With Stories. He lives in California with his husband and daughter. \nAbout the Book \nThe shadow of the great usurper\, King Fogosombre\, has kept the East in darkness for twelve long years. Made paranoid by a foretelling of his downfall\, the king’s indiscriminate violence reaches a new zenith\, leaving twins Arsenio and Mariana orphaned and homeless\, their village burnt to the ground. \nNow\, as the dying embers of their rebellion fade into the night\, the twins make a promise to find aide for their people in foreign lands. To get out from under the king’s reach\, they must venture across the Great Ocean into a world they had only dreamt about through travelers’ stories. From their perilous quest arises a tale of emperors and queens\, marauders and mysticism\, fortitude and forbidden love. \nMeanwhile\, King Fogosombre conducts profane rituals driven by his lust for indomitability. Toiling with malign magic that may yield dire consequences for all the known world\, he seeks a pact with the shadows\, a plan to cement his reign indefinitely: a design of darkness.
URL:https://artsalliancedavis.org/event/author-event-rd-pires/
LOCATION:The Avid Reader\, 617 2nd St.
CATEGORIES:Books & Talks
ATTACH;FMTTYPE=image/png:https://artsalliancedavis.org/wp-content/uploads/2024/09/rd-pires-iskn2V.tmp_.png
ORGANIZER;CN="The Avid Reader":MAILTO:avidreaderbooks@gmail.com
END:VEVENT
BEGIN:VEVENT
DTSTART;TZID=America/Los_Angeles:20241022T180000
DTEND;TZID=America/Los_Angeles:20241022T190000
DTSTAMP:20260424T152249
CREATED:20240926T120500Z
LAST-MODIFIED:20240926T120500Z
UID:14902-1729620000-1729623600@artsalliancedavis.org
SUMMARY:California Writers Week Historical Fiction Panel
DESCRIPTION:FIGHT FOR PROGRESS: READ HISTORICAL FICTION! Come hear three historical fiction novelists discuss how issues such as women’s rights\, religious tolerance\, and anti-discrimination resonate from the past in modern historical fiction. \nWith experience writing in periods and contexts as disparate as war-plagued Europe in the 1480s\, a quirky 1970s circus\, a captive woman in the Trojan War\, a 13 th century BCE Hittite queen\, and the Flying Nightingales of WWII\, this author threesome will entertain you as we take on the past and the ways historical fiction illuminates our current world. \nAbout the Authors \nTim Schooley \nTim Schooley’s first job out of high school was as a circus clown with Ringling Bros.\, Barnum & Bailey Circus. When he discovered he was not that funny\, he went to college at UC Santa Barbara and then law school at UC Berkeley. He spent 35 years as an appellate lawyer\, taught appellate law at UC Davis Law School for 10 years\, and worked first as a “writ attorney” and then as the managing attorney of the California Court of Appeal\, Third Appellate District\, in Sacramento. All along\, he wrote fiction\, but waited until his retirement to publish his debut novel\, The Wool Translator\, which follows a Christian boy and a Muslim girl across religiously fractured Europe of the 1480s. Tim’s forthcoming novel\, The Circus of the Vanishing Elephant\, is based (very loosely) on his employment as a circus clown. Tim lives with his wife in Fair Oaks. His website: www.timschooley.com \nJudith Starkston \nAfter spending too much time reading about and exploring the remains of the ancient worlds of the Greeks and Hittites\, including degrees in classics and a long teaching career\, Judith Starkston figured out what it was all good for. Judith now writes historical fantasy set in the Bronze Age world of Greeks and Hittites. Her five novels bring women to the fore—whether the Trojan War captive Briseis or a remarkable Hittite queen whom history forgot\, even though she ruled over one of the greatest ancient empires. Her website: www.JudithStarkston.com \nLaura Walker \nFormer Sacramento Bee reporter and columnist Laura Jensen Walker is the award- winning author of more than 20 books including Thanks for the Mammogram and the bestselling\, Agatha-nominated Murder Most Sweet. Captivated by the tales of an overlooked group of WWII RAF women—the Flying Nightingales—Air Force veteran Laura knew she had to tell their story in her historical debut\, Death of a Flying Nightingale. You can contact Laura through her website: https://laurajensenwalker.com.
URL:https://artsalliancedavis.org/event/california-writers-week-historical-fiction-panel/
LOCATION:The Avid Reader\, 617 2nd St.
CATEGORIES:Books & Talks
ATTACH;FMTTYPE=image/png:https://artsalliancedavis.org/wp-content/uploads/2024/09/historical-fiction-panel-1-ThwpNb.tmp_.png
ORGANIZER;CN="The Avid Reader":MAILTO:avidreaderbooks@gmail.com
END:VEVENT
BEGIN:VEVENT
DTSTART;TZID=America/Los_Angeles:20241027T130000
DTEND;TZID=America/Los_Angeles:20241027T140000
DTSTAMP:20260424T152249
CREATED:20240927T122103Z
LAST-MODIFIED:20240927T122103Z
UID:14982-1730034000-1730037600@artsalliancedavis.org
SUMMARY:Author Talk: Justine Villanueva
DESCRIPTION:Join us in celebrating local author\, Justine Villanueva’s latest children’s book: Munga and Lola on Sunday October 27th at 1:00 PM. \nAbout the Author \nJustine Eva Li Villanueva traces her ancestral roots to Bukidnon\, home of her paternal grandmother who was a descendant of Apu Mansaliwa of the Bukidnon tribe of Kalasungay. She is an immigrant learning to dwell in Davis\, California\, home of the Wintun-Patwin\, with her husband and two sons. Justine’s creative work focuses on decolonization\, indigenization\, and social justice. JustineVillanueva.com. \nAbout the Book \nMungan and Lola is a story about love and care between the child Mungan and her lola (grandmother). One day\, Lola becomes sad. With the help of her mothers and siblings\, Mungan enthusiastically engages in the family rituals of care to understand Lola’s sadness and bring back Lola’s smile. \nMungan and Lola takes its inspiration from a Bukidnon epic about Mungan\, the first Bukidnon babaylan (indigenous healer)\, who summons the healing power of sunlight by playing the traditional gongs. The babaylan Mungan also leads the Bukidnon people to their paradise. Thus\, Mungan and Lola echoes the themes of personal and collective healing\, belonging\, and the ancestors. \nIn Mungan and Lola\, the child Mungan\, named after the babaylan\, engages in rituals of care—cooking linagpang (an indigenous Filipino soup); performing hilot (an ancient form of touch therapy); and playing kulintang and other indigenous musical instruments to encourage dancing—to help Lola feel better. Mungan eventually discovers the reason for Lola’s sadness and\, in the process\, hears about Lola’s stories of her homeland and immigration to the United States. \nMungan and Lola shows us the healing powers of (indigenous) music and dance which connect us to the world and ourselves\, and the healing powers of oral storytelling and remembering our ancestors and where we come from. \nBeyond exploring the themes of healing\, this book also offers a starting point for the exploration of many other cultural and historical themes relevant to the Fil Am community. \nMungan and Lola is written in hay(na)ku which is tercet-based poetic format created by Filipino American poet Eileen Tabios. Mungan and Lola also highlights three Filipino languages: Bisaya-Cebuano\, Filipino\, and Binukid. \n 
URL:https://artsalliancedavis.org/event/author-talk-justine-villanueva/
LOCATION:The Avid Reader\, 617 2nd St.
CATEGORIES:Books & Talks
ATTACH;FMTTYPE=image/png:https://artsalliancedavis.org/wp-content/uploads/2024/09/Justine-Villanueva-psgaen.tmp_.png
ORGANIZER;CN="The Avid Reader":MAILTO:avidreaderbooks@gmail.com
END:VEVENT
END:VCALENDAR