BEGIN:VCALENDAR
VERSION:2.0
PRODID:-//Arts Alliance Davis - ECPv6.15.20//NONSGML v1.0//EN
CALSCALE:GREGORIAN
METHOD:PUBLISH
X-ORIGINAL-URL:https://artsalliancedavis.org
X-WR-CALDESC:Events for Arts Alliance Davis
REFRESH-INTERVAL;VALUE=DURATION:PT1H
X-Robots-Tag:noindex
X-PUBLISHED-TTL:PT1H
BEGIN:VTIMEZONE
TZID:America/Los_Angeles
BEGIN:DAYLIGHT
TZOFFSETFROM:-0800
TZOFFSETTO:-0700
TZNAME:PDT
DTSTART:20240310T100000
END:DAYLIGHT
BEGIN:STANDARD
TZOFFSETFROM:-0700
TZOFFSETTO:-0800
TZNAME:PST
DTSTART:20241103T090000
END:STANDARD
BEGIN:DAYLIGHT
TZOFFSETFROM:-0800
TZOFFSETTO:-0700
TZNAME:PDT
DTSTART:20250309T100000
END:DAYLIGHT
BEGIN:STANDARD
TZOFFSETFROM:-0700
TZOFFSETTO:-0800
TZNAME:PST
DTSTART:20251102T090000
END:STANDARD
BEGIN:DAYLIGHT
TZOFFSETFROM:-0800
TZOFFSETTO:-0700
TZNAME:PDT
DTSTART:20260308T100000
END:DAYLIGHT
BEGIN:STANDARD
TZOFFSETFROM:-0700
TZOFFSETTO:-0800
TZNAME:PST
DTSTART:20261101T090000
END:STANDARD
END:VTIMEZONE
BEGIN:VEVENT
DTSTART;TZID=America/Los_Angeles:20250413T140000
DTEND;TZID=America/Los_Angeles:20250413T150000
DTSTAMP:20260424T054233
CREATED:20250313T161055Z
LAST-MODIFIED:20250313T161055Z
UID:18229-1744552800-1744556400@artsalliancedavis.org
SUMMARY:Graphic Novel Authors Talk with Briana Loewinsohn and Thien Pham
DESCRIPTION:MARY L STEPHENS BRANCH LIBARY. Briana Loewinsohn author of Ephemera: a memoir and Raised by ghosts and Thien Pham author of Family style : memories of an American from Vietnam will be in conversation about making comics. 2p – 3p. Free.
URL:https://artsalliancedavis.org/event/graphic-novel-authors-talk-with-briana-loewinsohn-and-thien-pham/
LOCATION:Mary L. Stephens Davis Branch Library Blanchard Room\, 315 E 14th St\, Davis\, CA\, 95616\, United States
CATEGORIES:Books & Talks
ATTACH;FMTTYPE=image/jpeg:https://artsalliancedavis.org/wp-content/uploads/2018/10/orange-white-aad-logo.jpg
END:VEVENT
BEGIN:VEVENT
DTSTART;TZID=America/Los_Angeles:20250416T190000
DTEND;TZID=America/Los_Angeles:20250416T200000
DTSTAMP:20260424T054233
CREATED:20250327T212545Z
LAST-MODIFIED:20250327T212545Z
UID:18569-1744830000-1744833600@artsalliancedavis.org
SUMMARY:Author Talk: Brian Selznick and David Levithan
DESCRIPTION:AVID READER. Avid Reader is honored to host Brian Selznick in conversation with David Levithan in celebration of the release of Selznick’s latest novel: Run Away With Me. Run Away With Me is a stunning creation\, weaving words & illustration to tell the story of a transformative love. Danny is sixteen & spending his summer in Rome. As his mother works all day in a mysterious museum\, he wanders the city’s ancient\, streets. Then one day a voice calls to him\, & a strange\, beautiful boy steps into his life. Angelo. Soon Danny is in love for the first time\, but he’s also painfully aware that when the summer ends\, he’ll have to return to America. Angelo seems to know all of Rome’s twisting corners & hidden histories . . . even as he holds his own secrets just out of Danny’s reach. 7p – 8p. $10.
URL:https://artsalliancedavis.org/event/author-talk-brian-selznick-and-david-levithan/
LOCATION:U.S. Bicycling Hall of Fame\, 303 3rd Street\, Davis\, 95616\, United States
CATEGORIES:Books & Talks
ATTACH;FMTTYPE=image/png:https://artsalliancedavis.org/wp-content/uploads/2025/03/brian-selznick-eventbrite-rMrCOF.tmp_.png
ORGANIZER;CN="The Avid Reader":MAILTO:avidreaderbooks@gmail.com
END:VEVENT
BEGIN:VEVENT
DTSTART;TZID=America/Los_Angeles:20250430T180000
DTEND;TZID=America/Los_Angeles:20250430T190000
DTSTAMP:20260424T054233
CREATED:20250313T161454Z
LAST-MODIFIED:20250313T161454Z
UID:18245-1746036000-1746039600@artsalliancedavis.org
SUMMARY:Claudia Krich on Those Who Stayed: A Vietnam Diary
DESCRIPTION:MARY L. STEPHENS DAVIS BRANCH LIBRAY. The Mary L. Stephens Davis Branch Library announces author Claudia Krich will deliver a book talk\, “Those Who Stayed: A Vietnam Diary\,” at 6:00 p.m. Wednesday\, April 30\, in the Blanchard Room. The event is free and open to the public.
URL:https://artsalliancedavis.org/event/claudia-krich-on-those-who-stayed-a-vietnam-diary/
LOCATION:Mary L. Stephens Davis Branch Library Blanchard Room\, 315 E 14th St\, Davis\, CA\, 95616\, United States
CATEGORIES:Books & Talks
ATTACH;FMTTYPE=image/jpeg:https://artsalliancedavis.org/wp-content/uploads/2018/10/orange-white-aad-logo.jpg
END:VEVENT
END:VCALENDAR