BEGIN:VCALENDAR
VERSION:2.0
PRODID:-//Arts Alliance Davis - ECPv6.15.20//NONSGML v1.0//EN
CALSCALE:GREGORIAN
METHOD:PUBLISH
X-WR-CALNAME:Arts Alliance Davis
X-ORIGINAL-URL:https://artsalliancedavis.org
X-WR-CALDESC:Events for Arts Alliance Davis
REFRESH-INTERVAL;VALUE=DURATION:PT1H
X-Robots-Tag:noindex
X-PUBLISHED-TTL:PT1H
BEGIN:VTIMEZONE
TZID:America/Los_Angeles
BEGIN:DAYLIGHT
TZOFFSETFROM:-0800
TZOFFSETTO:-0700
TZNAME:PDT
DTSTART:20250309T100000
END:DAYLIGHT
BEGIN:STANDARD
TZOFFSETFROM:-0700
TZOFFSETTO:-0800
TZNAME:PST
DTSTART:20251102T090000
END:STANDARD
BEGIN:DAYLIGHT
TZOFFSETFROM:-0800
TZOFFSETTO:-0700
TZNAME:PDT
DTSTART:20260308T100000
END:DAYLIGHT
BEGIN:STANDARD
TZOFFSETFROM:-0700
TZOFFSETTO:-0800
TZNAME:PST
DTSTART:20261101T090000
END:STANDARD
BEGIN:DAYLIGHT
TZOFFSETFROM:-0800
TZOFFSETTO:-0700
TZNAME:PDT
DTSTART:20270314T100000
END:DAYLIGHT
BEGIN:STANDARD
TZOFFSETFROM:-0700
TZOFFSETTO:-0800
TZNAME:PST
DTSTART:20271107T090000
END:STANDARD
END:VTIMEZONE
BEGIN:VEVENT
DTSTART;TZID=America/Los_Angeles:20260425T140000
DTEND;TZID=America/Los_Angeles:20260425T153000
DTSTAMP:20260423T113842
CREATED:20260324T141206Z
LAST-MODIFIED:20260324T141206Z
UID:24436-1777125600-1777131000@artsalliancedavis.org
SUMMARY:Independent Bookstore Day with Melissa Chen
DESCRIPTION:Join us on Independent Bookstore Day to hear from Northern California author and hiking enthusiast Melissa Chen at 2:00 on April 25th. \nAbout the Book \nThe Ultimate Guide to Exploring the Golden State with Your Four-Legged Friend \nExplore Northern California’s most beautiful trails with your dog by your side. From the urban paths of the Bay Area to the rugged North Coast and the Sierra Nevada wilderness\, this guide features routes for every level of hiker and every breed — including hidden trails\, secret swimming holes\, and off-leash adventures. \nIncludes: \nDetailed trail guides with clear directions and difficulty ratings \nFull-color photos and easy-to-follow maps \nDownloadable GPX files for navigation \nExpert tips from a Bay Area local Charming illustrations throughout \nWhether you’re planning a weekend walk or a mountain adventure\, Dog Hiking Northern California is the essential resource for discovering the region’s most rewarding outdoor experiences with your canine companion. \nThis guide is part of Helvetiq’s Hiking book collection—bestsellers around the globe. \nAbout the Author \nMelissa Chen was born and raised in the Bay Area. She is an avid hiker and founder of her blog\, The Modern Female Hiker. She loves exploring Northern California with Ty\, her chocolate lab\, and Gus\, her basset hound. \n 
URL:https://artsalliancedavis.org/event/independent-bookstore-day-with-melissa-chen/
LOCATION:The Avid Reader Bookstore\, 617 2nd St.\, Davis\, 95616
CATEGORIES:Books & Talks
ATTACH;FMTTYPE=image/png:https://artsalliancedavis.org/wp-content/uploads/2026/03/Melissa-Chen-1-zcDPRs.png
ORGANIZER;CN="The Avid Reader":MAILTO:avidreaderbooks@gmail.com
END:VEVENT
BEGIN:VEVENT
DTSTART;TZID=America/Los_Angeles:20260428T183000
DTEND;TZID=America/Los_Angeles:20260428T193000
DTSTAMP:20260423T113842
CREATED:20260324T141255Z
LAST-MODIFIED:20260324T141255Z
UID:24441-1777401000-1777404600@artsalliancedavis.org
SUMMARY:Author Talk: Cheri Radke
DESCRIPTION:Join us for an evening to hear about Cheri Radke’s debut novel\, An Accident of Dragons! \nAbout the Author \nCheri Radke has been a librarian\, a bookseller\, and an academic coordinator. She studied Linguistics at New York University and went on to earn a Masters in Library and Information Science from Kent State University. She lives in Woodland\, California and can be found on social media @cheriradke. \nAbout the Book \nAn unlikely lord finally meets a problem he can’t flirt his way out of in this adventurous and light-hearted queer cozy fantasy featuring pirates\, dragons\, kidnapping\, tea\, and other high-fantasy delights for readers of Rebecca Thorne\, TJ Klune\, Sarah Beth Durst\, and Travis Baldree. \nIn theory\, the dragoness of Summer can make any resident on her island the ruler\, if the previous Lord Summer is so careless as to die without an heir. In practice\, absolutely no one expected her to choose Teddy\, the last lord’s middle-aged fancy man. With his quick wit\, heaps of charisma\, and excellent dress sense\, Teddy brings plenty of virtues to his new role\, but statecraft\, pedigree\, and decorum are not among them. That’s all right: he’s done his duty to the island\, and his five-year-old daughter\, Zinnia\, will make a brilliant Lady Summer when her time comes. \nExcept when a ship of desperate mainlander thieves arrives\, Zinnia’s caught in the fracas and taken hostage. Teddy jumps into the rescue mission without delay\, even though his days of adventures on the mainland are long buried with his lover. But his sailors have never seen their destination\, and worse\, the hard-liner admiral who leads them thinks Teddy’s a worthless dandy. Against a conniving robber baron\, a sorceress who’s tamed her own dragon\, and ordinary people with everything to lose\, the crew faces terrible odds. But with all he loves in danger\, Teddy must prove there’s more to him than he’d ever intended to show. \n 
URL:https://artsalliancedavis.org/event/author-talk-cheri-radke/
LOCATION:The Avid Reader Bookstore\, 617 2nd St.\, Davis\, 95616
CATEGORIES:Books & Talks
ATTACH;FMTTYPE=image/png:https://artsalliancedavis.org/wp-content/uploads/2026/03/cheri-radke-ZlDatD.png
ORGANIZER;CN="The Avid Reader":MAILTO:avidreaderbooks@gmail.com
END:VEVENT
END:VCALENDAR