BEGIN:VCALENDAR
VERSION:2.0
PRODID:-//Arts Alliance Davis - ECPv6.15.20//NONSGML v1.0//EN
CALSCALE:GREGORIAN
METHOD:PUBLISH
X-WR-CALNAME:Arts Alliance Davis
X-ORIGINAL-URL:https://artsalliancedavis.org
X-WR-CALDESC:Events for Arts Alliance Davis
REFRESH-INTERVAL;VALUE=DURATION:PT1H
X-Robots-Tag:noindex
X-PUBLISHED-TTL:PT1H
BEGIN:VTIMEZONE
TZID:America/Los_Angeles
BEGIN:DAYLIGHT
TZOFFSETFROM:-0800
TZOFFSETTO:-0700
TZNAME:PDT
DTSTART:20230312T100000
END:DAYLIGHT
BEGIN:STANDARD
TZOFFSETFROM:-0700
TZOFFSETTO:-0800
TZNAME:PST
DTSTART:20231105T090000
END:STANDARD
BEGIN:DAYLIGHT
TZOFFSETFROM:-0800
TZOFFSETTO:-0700
TZNAME:PDT
DTSTART:20240310T100000
END:DAYLIGHT
BEGIN:STANDARD
TZOFFSETFROM:-0700
TZOFFSETTO:-0800
TZNAME:PST
DTSTART:20241103T090000
END:STANDARD
BEGIN:DAYLIGHT
TZOFFSETFROM:-0800
TZOFFSETTO:-0700
TZNAME:PDT
DTSTART:20250309T100000
END:DAYLIGHT
BEGIN:STANDARD
TZOFFSETFROM:-0700
TZOFFSETTO:-0800
TZNAME:PST
DTSTART:20251102T090000
END:STANDARD
END:VTIMEZONE
BEGIN:VEVENT
DTSTART;TZID=America/Los_Angeles:20240908T170000
DTEND;TZID=America/Los_Angeles:20240908T190000
DTSTAMP:20260424T193649
CREATED:20240904T181521Z
LAST-MODIFIED:20240904T181521Z
UID:14447-1725814800-1725822000@artsalliancedavis.org
SUMMARY:Stories on Stage
DESCRIPTION:This popular event\, featuring actors reading works by writers from Davis and beyond\, kicks off its 11th season with a new location (Sudwerk) and a new time (second Sundays\, 5-7 pm). \nBeer and wine available for purchase on tap\, featuring emcee Dr. Andy Jones. \nTo learn more about Stories on Stage\, click here.
URL:https://artsalliancedavis.org/event/stories-on-stage-4/
LOCATION:Sudwerk Brewing Co.\, 2001 2nd St\, Davis\, CA\, 95618\, United States
CATEGORIES:Books & Talks
ATTACH;FMTTYPE=image/jpeg:https://artsalliancedavis.org/wp-content/uploads/2024/09/Fixed-Final-9.8.24-SOSD-Flyer-MGVHlu.tmp_.jpg
END:VEVENT
BEGIN:VEVENT
DTSTART;TZID=America/Los_Angeles:20240908T170000
DTEND;TZID=America/Los_Angeles:20240908T190000
DTSTAMP:20260424T193649
CREATED:20240927T121744Z
LAST-MODIFIED:20240927T121744Z
UID:14957-1725814800-1725822000@artsalliancedavis.org
SUMMARY:Stories on Stage
DESCRIPTION:This popular event\, featuring actors reading works by writers from Davis and beyond\, kicks off its 11th season with a new location (Sudwerk) and a new time (second Sundays\, 5-7 pm). \nBeer and wine available for purchase on tap\, featuring emcee Dr. Andy Jones. \nTo learn more about Stories on Stage\, click here.
URL:https://artsalliancedavis.org/event/stories-on-stage-8/
LOCATION:Sudwerk Brewing Co.\, 2001 2nd St\, Davis\, CA\, 95618\, United States
CATEGORIES:Books & Talks
ATTACH;FMTTYPE=image/jpeg:https://artsalliancedavis.org/wp-content/uploads/2024/09/Fixed-Final-9.8.24-SOSD-Flyer-MGVHlu.tmp_.jpg
END:VEVENT
END:VCALENDAR