BEGIN:VCALENDAR
VERSION:2.0
PRODID:-//Arts Alliance Davis - ECPv6.15.20//NONSGML v1.0//EN
CALSCALE:GREGORIAN
METHOD:PUBLISH
X-ORIGINAL-URL:https://artsalliancedavis.org
X-WR-CALDESC:Events for Arts Alliance Davis
REFRESH-INTERVAL;VALUE=DURATION:PT1H
X-Robots-Tag:noindex
X-PUBLISHED-TTL:PT1H
BEGIN:VTIMEZONE
TZID:America/Los_Angeles
BEGIN:DAYLIGHT
TZOFFSETFROM:-0800
TZOFFSETTO:-0700
TZNAME:PDT
DTSTART:20240310T100000
END:DAYLIGHT
BEGIN:STANDARD
TZOFFSETFROM:-0700
TZOFFSETTO:-0800
TZNAME:PST
DTSTART:20241103T090000
END:STANDARD
BEGIN:DAYLIGHT
TZOFFSETFROM:-0800
TZOFFSETTO:-0700
TZNAME:PDT
DTSTART:20250309T100000
END:DAYLIGHT
BEGIN:STANDARD
TZOFFSETFROM:-0700
TZOFFSETTO:-0800
TZNAME:PST
DTSTART:20251102T090000
END:STANDARD
BEGIN:DAYLIGHT
TZOFFSETFROM:-0800
TZOFFSETTO:-0700
TZNAME:PDT
DTSTART:20260308T100000
END:DAYLIGHT
BEGIN:STANDARD
TZOFFSETFROM:-0700
TZOFFSETTO:-0800
TZNAME:PST
DTSTART:20261101T090000
END:STANDARD
END:VTIMEZONE
BEGIN:VEVENT
DTSTART;TZID=America/Los_Angeles:20250302T120000
DTEND;TZID=America/Los_Angeles:20250302T133000
DTSTAMP:20260424T082855
CREATED:20250214T222807Z
LAST-MODIFIED:20250214T222807Z
UID:17788-1740916800-1740922200@artsalliancedavis.org
SUMMARY:The Color of Compromise Discussion Group led by Rev. Stephanie Milton
DESCRIPTION:Reverend Stephanie Milton will guest preach and lead a three week book study based on Jemar Tisby’s book The Color of Compromise: The Truth about the American Church’s Complicity in Racism. Please join us for this exciting series.\n\nTisby’s The Color of Compromise: The Truth about the American Church’s Complicity in Racism sheds light on the history of racism within the American church and challenges readers to confront this uncomfortable truth. Through meticulous research and analysis\, Tisby provides a compelling narrative that underscores the urgent need for the church to actively work towards racial justice and reconciliation. The book traces the origin and perpetuation of racism in Christianity from Columbus’ invasion of the Americas through the current era in the United States. We’ll delve into the ways in which the church has been complicit in upholding systems of oppression and discrimination\, ultimately calling for a transformation towards a more inclusive and equitable faith community.\nRev. Stephanie Milton believes that the church can be a place of healing and transformation\, individually and within the community. The sacraments\, spiritual development\, and worship experience are vital to congregational life. Rev. Stephanie is a fifth-year doctoral candidate at the University of California\, Davis\, specializing in African American religion and healthcare. She holds a Master of Arts in Political Science from Washington University in St. Louis\, and a Master of Divinity from Candler School of Theology at Emory University. Her research interests include the confluence between religion and health\, the impact of spiritual and moral harm\, and decolonial feminist theology. Ordained in the United Church of Christ\, Rev. Stephanie has worked in diverse communities\, including sex and gender equity education in higher education\, advocating against intimate partner violence\, and providing spiritual care to US veterans.
URL:https://artsalliancedavis.org/event/the-color-of-compromise-discussion-group-led-by-rev-stephanie-milton/
LOCATION:Davis Community Church (DCC)\, 412 C Street\, Davis\, CA\, 95616\, United States
CATEGORIES:Books & Talks,Community
ATTACH;FMTTYPE=image/jpeg:https://artsalliancedavis.org/wp-content/uploads/2025/02/Tisby-cover-6qRtAZ.tmp_.jpg
ORGANIZER;CN="Davis Community Church":MAILTO:emma@dccpres.org
END:VEVENT
BEGIN:VEVENT
DTSTART;TZID=America/Los_Angeles:20250309T120000
DTEND;TZID=America/Los_Angeles:20250309T133000
DTSTAMP:20260424T082855
CREATED:20250214T223012Z
LAST-MODIFIED:20250214T223012Z
UID:17805-1741521600-1741527000@artsalliancedavis.org
SUMMARY:The Color of Compromise Discussion Group led by Rev. Stephanie Milton
DESCRIPTION:Reverend Stephanie Milton will guest preach and lead a three week book study based on Jemar Tisby’s book The Color of Compromise: The Truth about the American Church’s Complicity in Racism. Please join us for this exciting series.\n\nTisby’s The Color of Compromise: The Truth about the American Church’s Complicity in Racism sheds light on the history of racism within the American church and challenges readers to confront this uncomfortable truth. Through meticulous research and analysis\, Tisby provides a compelling narrative that underscores the urgent need for the church to actively work towards racial justice and reconciliation. The book traces the origin and perpetuation of racism in Christianity from Columbus’ invasion of the Americas through the current era in the United States. We’ll delve into the ways in which the church has been complicit in upholding systems of oppression and discrimination\, ultimately calling for a transformation towards a more inclusive and equitable faith community.\nRev. Stephanie Milton believes that the church can be a place of healing and transformation\, individually and within the community. The sacraments\, spiritual development\, and worship experience are vital to congregational life. Rev. Stephanie is a fifth-year doctoral candidate at the University of California\, Davis\, specializing in African American religion and healthcare. She holds a Master of Arts in Political Science from Washington University in St. Louis\, and a Master of Divinity from Candler School of Theology at Emory University. Her research interests include the confluence between religion and health\, the impact of spiritual and moral harm\, and decolonial feminist theology. Ordained in the United Church of Christ\, Rev. Stephanie has worked in diverse communities\, including sex and gender equity education in higher education\, advocating against intimate partner violence\, and providing spiritual care to US veterans.
URL:https://artsalliancedavis.org/event/the-color-of-compromise-discussion-group-led-by-rev-stephanie-milton-2/
LOCATION:Davis Community Church (DCC)\, 412 C Street\, Davis\, CA\, 95616\, United States
CATEGORIES:Books & Talks,Community
ATTACH;FMTTYPE=image/jpeg:https://artsalliancedavis.org/wp-content/uploads/2025/02/Tisby-cover-6qRtAZ.tmp_.jpg
ORGANIZER;CN="Davis Community Church":MAILTO:emma@dccpres.org
END:VEVENT
BEGIN:VEVENT
DTSTART;TZID=America/Los_Angeles:20250309T160000
DTEND;TZID=America/Los_Angeles:20250309T180000
DTSTAMP:20260424T082855
CREATED:20250126T172258Z
LAST-MODIFIED:20250126T172258Z
UID:17409-1741536000-1741543200@artsalliancedavis.org
SUMMARY:Stories on Stage
DESCRIPTION:This popular event\, featuring actors reading works by writers from Davis and beyond\, kicks off its 11th season with a new location (Sudwerk) and a new time (second Sundays\, 4-6 pm). \nBeer and wine available for purchase on tap\, featuring emcee Dr. Andy Jones. \nTo learn more about Stories on Stage\, click here.
URL:https://artsalliancedavis.org/event/stories-on-stage-14/
LOCATION:Sudwerk Brewing Co.\, 2001 2nd St\, Davis\, CA\, 95618\, United States
CATEGORIES:Books & Talks
ATTACH;FMTTYPE=image/jpeg:https://artsalliancedavis.org/wp-content/uploads/2024/09/Fixed-Final-9.8.24-SOSD-Flyer-MGVHlu.tmp_.jpg
END:VEVENT
BEGIN:VEVENT
DTSTART;TZID=America/Los_Angeles:20250309T170000
DTEND;TZID=America/Los_Angeles:20250309T190000
DTSTAMP:20260424T082855
CREATED:20241209T133550Z
LAST-MODIFIED:20241209T133550Z
UID:16479-1741539600-1741546800@artsalliancedavis.org
SUMMARY:Stories on Stage
DESCRIPTION:This popular event\, featuring actors reading works by writers from Davis and beyond\, kicks off its 11th season with a new location (Sudwerk) and a new time (second Sundays\, 5-7 pm). \nBeer and wine available for purchase on tap\, featuring emcee Dr. Andy Jones. \nTo learn more about Stories on Stage\, click here.
URL:https://artsalliancedavis.org/event/stories-on-stage-11/
LOCATION:Sudwerk Brewing Co.\, 2001 2nd St\, Davis\, CA\, 95618\, United States
CATEGORIES:Books & Talks
ATTACH;FMTTYPE=image/jpeg:https://artsalliancedavis.org/wp-content/uploads/2024/09/Fixed-Final-9.8.24-SOSD-Flyer-MGVHlu.tmp_.jpg
END:VEVENT
BEGIN:VEVENT
DTSTART;TZID=America/Los_Angeles:20250310T180000
DTEND;TZID=America/Los_Angeles:20250310T190000
DTSTAMP:20260424T082855
CREATED:20250310T150539Z
LAST-MODIFIED:20250310T150539Z
UID:17858-1741629600-1741633200@artsalliancedavis.org
SUMMARY:Author Night: Sacramento Noir
DESCRIPTION:THE AVID READER. Join  authors Jen Soong\, Luis Avalos\, José Vadi\, & Reyna Grande to celebrate the release of Sacramento Noir on March 10th at 6:00 PM. They will be joined in conversation by John Freeman. Jack Freeman writes in his introduction: “Here is Sacramento in all of its splendor & deep\, not-at-all-buried contradictions. A frontier city that quickly used its wealth to gather power. A locale that is somehow not quite sure it is still urban. Darkly compelling\, canopied\, gusted by river smells\, Sacramento emerges from these thirteen stories like a character itself.” 6p – 7p. Free.
URL:https://artsalliancedavis.org/event/author-night-sacramento-noir/
LOCATION:The Avid Reader\, 617 2nd St.
CATEGORIES:Books & Talks
ATTACH;FMTTYPE=image/png:https://artsalliancedavis.org/wp-content/uploads/2025/03/sacramento-noir-1-KCaoNL.tmp_.png
ORGANIZER;CN="The Avid Reader":MAILTO:avidreaderbooks@gmail.com
END:VEVENT
BEGIN:VEVENT
DTSTART;TZID=America/Los_Angeles:20250313T180000
DTEND;TZID=America/Los_Angeles:20250313T190000
DTSTAMP:20260424T082855
CREATED:20250311T151213Z
LAST-MODIFIED:20250311T151213Z
UID:17888-1741888800-1741892400@artsalliancedavis.org
SUMMARY:Author Talk: Grant Faulkner
DESCRIPTION:THE AVID READER. With increased compression\, every word\, every sentence matters more. A writer must learn how to form narratives around caesuras and crevices instead of strings of connections\, to move a story through the symbolic weight of images\, to master the power of suggestion. With elegant prose\, deep readings of other writers\, and scaffolded writing exercises\, The Art of Brevity takes the reader on a lyrical exploration of compact storytelling\, guiding readers to heighten their awareness of not only what appears on the page but also what doesn’t. Grant Faulkner is the executive director of National Novel Writing Month (NaNoWriMo) and the cofounder of 100 Word Story. 6p – 7p. Free.
URL:https://artsalliancedavis.org/event/author-talk-grant-faulkner/
LOCATION:The Avid Reader\, 617 2nd St.
CATEGORIES:Books & Talks
ATTACH;FMTTYPE=image/png:https://artsalliancedavis.org/wp-content/uploads/2025/03/Grant-Faulkner-acTcKm.tmp_.png
ORGANIZER;CN="The Avid Reader":MAILTO:avidreaderbooks@gmail.com
END:VEVENT
END:VCALENDAR