BEGIN:VCALENDAR
VERSION:2.0
PRODID:-//Arts Alliance Davis - ECPv6.15.20//NONSGML v1.0//EN
CALSCALE:GREGORIAN
METHOD:PUBLISH
X-WR-CALNAME:Arts Alliance Davis
X-ORIGINAL-URL:https://artsalliancedavis.org
X-WR-CALDESC:Events for Arts Alliance Davis
REFRESH-INTERVAL;VALUE=DURATION:PT1H
X-Robots-Tag:noindex
X-PUBLISHED-TTL:PT1H
BEGIN:VTIMEZONE
TZID:America/Los_Angeles
BEGIN:DAYLIGHT
TZOFFSETFROM:-0800
TZOFFSETTO:-0700
TZNAME:PDT
DTSTART:20240310T100000
END:DAYLIGHT
BEGIN:STANDARD
TZOFFSETFROM:-0700
TZOFFSETTO:-0800
TZNAME:PST
DTSTART:20241103T090000
END:STANDARD
BEGIN:DAYLIGHT
TZOFFSETFROM:-0800
TZOFFSETTO:-0700
TZNAME:PDT
DTSTART:20250309T100000
END:DAYLIGHT
BEGIN:STANDARD
TZOFFSETFROM:-0700
TZOFFSETTO:-0800
TZNAME:PST
DTSTART:20251102T090000
END:STANDARD
BEGIN:DAYLIGHT
TZOFFSETFROM:-0800
TZOFFSETTO:-0700
TZNAME:PDT
DTSTART:20260308T100000
END:DAYLIGHT
BEGIN:STANDARD
TZOFFSETFROM:-0700
TZOFFSETTO:-0800
TZNAME:PST
DTSTART:20261101T090000
END:STANDARD
END:VTIMEZONE
BEGIN:VEVENT
DTSTART;TZID=America/Los_Angeles:20251106T183000
DTEND;TZID=America/Los_Angeles:20251106T193000
DTSTAMP:20260423T203842
CREATED:20251022T154924Z
LAST-MODIFIED:20251022T154924Z
UID:21042-1762453800-1762457400@artsalliancedavis.org
SUMMARY:Author Talk: Sven-Erik Rose
DESCRIPTION:About the Author \nSven-Erik Rose is professor of German and of Comparative Literature at the University of California\, Davis. His first book\, Jewish Philosophical Politics in Germany\, 1789–1848\, was awarded the Jordan Schnitzer Book Award from the Association for Jewish Studies in the category of Philosophy and Jewish Thought. \nAbout the Book \nA study of literature written by Jewish authors while interned in Nazi ghettos emphasizes how authors processed their horrific experiences through poetry and prose. \nPublished in Association with the United States Holocaust Memorial Museum. \nThis is the first study devoted to how little known but essential authors grappled with the destitution of ghetto existence by writing within\, at the limits of\, and against an array of literary scenarios\, tropes\, plot lines\, and generic conventions\, including those of nature lyric\, modernist interior monologue\, the realist social novel\, the detective story\, and the gothic horror tale. Contending with starvation\, disease\, desperate housing conditions and the looming threat of being murdered\, inhabitants of ghettos in Poland nonetheless made them sites of rich Jewish cultural production. Rose’s readings of these literary works reveal how authors asserted their humanity by insisting on writing works of literature. In such radically dehumanizing circumstances\, however\, their recourse to established literary genres was not naive. Rather\, ghetto authors brilliantly meditated on the grotesque incongruities between established literary models and the extreme conditions of ghetto existence.
URL:https://artsalliancedavis.org/event/author-talk-sven-erik-rose/
LOCATION:The Avid Reader Bookstore\, 617 2nd St.\, Davis\, 95616
CATEGORIES:Books & Talks
ATTACH;FMTTYPE=image/png:https://artsalliancedavis.org/wp-content/uploads/2025/10/sven-erik-rose-GrWBGd.png
ORGANIZER;CN="The Avid Reader":MAILTO:avidreaderbooks@gmail.com
END:VEVENT
BEGIN:VEVENT
DTSTART;TZID=America/Los_Angeles:20251109T133000
DTEND;TZID=America/Los_Angeles:20251109T160000
DTSTAMP:20260423T203842
CREATED:20250825T152509Z
LAST-MODIFIED:20250825T152509Z
UID:20619-1762695000-1762704000@artsalliancedavis.org
SUMMARY:Davis Bookworms
DESCRIPTION:Do you love reading\, but hate being told what book to read? Are you intrigued by the idea of a book club\, but too busy to do the reading beforehand? If so\, then you’ll fit right in with the Davis Bookworms! We are a brand new “silent” book club\, in which everyone brings a book of their own choosing\, reads for an hour\, and then socializes for an hour. We meet every two weeks on Sunday at Nashoba Wines\, right here in Davis. So whether you’re feeling the Sunday Scaries\, or just love to read\, come join us for an afternoon of good books\, good wine\, and good company!
URL:https://artsalliancedavis.org/event/davis-bookworms-15/
LOCATION:Nashoba Wines\, 820 4th St\, Davis\, C\, 95616\, United States
CATEGORIES:Books & Talks,Community
ATTACH;FMTTYPE=image/jpeg:https://artsalliancedavis.org/wp-content/uploads/2025/04/Carl_Spitzweg_-__The_Bookworm_-1cDsdo.tmp_.jpg
ORGANIZER;CN="Davis Bookworms":MAILTO:davisbookworms@gmail.com
END:VEVENT
BEGIN:VEVENT
DTSTART;TZID=America/Los_Angeles:20251123T133000
DTEND;TZID=America/Los_Angeles:20251123T160000
DTSTAMP:20260423T203842
CREATED:20250825T152915Z
LAST-MODIFIED:20250825T152915Z
UID:20747-1763904600-1763913600@artsalliancedavis.org
SUMMARY:Davis Bookworms
DESCRIPTION:Do you love reading\, but hate being told what book to read? Are you intrigued by the idea of a book club\, but too busy to do the reading beforehand? If so\, then you’ll fit right in with the Davis Bookworms! We are a brand new “silent” book club\, in which everyone brings a book of their own choosing\, reads for an hour\, and then socializes for an hour. We meet every two weeks on Sunday at Nashoba Wines\, right here in Davis. So whether you’re feeling the Sunday Scaries\, or just love to read\, come join us for an afternoon of good books\, good wine\, and good company!
URL:https://artsalliancedavis.org/event/davis-bookworms-16/
LOCATION:Nashoba Wines\, 820 4th St\, Davis\, C\, 95616\, United States
CATEGORIES:Books & Talks,Community
ATTACH;FMTTYPE=image/jpeg:https://artsalliancedavis.org/wp-content/uploads/2025/04/Carl_Spitzweg_-__The_Bookworm_-1cDsdo.tmp_.jpg
ORGANIZER;CN="Davis Bookworms":MAILTO:davisbookworms@gmail.com
END:VEVENT
END:VCALENDAR