BEGIN:VCALENDAR
VERSION:2.0
PRODID:-//Arts Alliance Davis - ECPv6.15.20//NONSGML v1.0//EN
CALSCALE:GREGORIAN
METHOD:PUBLISH
X-WR-CALNAME:Arts Alliance Davis
X-ORIGINAL-URL:https://artsalliancedavis.org
X-WR-CALDESC:Events for Arts Alliance Davis
REFRESH-INTERVAL;VALUE=DURATION:PT1H
X-Robots-Tag:noindex
X-PUBLISHED-TTL:PT1H
BEGIN:VTIMEZONE
TZID:America/Los_Angeles
BEGIN:DAYLIGHT
TZOFFSETFROM:-0800
TZOFFSETTO:-0700
TZNAME:PDT
DTSTART:20240310T100000
END:DAYLIGHT
BEGIN:STANDARD
TZOFFSETFROM:-0700
TZOFFSETTO:-0800
TZNAME:PST
DTSTART:20241103T090000
END:STANDARD
BEGIN:DAYLIGHT
TZOFFSETFROM:-0800
TZOFFSETTO:-0700
TZNAME:PDT
DTSTART:20250309T100000
END:DAYLIGHT
BEGIN:STANDARD
TZOFFSETFROM:-0700
TZOFFSETTO:-0800
TZNAME:PST
DTSTART:20251102T090000
END:STANDARD
BEGIN:DAYLIGHT
TZOFFSETFROM:-0800
TZOFFSETTO:-0700
TZNAME:PDT
DTSTART:20260308T100000
END:DAYLIGHT
BEGIN:STANDARD
TZOFFSETFROM:-0700
TZOFFSETTO:-0800
TZNAME:PST
DTSTART:20261101T090000
END:STANDARD
END:VTIMEZONE
BEGIN:VEVENT
DTSTART;TZID=America/Los_Angeles:20251204T183000
DTEND;TZID=America/Los_Angeles:20251204T193000
DTSTAMP:20260423T164046
CREATED:20251107T231252Z
LAST-MODIFIED:20251107T231252Z
UID:22092-1764873000-1764876600@artsalliancedavis.org
SUMMARY:Author Talk: Catriona McPherson
DESCRIPTION:About the Author \nBorn and raised in Edinburgh\, Catriona McPherson left Edinburgh University with a PhD in Linguistics and worked in academia\, as well as banking and public libraries\, before taking up full-time writing in 2001. For the last ten years she has lived in Northern California with a black cat and a scientist. In 2020 she has been shortlisted for a third Mary Higgins Clark Award\, for Strangers at the Gate\, and won a Left Coast Crime 2020 Lefty Award for the Best Humorous Mystery for Scot and Soda. \nAbout the Book \nIt’s egg-hunt season\, but Lexy Campbell is spending Easter hunting a killer! \nNot even Cuento’s Easter bonnet parade can distract Lexy Campbell from conception woes and missing tourists Bill and Billie Miller. The Millers’ vintage Mustang has been abandoned\, its interior covered in blood. \nIs this a double murder\, and if so\, where are the bodies? Why were the Millers spending the night in their car? Did they pitch up at the Last Ditch Motel only to be turned away? Are they really dead? The Trinity for Trouble are quickly on the case! \nAs they start to identify the guests staying at the motel the weekend before Easter – including a Goth and a barbershop singer on stilts – disturbing evidence comes to light. Can Lexy see though all the deception to unmask the truth and save the Last Ditch? \nFans of Janet Evanovich and Sarah Strohmeyer will fall head over heels for this addictive mystery that’s full of twists and laugh out loud humour.
URL:https://artsalliancedavis.org/event/author-talk-catriona-mcpherson/
LOCATION:The Avid Reader Bookstore\, 617 2nd St.\, Davis\, 95616
CATEGORIES:Books & Talks
ATTACH;FMTTYPE=image/png:https://artsalliancedavis.org/wp-content/uploads/2025/11/catriona-mcpherson-1-ub2mDP.png
ORGANIZER;CN="The Avid Reader":MAILTO:avidreaderbooks@gmail.com
END:VEVENT
BEGIN:VEVENT
DTSTART;TZID=America/Los_Angeles:20251207T133000
DTEND;TZID=America/Los_Angeles:20251207T160000
DTSTAMP:20260423T164046
CREATED:20251022T160220Z
LAST-MODIFIED:20251022T160220Z
UID:21287-1765114200-1765123200@artsalliancedavis.org
SUMMARY:Davis Bookworms
DESCRIPTION:Do you love reading\, but hate being told what book to read? Are you intrigued by the idea of a book club\, but too busy to do the reading beforehand? If so\, then you’ll fit right in with the Davis Bookworms! We are a brand new “silent” book club\, in which everyone brings a book of their own choosing\, reads for an hour\, and then socializes for an hour. We meet every two weeks on Sunday at Nashoba Wines\, right here in Davis. So whether you’re feeling the Sunday Scaries\, or just love to read\, come join us for an afternoon of good books\, good wine\, and good company!
URL:https://artsalliancedavis.org/event/davis-bookworms-17/
LOCATION:Nashoba Wines\, 820 4th St\, Davis\, C\, 95616\, United States
CATEGORIES:Books & Talks,Community
ATTACH;FMTTYPE=image/jpeg:https://artsalliancedavis.org/wp-content/uploads/2025/04/Carl_Spitzweg_-__The_Bookworm_-1cDsdo.tmp_.jpg
ORGANIZER;CN="Davis Bookworms":MAILTO:davisbookworms@gmail.com
END:VEVENT
BEGIN:VEVENT
DTSTART;TZID=America/Los_Angeles:20251221T133000
DTEND;TZID=America/Los_Angeles:20251221T160000
DTSTAMP:20260423T164046
CREATED:20251022T160716Z
LAST-MODIFIED:20251022T160716Z
UID:21433-1766323800-1766332800@artsalliancedavis.org
SUMMARY:Davis Bookworms
DESCRIPTION:Do you love reading\, but hate being told what book to read? Are you intrigued by the idea of a book club\, but too busy to do the reading beforehand? If so\, then you’ll fit right in with the Davis Bookworms! We are a brand new “silent” book club\, in which everyone brings a book of their own choosing\, reads for an hour\, and then socializes for an hour. We meet every two weeks on Sunday at Nashoba Wines\, right here in Davis. So whether you’re feeling the Sunday Scaries\, or just love to read\, come join us for an afternoon of good books\, good wine\, and good company!
URL:https://artsalliancedavis.org/event/davis-bookworms-18/
LOCATION:Nashoba Wines\, 820 4th St\, Davis\, C\, 95616\, United States
CATEGORIES:Books & Talks,Community
ATTACH;FMTTYPE=image/jpeg:https://artsalliancedavis.org/wp-content/uploads/2025/04/Carl_Spitzweg_-__The_Bookworm_-1cDsdo.tmp_.jpg
ORGANIZER;CN="Davis Bookworms":MAILTO:davisbookworms@gmail.com
END:VEVENT
END:VCALENDAR