BEGIN:VCALENDAR
VERSION:2.0
PRODID:-//Arts Alliance Davis - ECPv6.15.20//NONSGML v1.0//EN
CALSCALE:GREGORIAN
METHOD:PUBLISH
X-WR-CALNAME:Arts Alliance Davis
X-ORIGINAL-URL:https://artsalliancedavis.org
X-WR-CALDESC:Events for Arts Alliance Davis
REFRESH-INTERVAL;VALUE=DURATION:PT1H
X-Robots-Tag:noindex
X-PUBLISHED-TTL:PT1H
BEGIN:VTIMEZONE
TZID:America/Los_Angeles
BEGIN:DAYLIGHT
TZOFFSETFROM:-0800
TZOFFSETTO:-0700
TZNAME:PDT
DTSTART:20250309T100000
END:DAYLIGHT
BEGIN:STANDARD
TZOFFSETFROM:-0700
TZOFFSETTO:-0800
TZNAME:PST
DTSTART:20251102T090000
END:STANDARD
BEGIN:DAYLIGHT
TZOFFSETFROM:-0800
TZOFFSETTO:-0700
TZNAME:PDT
DTSTART:20260308T100000
END:DAYLIGHT
BEGIN:STANDARD
TZOFFSETFROM:-0700
TZOFFSETTO:-0800
TZNAME:PST
DTSTART:20261101T090000
END:STANDARD
BEGIN:DAYLIGHT
TZOFFSETFROM:-0800
TZOFFSETTO:-0700
TZNAME:PDT
DTSTART:20270314T100000
END:DAYLIGHT
BEGIN:STANDARD
TZOFFSETFROM:-0700
TZOFFSETTO:-0800
TZNAME:PST
DTSTART:20271107T090000
END:STANDARD
END:VTIMEZONE
BEGIN:VEVENT
DTSTART;TZID=America/Los_Angeles:20260110T183000
DTEND;TZID=America/Los_Angeles:20260110T193000
DTSTAMP:20260423T215943
CREATED:20251205T205948Z
LAST-MODIFIED:20251205T205948Z
UID:22588-1768069800-1768073400@artsalliancedavis.org
SUMMARY:Author Talk: Sasha Abramsky
DESCRIPTION:About the Book \nA gripping narrative of federal workers caught in Trump’s second-term purge\, and the devastating consequences for American democracy. \nAmerican Carnage follows eleven federal workers\, in eight government agencies\, from the time they were told they were fired in the early weeks of Donald Trump’s second presidential administration through to the summer of 2025. With Trump having empowered the world’s richest man\, Elon Musk\, and his Department of Government Efficiency\, to make dramatic cuts to many of the country’s most important agencies\, what unfolded in these months was a cascading tragedy of historic proportions. \nTheir stories\, which show a country in a profound moment of crisis and dislocation\, are America’s stories. What happened to them—the bullying\, the intimidation\, the deliberate removal of financial stability—also happened to hundreds of thousands of other employees. A fierce reckoning with the intimate and far-reaching effects of these layoffs\, both on the individuals who lost their jobs and on the millions of Americans who found their access to basic government services curtailed\, American Carnage is the first book-length account of how these cuts dulled and denuded our city on the hill\, leaving a morally impoverished landscape in their wake. \nAbout the Author \nSasha Abramsky is The Nation’s Western correspondent and the author of a weekly political column for the magazine. His work has also appeared in The Atlantic\, The New Yorker Online\, The New Republic\, The Village Voice\, The Guardian\, Rolling Stone\, and many other publications. He is the author of eleven books\, including The American Way of Poverty: How the Other Half Still Lives\, The House of Twenty Thousand Books\, Little Wonder: The Fabulous Story of Lottie Dod\, the World’s First Female Sports Superstar\, and Chaos Comes Calling: The Battle Against the Far-Right Takeover of Small-Town America. Abramsky teaches writing at UC Davis. Follow him on Bluesky at @sashaabramsky.bsky.social.
URL:https://artsalliancedavis.org/event/author-talk-sasha-abramsky-2/
LOCATION:The Avid Reader Bookstore\, 617 2nd St.\, Davis\, 95616
CATEGORIES:Books & Talks
ATTACH;FMTTYPE=image/png:https://artsalliancedavis.org/wp-content/uploads/2025/12/Sasha-Abramsky-dpzi42.png
ORGANIZER;CN="The Avid Reader":MAILTO:avidreaderbooks@gmail.com
END:VEVENT
END:VCALENDAR