BEGIN:VCALENDAR
VERSION:2.0
PRODID:-//Arts Alliance Davis - ECPv6.15.20//NONSGML v1.0//EN
CALSCALE:GREGORIAN
METHOD:PUBLISH
X-WR-CALNAME:Arts Alliance Davis
X-ORIGINAL-URL:https://artsalliancedavis.org
X-WR-CALDESC:Events for Arts Alliance Davis
REFRESH-INTERVAL;VALUE=DURATION:PT1H
X-Robots-Tag:noindex
X-PUBLISHED-TTL:PT1H
BEGIN:VTIMEZONE
TZID:America/Los_Angeles
BEGIN:DAYLIGHT
TZOFFSETFROM:-0800
TZOFFSETTO:-0700
TZNAME:PDT
DTSTART:20240310T100000
END:DAYLIGHT
BEGIN:STANDARD
TZOFFSETFROM:-0700
TZOFFSETTO:-0800
TZNAME:PST
DTSTART:20241103T090000
END:STANDARD
BEGIN:DAYLIGHT
TZOFFSETFROM:-0800
TZOFFSETTO:-0700
TZNAME:PDT
DTSTART:20250309T100000
END:DAYLIGHT
BEGIN:STANDARD
TZOFFSETFROM:-0700
TZOFFSETTO:-0800
TZNAME:PST
DTSTART:20251102T090000
END:STANDARD
BEGIN:DAYLIGHT
TZOFFSETFROM:-0800
TZOFFSETTO:-0700
TZNAME:PDT
DTSTART:20260308T100000
END:DAYLIGHT
BEGIN:STANDARD
TZOFFSETFROM:-0700
TZOFFSETTO:-0800
TZNAME:PST
DTSTART:20261101T090000
END:STANDARD
END:VTIMEZONE
BEGIN:VEVENT
DTSTART;TZID=America/Los_Angeles:20250822T100000
DTEND;TZID=America/Los_Angeles:20250822T160000
DTSTAMP:20260424T183837
CREATED:20250821T141826Z
LAST-MODIFIED:20250821T141826Z
UID:19562-1755856800-1755878400@artsalliancedavis.org
SUMMARY:Capay Lavender June Bloom
DESCRIPTION:Stroll among blooming lavender rows and take part in lavender distillation demos\, wreath-making workshops\, and product sampling at the Capay Valley Lavender Farm. Guests can shop handcrafted body products\, culinary items\, and essential oils—all made with farm-grown lavender. New this year: guided tours and a sensory garden experience for children.
URL:https://artsalliancedavis.org/event/capay-lavender-june-bloom/
LOCATION:Capay Valley Lavendar Farm\, Capay Valley Lavender\, County Road 79\, Capay\, CA\, 95607
CATEGORIES:Art,Community,Food & Drink,Outside,Shopping
ATTACH;FMTTYPE=image/jpeg:https://artsalliancedavis.org/wp-content/uploads/2025/08/dtmavisityololavenderfarm-14-SDULz3.jpg
ORGANIZER;CN="Capay Valley Lavender":MAILTO:sherri@capayvalleylavender.com
END:VEVENT
BEGIN:VEVENT
DTSTART;TZID=America/Los_Angeles:20250823T100000
DTEND;TZID=America/Los_Angeles:20250823T160000
DTSTAMP:20260424T183837
CREATED:20250821T141913Z
LAST-MODIFIED:20250821T141913Z
UID:19585-1755943200-1755964800@artsalliancedavis.org
SUMMARY:Capay Lavender June Bloom
DESCRIPTION:Stroll among blooming lavender rows and take part in lavender distillation demos\, wreath-making workshops\, and product sampling at the Capay Valley Lavender Farm. Guests can shop handcrafted body products\, culinary items\, and essential oils—all made with farm-grown lavender. New this year: guided tours and a sensory garden experience for children.
URL:https://artsalliancedavis.org/event/capay-lavender-june-bloom-2/
LOCATION:Capay Valley Lavendar Farm\, Capay Valley Lavender\, County Road 79\, Capay\, CA\, 95607
CATEGORIES:Art,Community,Food & Drink,Outside,Shopping
ATTACH;FMTTYPE=image/jpeg:https://artsalliancedavis.org/wp-content/uploads/2025/08/dtmavisityololavenderfarm-14-SDULz3.jpg
ORGANIZER;CN="Capay Valley Lavender":MAILTO:sherri@capayvalleylavender.com
END:VEVENT
BEGIN:VEVENT
DTSTART;TZID=America/Los_Angeles:20250823T160000
DTEND;TZID=America/Los_Angeles:20250823T200000
DTSTAMP:20260424T183837
CREATED:20250821T141916Z
LAST-MODIFIED:20250821T141916Z
UID:19594-1755964800-1755979200@artsalliancedavis.org
SUMMARY:CAFF’s Summer Soiree 2025
DESCRIPTION:Join Community Alliance with Family Farmers for our annual Summer Soirée at beautiful Full Belly Farm in the Capay Valley. Since 1978\, CAFF has championed California’s family farmers\, and in 2025\, that mission is more vital than ever. \nAs small farms face mounting threats—from climate change to funding cuts to attempts at tearing our communities apart—CAFF stands strong. The Summer Soirée is a celebration of that resilience and a rally for the road ahead. \np Together\, we can defend family farms and build a stronger\, more just food system.
URL:https://artsalliancedavis.org/event/caffs-summer-soiree-2025/
LOCATION:Full Belly Farm\, 15730 County Road 43\, Guinda\, C\, 95637\, United States
CATEGORIES:Food & Drink,Outside
ATTACH;FMTTYPE=image/jpeg:https://artsalliancedavis.org/wp-content/uploads/2025/08/2506_DEV_Summer_Soiree_1920_x_1080_px-yWk5ED.jpg
ORGANIZER;CN="CAFF":MAILTO:info@caff.org
END:VEVENT
BEGIN:VEVENT
DTSTART;TZID=America/Los_Angeles:20250824T100000
DTEND;TZID=America/Los_Angeles:20250824T160000
DTSTAMP:20260424T183837
CREATED:20250821T141934Z
LAST-MODIFIED:20250821T141934Z
UID:19603-1756029600-1756051200@artsalliancedavis.org
SUMMARY:Capay Lavender June Bloom
DESCRIPTION:Stroll among blooming lavender rows and take part in lavender distillation demos\, wreath-making workshops\, and product sampling at the Capay Valley Lavender Farm. Guests can shop handcrafted body products\, culinary items\, and essential oils—all made with farm-grown lavender. New this year: guided tours and a sensory garden experience for children.
URL:https://artsalliancedavis.org/event/capay-lavender-june-bloom-3/
LOCATION:Capay Valley Lavendar Farm\, Capay Valley Lavender\, County Road 79\, Capay\, CA\, 95607
CATEGORIES:Art,Community,Food & Drink,Outside,Shopping
ATTACH;FMTTYPE=image/jpeg:https://artsalliancedavis.org/wp-content/uploads/2025/08/dtmavisityololavenderfarm-14-SDULz3.jpg
ORGANIZER;CN="Capay Valley Lavender":MAILTO:sherri@capayvalleylavender.com
END:VEVENT
BEGIN:VEVENT
DTSTART;TZID=America/Los_Angeles:20250829T100000
DTEND;TZID=America/Los_Angeles:20250829T160000
DTSTAMP:20260424T183837
CREATED:20250821T142154Z
LAST-MODIFIED:20250821T142154Z
UID:19674-1756461600-1756483200@artsalliancedavis.org
SUMMARY:Capay Lavender June Bloom
DESCRIPTION:Stroll among blooming lavender rows and take part in lavender distillation demos\, wreath-making workshops\, and product sampling at the Capay Valley Lavender Farm. Guests can shop handcrafted body products\, culinary items\, and essential oils—all made with farm-grown lavender. New this year: guided tours and a sensory garden experience for children.
URL:https://artsalliancedavis.org/event/capay-lavender-june-bloom-4/
LOCATION:Capay Valley Lavendar Farm\, Capay Valley Lavender\, County Road 79\, Capay\, CA\, 95607
CATEGORIES:Art,Community,Food & Drink,Outside,Shopping
ATTACH;FMTTYPE=image/jpeg:https://artsalliancedavis.org/wp-content/uploads/2025/08/dtmavisityololavenderfarm-14-SDULz3.jpg
ORGANIZER;CN="Capay Valley Lavender":MAILTO:sherri@capayvalleylavender.com
END:VEVENT
BEGIN:VEVENT
DTSTART;TZID=America/Los_Angeles:20250830T100000
DTEND;TZID=America/Los_Angeles:20250830T160000
DTSTAMP:20260424T183837
CREATED:20250821T142219Z
LAST-MODIFIED:20250821T142219Z
UID:19688-1756548000-1756569600@artsalliancedavis.org
SUMMARY:Capay Lavender June Bloom
DESCRIPTION:Stroll among blooming lavender rows and take part in lavender distillation demos\, wreath-making workshops\, and product sampling at the Capay Valley Lavender Farm. Guests can shop handcrafted body products\, culinary items\, and essential oils—all made with farm-grown lavender. New this year: guided tours and a sensory garden experience for children.
URL:https://artsalliancedavis.org/event/capay-lavender-june-bloom-5/
LOCATION:Capay Valley Lavendar Farm\, Capay Valley Lavender\, County Road 79\, Capay\, CA\, 95607
CATEGORIES:Art,Community,Food & Drink,Outside,Shopping
ATTACH;FMTTYPE=image/jpeg:https://artsalliancedavis.org/wp-content/uploads/2025/08/dtmavisityololavenderfarm-14-SDULz3.jpg
ORGANIZER;CN="Capay Valley Lavender":MAILTO:sherri@capayvalleylavender.com
END:VEVENT
BEGIN:VEVENT
DTSTART;TZID=America/Los_Angeles:20250831T100000
DTEND;TZID=America/Los_Angeles:20250831T160000
DTSTAMP:20260424T183838
CREATED:20250821T142233Z
LAST-MODIFIED:20250821T142233Z
UID:19694-1756634400-1756656000@artsalliancedavis.org
SUMMARY:Capay Lavender June Bloom
DESCRIPTION:Stroll among blooming lavender rows and take part in lavender distillation demos\, wreath-making workshops\, and product sampling at the Capay Valley Lavender Farm. Guests can shop handcrafted body products\, culinary items\, and essential oils—all made with farm-grown lavender. New this year: guided tours and a sensory garden experience for children.
URL:https://artsalliancedavis.org/event/capay-lavender-june-bloom-6/
LOCATION:Capay Valley Lavendar Farm\, Capay Valley Lavender\, County Road 79\, Capay\, CA\, 95607
CATEGORIES:Art,Community,Food & Drink,Outside,Shopping
ATTACH;FMTTYPE=image/jpeg:https://artsalliancedavis.org/wp-content/uploads/2025/08/dtmavisityololavenderfarm-14-SDULz3.jpg
ORGANIZER;CN="Capay Valley Lavender":MAILTO:sherri@capayvalleylavender.com
END:VEVENT
END:VCALENDAR