BEGIN:VCALENDAR
VERSION:2.0
PRODID:-//Arts Alliance Davis - ECPv6.15.20//NONSGML v1.0//EN
CALSCALE:GREGORIAN
METHOD:PUBLISH
X-ORIGINAL-URL:https://artsalliancedavis.org
X-WR-CALDESC:Events for Arts Alliance Davis
REFRESH-INTERVAL;VALUE=DURATION:PT1H
X-Robots-Tag:noindex
X-PUBLISHED-TTL:PT1H
BEGIN:VTIMEZONE
TZID:America/Los_Angeles
BEGIN:DAYLIGHT
TZOFFSETFROM:-0800
TZOFFSETTO:-0700
TZNAME:PDT
DTSTART:20240310T100000
END:DAYLIGHT
BEGIN:STANDARD
TZOFFSETFROM:-0700
TZOFFSETTO:-0800
TZNAME:PST
DTSTART:20241103T090000
END:STANDARD
BEGIN:DAYLIGHT
TZOFFSETFROM:-0800
TZOFFSETTO:-0700
TZNAME:PDT
DTSTART:20250309T100000
END:DAYLIGHT
BEGIN:STANDARD
TZOFFSETFROM:-0700
TZOFFSETTO:-0800
TZNAME:PST
DTSTART:20251102T090000
END:STANDARD
BEGIN:DAYLIGHT
TZOFFSETFROM:-0800
TZOFFSETTO:-0700
TZNAME:PDT
DTSTART:20260308T100000
END:DAYLIGHT
BEGIN:STANDARD
TZOFFSETFROM:-0700
TZOFFSETTO:-0800
TZNAME:PST
DTSTART:20261101T090000
END:STANDARD
END:VTIMEZONE
BEGIN:VEVENT
DTSTART;TZID=America/Los_Angeles:20251003T100000
DTEND;TZID=America/Los_Angeles:20251003T160000
DTSTAMP:20260424T160400
CREATED:20250822T144716Z
LAST-MODIFIED:20250822T144716Z
UID:20158-1759485600-1759507200@artsalliancedavis.org
SUMMARY:Capay Lavender June Bloom
DESCRIPTION:Stroll among blooming lavender rows and take part in lavender distillation demos\, wreath-making workshops\, and product sampling at the Capay Valley Lavender Farm. Guests can shop handcrafted body products\, culinary items\, and essential oils—all made with farm-grown lavender. New this year: guided tours and a sensory garden experience for children.
URL:https://artsalliancedavis.org/event/capay-lavender-june-bloom-19/
LOCATION:Capay Valley Lavendar Farm\, Capay Valley Lavender\, County Road 79\, Capay\, CA\, 95607
CATEGORIES:Art,Community,Food & Drink,Outside,Shopping
ATTACH;FMTTYPE=image/jpeg:https://artsalliancedavis.org/wp-content/uploads/2025/08/dtmavisityololavenderfarm-14-SDULz3.jpg
ORGANIZER;CN="Capay Valley Lavender":MAILTO:sherri@capayvalleylavender.com
END:VEVENT
BEGIN:VEVENT
DTSTART;TZID=America/Los_Angeles:20251004T100000
DTEND;TZID=America/Los_Angeles:20251004T160000
DTSTAMP:20260424T160400
CREATED:20250822T144736Z
LAST-MODIFIED:20250822T144736Z
UID:20172-1759572000-1759593600@artsalliancedavis.org
SUMMARY:Capay Lavender June Bloom
DESCRIPTION:Stroll among blooming lavender rows and take part in lavender distillation demos\, wreath-making workshops\, and product sampling at the Capay Valley Lavender Farm. Guests can shop handcrafted body products\, culinary items\, and essential oils—all made with farm-grown lavender. New this year: guided tours and a sensory garden experience for children.
URL:https://artsalliancedavis.org/event/capay-lavender-june-bloom-20/
LOCATION:Capay Valley Lavendar Farm\, Capay Valley Lavender\, County Road 79\, Capay\, CA\, 95607
CATEGORIES:Art,Community,Food & Drink,Outside,Shopping
ATTACH;FMTTYPE=image/jpeg:https://artsalliancedavis.org/wp-content/uploads/2025/08/dtmavisityololavenderfarm-14-SDULz3.jpg
ORGANIZER;CN="Capay Valley Lavender":MAILTO:sherri@capayvalleylavender.com
END:VEVENT
BEGIN:VEVENT
DTSTART;TZID=America/Los_Angeles:20251005T100000
DTEND;TZID=America/Los_Angeles:20251005T160000
DTSTAMP:20260424T160400
CREATED:20250822T144753Z
LAST-MODIFIED:20250822T144753Z
UID:20179-1759658400-1759680000@artsalliancedavis.org
SUMMARY:Capay Lavender June Bloom
DESCRIPTION:Stroll among blooming lavender rows and take part in lavender distillation demos\, wreath-making workshops\, and product sampling at the Capay Valley Lavender Farm. Guests can shop handcrafted body products\, culinary items\, and essential oils—all made with farm-grown lavender. New this year: guided tours and a sensory garden experience for children.
URL:https://artsalliancedavis.org/event/capay-lavender-june-bloom-21/
LOCATION:Capay Valley Lavendar Farm\, Capay Valley Lavender\, County Road 79\, Capay\, CA\, 95607
CATEGORIES:Art,Community,Food & Drink,Outside,Shopping
ATTACH;FMTTYPE=image/jpeg:https://artsalliancedavis.org/wp-content/uploads/2025/08/dtmavisityololavenderfarm-14-SDULz3.jpg
ORGANIZER;CN="Capay Valley Lavender":MAILTO:sherri@capayvalleylavender.com
END:VEVENT
BEGIN:VEVENT
DTSTART;TZID=America/Los_Angeles:20251010T100000
DTEND;TZID=America/Los_Angeles:20251010T160000
DTSTAMP:20260424T160400
CREATED:20250822T144853Z
LAST-MODIFIED:20250822T144853Z
UID:20214-1760090400-1760112000@artsalliancedavis.org
SUMMARY:Capay Lavender June Bloom
DESCRIPTION:Stroll among blooming lavender rows and take part in lavender distillation demos\, wreath-making workshops\, and product sampling at the Capay Valley Lavender Farm. Guests can shop handcrafted body products\, culinary items\, and essential oils—all made with farm-grown lavender. New this year: guided tours and a sensory garden experience for children.
URL:https://artsalliancedavis.org/event/capay-lavender-june-bloom-22/
LOCATION:Capay Valley Lavendar Farm\, Capay Valley Lavender\, County Road 79\, Capay\, CA\, 95607
CATEGORIES:Art,Community,Food & Drink,Outside,Shopping
ATTACH;FMTTYPE=image/jpeg:https://artsalliancedavis.org/wp-content/uploads/2025/08/dtmavisityololavenderfarm-14-SDULz3.jpg
ORGANIZER;CN="Capay Valley Lavender":MAILTO:sherri@capayvalleylavender.com
END:VEVENT
BEGIN:VEVENT
DTSTART;TZID=America/Los_Angeles:20251011T100000
DTEND;TZID=America/Los_Angeles:20251011T160000
DTSTAMP:20260424T160400
CREATED:20250822T144915Z
LAST-MODIFIED:20250822T144915Z
UID:20226-1760176800-1760198400@artsalliancedavis.org
SUMMARY:Capay Lavender June Bloom
DESCRIPTION:Stroll among blooming lavender rows and take part in lavender distillation demos\, wreath-making workshops\, and product sampling at the Capay Valley Lavender Farm. Guests can shop handcrafted body products\, culinary items\, and essential oils—all made with farm-grown lavender. New this year: guided tours and a sensory garden experience for children.
URL:https://artsalliancedavis.org/event/capay-lavender-june-bloom-23/
LOCATION:Capay Valley Lavendar Farm\, Capay Valley Lavender\, County Road 79\, Capay\, CA\, 95607
CATEGORIES:Art,Community,Food & Drink,Outside,Shopping
ATTACH;FMTTYPE=image/jpeg:https://artsalliancedavis.org/wp-content/uploads/2025/08/dtmavisityololavenderfarm-14-SDULz3.jpg
ORGANIZER;CN="Capay Valley Lavender":MAILTO:sherri@capayvalleylavender.com
END:VEVENT
END:VCALENDAR