BEGIN:VCALENDAR
VERSION:2.0
PRODID:-//Arts Alliance Davis - ECPv6.15.20//NONSGML v1.0//EN
CALSCALE:GREGORIAN
METHOD:PUBLISH
X-WR-CALNAME:Arts Alliance Davis
X-ORIGINAL-URL:https://artsalliancedavis.org
X-WR-CALDESC:Events for Arts Alliance Davis
REFRESH-INTERVAL;VALUE=DURATION:PT1H
X-Robots-Tag:noindex
X-PUBLISHED-TTL:PT1H
BEGIN:VTIMEZONE
TZID:America/Los_Angeles
BEGIN:DAYLIGHT
TZOFFSETFROM:-0800
TZOFFSETTO:-0700
TZNAME:PDT
DTSTART:20240310T100000
END:DAYLIGHT
BEGIN:STANDARD
TZOFFSETFROM:-0700
TZOFFSETTO:-0800
TZNAME:PST
DTSTART:20241103T090000
END:STANDARD
BEGIN:DAYLIGHT
TZOFFSETFROM:-0800
TZOFFSETTO:-0700
TZNAME:PDT
DTSTART:20250309T100000
END:DAYLIGHT
BEGIN:STANDARD
TZOFFSETFROM:-0700
TZOFFSETTO:-0800
TZNAME:PST
DTSTART:20251102T090000
END:STANDARD
BEGIN:DAYLIGHT
TZOFFSETFROM:-0800
TZOFFSETTO:-0700
TZNAME:PDT
DTSTART:20260308T100000
END:DAYLIGHT
BEGIN:STANDARD
TZOFFSETFROM:-0700
TZOFFSETTO:-0800
TZNAME:PST
DTSTART:20261101T090000
END:STANDARD
END:VTIMEZONE
BEGIN:VEVENT
DTSTART;TZID=America/Los_Angeles:20251207T110000
DTEND;TZID=America/Los_Angeles:20251207T150000
DTSTAMP:20260424T132257
CREATED:20251124T174012Z
LAST-MODIFIED:20251124T174012Z
UID:22382-1765105200-1765119600@artsalliancedavis.org
SUMMARY:Capay Valley Grown Holiday Gift Trail
DESCRIPTION:Get all your holiday shopping done on Sunday\, December 7 in the Capay Valley. Over 15 different farms\, small businesses\, and artists from Esparto to Guinda will be open for holiday shopping for friends\, family\, or yourself. Pick up local produce\, jams\, dried fruit\, wreaths\, olive oil\, flour\, wine\, yarn\, art\, and more!
URL:https://artsalliancedavis.org/event/capay-valley-grown-holiday-gift-trail/
LOCATION:Capay Valley\, United States
CATEGORIES:Community,Shopping
ATTACH;FMTTYPE=image/png:https://artsalliancedavis.org/wp-content/uploads/2025/11/Banner_Holiday-Gift-Trail-copy-oEyt4j.png
ORGANIZER;CN="Capay Valley Vision":MAILTO:info@capayvalleyvision.org
END:VEVENT
END:VCALENDAR