BEGIN:VCALENDAR
VERSION:2.0
PRODID:-//Arts Alliance Davis - ECPv6.15.20//NONSGML v1.0//EN
CALSCALE:GREGORIAN
METHOD:PUBLISH
X-ORIGINAL-URL:https://artsalliancedavis.org
X-WR-CALDESC:Events for Arts Alliance Davis
REFRESH-INTERVAL;VALUE=DURATION:PT1H
X-Robots-Tag:noindex
X-PUBLISHED-TTL:PT1H
BEGIN:VTIMEZONE
TZID:America/Los_Angeles
BEGIN:DAYLIGHT
TZOFFSETFROM:-0800
TZOFFSETTO:-0700
TZNAME:PDT
DTSTART:20230312T100000
END:DAYLIGHT
BEGIN:STANDARD
TZOFFSETFROM:-0700
TZOFFSETTO:-0800
TZNAME:PST
DTSTART:20231105T090000
END:STANDARD
BEGIN:DAYLIGHT
TZOFFSETFROM:-0800
TZOFFSETTO:-0700
TZNAME:PDT
DTSTART:20240310T100000
END:DAYLIGHT
BEGIN:STANDARD
TZOFFSETFROM:-0700
TZOFFSETTO:-0800
TZNAME:PST
DTSTART:20241103T090000
END:STANDARD
BEGIN:DAYLIGHT
TZOFFSETFROM:-0800
TZOFFSETTO:-0700
TZNAME:PDT
DTSTART:20250309T100000
END:DAYLIGHT
BEGIN:STANDARD
TZOFFSETFROM:-0700
TZOFFSETTO:-0800
TZNAME:PST
DTSTART:20251102T090000
END:STANDARD
END:VTIMEZONE
BEGIN:VEVENT
DTSTART;TZID=America/Los_Angeles:20240718T180000
DTEND;TZID=America/Los_Angeles:20240718T200000
DTSTAMP:20260424T204548
CREATED:20240419T114036Z
LAST-MODIFIED:20240419T114036Z
UID:12536-1721325600-1721332800@artsalliancedavis.org
SUMMARY:DAWN Networking Party
DESCRIPTION:Dawn is the Davis Area Women’s Network\nWhether you live or work in the area this community of supportive women will welcome you! Come make new friends\, and business connections\, and learn about volunteer opportunities and other ways to get involved! \nJoin us for a fabulous and fun evening of building connections.  We’re serving mocktails and a spread of yummy treats. \nThe event is free for paid members.\nTickets are $10-20 \n 
URL:https://artsalliancedavis.org/event/dawn-networking-party-6/
LOCATION:Stonegate Country Club\, 919 Lake Blvd\, Davis\, CA\, 95616\, United States
CATEGORIES:Community
ATTACH;FMTTYPE=image/jpeg:https://artsalliancedavis.org/wp-content/uploads/2024/02/DAWN-Summer-23-sq-kZ2pYZ.tmp_.jpg
ORGANIZER;CN="Elissa Kennedy Coaching":MAILTO:ibelong@elissakennedy.com
END:VEVENT
END:VCALENDAR