BEGIN:VCALENDAR
VERSION:2.0
PRODID:-//Arts Alliance Davis - ECPv6.15.20//NONSGML v1.0//EN
CALSCALE:GREGORIAN
METHOD:PUBLISH
X-ORIGINAL-URL:https://artsalliancedavis.org
X-WR-CALDESC:Events for Arts Alliance Davis
REFRESH-INTERVAL;VALUE=DURATION:PT1H
X-Robots-Tag:noindex
X-PUBLISHED-TTL:PT1H
BEGIN:VTIMEZONE
TZID:America/Los_Angeles
BEGIN:DAYLIGHT
TZOFFSETFROM:-0800
TZOFFSETTO:-0700
TZNAME:PDT
DTSTART:20230312T100000
END:DAYLIGHT
BEGIN:STANDARD
TZOFFSETFROM:-0700
TZOFFSETTO:-0800
TZNAME:PST
DTSTART:20231105T090000
END:STANDARD
BEGIN:DAYLIGHT
TZOFFSETFROM:-0800
TZOFFSETTO:-0700
TZNAME:PDT
DTSTART:20240310T100000
END:DAYLIGHT
BEGIN:STANDARD
TZOFFSETFROM:-0700
TZOFFSETTO:-0800
TZNAME:PST
DTSTART:20241103T090000
END:STANDARD
BEGIN:DAYLIGHT
TZOFFSETFROM:-0800
TZOFFSETTO:-0700
TZNAME:PDT
DTSTART:20250309T100000
END:DAYLIGHT
BEGIN:STANDARD
TZOFFSETFROM:-0700
TZOFFSETTO:-0800
TZNAME:PST
DTSTART:20251102T090000
END:STANDARD
END:VTIMEZONE
BEGIN:VEVENT
DTSTART;TZID=America/Los_Angeles:20241231T100000
DTEND;TZID=America/Los_Angeles:20241231T140000
DTSTAMP:20260424T141137
CREATED:20241207T122815Z
LAST-MODIFIED:20241207T122815Z
UID:16453-1735639200-1735653600@artsalliancedavis.org
SUMMARY:Noon Year at Explorit
DESCRIPTION:Celebrate New Year’s at Midday at Explorit’s Noon Year Celebration! Crafts\, photo booths\, fun\, and a balloon drop at noon. Admission is $5 per person.
URL:https://artsalliancedavis.org/event/noon-year-at-explorit-2/
LOCATION:Explorit Science Center (Explorit)\, 3141 5th St.
CATEGORIES:Bring the Kids,Featured,Science
ATTACH;FMTTYPE=image/png:https://artsalliancedavis.org/wp-content/uploads/2024/12/NoonYear-MNmq1I.tmp_.png
ORGANIZER;CN="Explorit Science Center":MAILTO:explorit@explorit.org
END:VEVENT
END:VCALENDAR