BEGIN:VCALENDAR
VERSION:2.0
PRODID:-//Arts Alliance Davis - ECPv6.15.20//NONSGML v1.0//EN
CALSCALE:GREGORIAN
METHOD:PUBLISH
X-WR-CALNAME:Arts Alliance Davis
X-ORIGINAL-URL:https://artsalliancedavis.org
X-WR-CALDESC:Events for Arts Alliance Davis
REFRESH-INTERVAL;VALUE=DURATION:PT1H
X-Robots-Tag:noindex
X-PUBLISHED-TTL:PT1H
BEGIN:VTIMEZONE
TZID:America/Los_Angeles
BEGIN:DAYLIGHT
TZOFFSETFROM:-0800
TZOFFSETTO:-0700
TZNAME:PDT
DTSTART:20240310T100000
END:DAYLIGHT
BEGIN:STANDARD
TZOFFSETFROM:-0700
TZOFFSETTO:-0800
TZNAME:PST
DTSTART:20241103T090000
END:STANDARD
BEGIN:DAYLIGHT
TZOFFSETFROM:-0800
TZOFFSETTO:-0700
TZNAME:PDT
DTSTART:20250309T100000
END:DAYLIGHT
BEGIN:STANDARD
TZOFFSETFROM:-0700
TZOFFSETTO:-0800
TZNAME:PST
DTSTART:20251102T090000
END:STANDARD
BEGIN:DAYLIGHT
TZOFFSETFROM:-0800
TZOFFSETTO:-0700
TZNAME:PDT
DTSTART:20260308T100000
END:DAYLIGHT
BEGIN:STANDARD
TZOFFSETFROM:-0700
TZOFFSETTO:-0800
TZNAME:PST
DTSTART:20261101T090000
END:STANDARD
END:VTIMEZONE
BEGIN:VEVENT
DTSTART;TZID=America/Los_Angeles:20251122T180000
DTEND;TZID=America/Los_Angeles:20251122T210000
DTSTAMP:20260424T032632
CREATED:20251119T153624Z
LAST-MODIFIED:20251119T153624Z
UID:22298-1763834400-1763845200@artsalliancedavis.org
SUMMARY:Community Appreciation Celebration
DESCRIPTION:We’re throwing a big thank you party for our amazing community. Join us Saturday\, Nov. 22nd from 6-9 PM at Fleet Feet Davis for our Community Appreciation Celebration – featuring storewide discounts\, exclusive giveaways\, treats\, surprises and good vibes all night long. Plus\, we’re collecting donations for some local causes – bring a donation and get rewarded with goodies from Fleet Feet! \nIt’s our way of saying thank you for every mile\, every smile\, and every step with us this year ❤️ Bring your crew and let’s celebrate the Davis community together!
URL:https://artsalliancedavis.org/event/community-appreciation-celebration/
LOCATION:Fleet Feet Davis\, 615 2nd St\, Davis\, CA\, 95616
CATEGORIES:Community,Shopping
ATTACH;FMTTYPE=image/png:https://artsalliancedavis.org/wp-content/uploads/2025/11/Screenshot-2025-11-16-133939-gMOusK.png
END:VEVENT
END:VCALENDAR