BEGIN:VCALENDAR
VERSION:2.0
PRODID:-//Arts Alliance Davis - ECPv6.15.20//NONSGML v1.0//EN
CALSCALE:GREGORIAN
METHOD:PUBLISH
X-ORIGINAL-URL:https://artsalliancedavis.org
X-WR-CALDESC:Events for Arts Alliance Davis
REFRESH-INTERVAL;VALUE=DURATION:PT1H
X-Robots-Tag:noindex
X-PUBLISHED-TTL:PT1H
BEGIN:VTIMEZONE
TZID:America/Los_Angeles
BEGIN:DAYLIGHT
TZOFFSETFROM:-0800
TZOFFSETTO:-0700
TZNAME:PDT
DTSTART:20250309T100000
END:DAYLIGHT
BEGIN:STANDARD
TZOFFSETFROM:-0700
TZOFFSETTO:-0800
TZNAME:PST
DTSTART:20251102T090000
END:STANDARD
BEGIN:DAYLIGHT
TZOFFSETFROM:-0800
TZOFFSETTO:-0700
TZNAME:PDT
DTSTART:20260308T100000
END:DAYLIGHT
BEGIN:STANDARD
TZOFFSETFROM:-0700
TZOFFSETTO:-0800
TZNAME:PST
DTSTART:20261101T090000
END:STANDARD
BEGIN:DAYLIGHT
TZOFFSETFROM:-0800
TZOFFSETTO:-0700
TZNAME:PDT
DTSTART:20270314T100000
END:DAYLIGHT
BEGIN:STANDARD
TZOFFSETFROM:-0700
TZOFFSETTO:-0800
TZNAME:PST
DTSTART:20271107T090000
END:STANDARD
END:VTIMEZONE
BEGIN:VEVENT
DTSTART;TZID=America/Los_Angeles:20260308T160000
DTEND;TZID=America/Los_Angeles:20260308T183000
DTSTAMP:20260423T151406
CREATED:20260227T203523Z
LAST-MODIFIED:20260227T203523Z
UID:24043-1772985600-1772994600@artsalliancedavis.org
SUMMARY:Becoming\, Belonging\, Being\, and Beyond
DESCRIPTION:A Filipino musical storytelling event \n  \nThis immersive experience weaves together storytelling and live Filipino music\, inviting the audience into a contemplative yet communal journey centered on the themes of Becoming\, Belonging\, Being\, and Beyond. \nThe narrative is anchored by the story of Dr. Julie Arellano\, alongside the inspiring stories of Filipino Americans in the Sacramento community—Claire Oliveros\, PhD\, Pauline Roselada\, Karlo Feliciano\, and Thea Feliciano. \nDr. Arellano is joined by Steven Johnson\, Eileen Lichnock\, and Dr. Alex Mallari in performing live Filipino music throughout the program. Their music lifts the stories and shapes the emotional arc of the evening. Earlier songs invite introspection and emotional depth\, gradually moving toward joyful celebration. The central role of music in the event mirrors its central role in Filipino culture. \nWhile rooted in Filipino culture\, the experience is designed to be meaningful for people of all backgrounds. It is intended to bring forth reflection on one’s own journey\, or that of one’s family—paths shaped by survival and the search for opportunity\, identity\, and home. \nLight audience participation opens the event\, followed by quiet listening during the narratives and music. Attendees engage in self-reflection with a workbook as their companion during this introspective phase. The event ends with a lively communal activity. Filipino food elements are included as part of the experience\, adding warmth and a sense of Filipino hospitality. \n  \nPresale through 3/7/26: $20 general admission; $15 for I-House members and students $25 at the door/$20 for students
URL:https://artsalliancedavis.org/event/becoming-belonging-being-and-beyond/
LOCATION:International House Davis\, 10 College Park\, Davis\, CA\, 95616\, United States
CATEGORIES:Bring the Kids,Community,Food & Drink,Music
ATTACH;FMTTYPE=image/png:https://artsalliancedavis.org/wp-content/uploads/2026/02/WT-2026-Becoming-Belonging-Being-and-Beyond-3.8.26-1-jWQv5q.png
ORGANIZER;CN="International House Davis":MAILTO:shahzana@ihousedavis.org
END:VEVENT
END:VCALENDAR